From mboxrd@z Thu Jan 1 00:00:00 1970 Return-Path: Received: from mails.dpdk.org (mails.dpdk.org [217.70.189.124]) by inbox.dpdk.org (Postfix) with ESMTP id 6F06348A12 for ; Thu, 6 Nov 2025 15:47:30 +0100 (CET) Received: from mails.dpdk.org (localhost [127.0.0.1]) by mails.dpdk.org (Postfix) with ESMTP id 5018D4013F; Thu, 6 Nov 2025 15:47:30 +0100 (CET) Received: from mail-vk1-f226.google.com (mail-vk1-f226.google.com [209.85.221.226]) by mails.dpdk.org (Postfix) with ESMTP id 86F814013F for ; Thu, 6 Nov 2025 15:47:28 +0100 (CET) Received: by mail-vk1-f226.google.com with SMTP id 71dfb90a1353d-557a56aa93fso222777e0c.3 for ; Thu, 06 Nov 2025 06:47:28 -0800 (PST) DKIM-Signature: v=1; a=rsa-sha256; c=relaxed/relaxed; d=iol.unh.edu; s=unh-iol; t=1762440448; x=1763045248; darn=dpdk.org; h=references:in-reply-to:cc:to:from:subject:message-id:date:from:to :cc:subject:date:message-id:reply-to; bh=0EYMHbOhJCdN6k6AU501G8qEaunXxYXSN6Ts40vtHdg=; b=UQpaqd+rTSSiB3FuFAjfygCSCe/40chf1i7XvMZ93zmcuf4iQbEXCmVkEb3VnYC+TM sxMaBj92VXeugDZsBZX3xhp5G022VfggoMDHwvHiOcJZayy6plfKHRyCCzaesStyfEn7 ri2fkmFW0G7CVBToB7Zb896edVxzWxDYwI6V0= X-Google-DKIM-Signature: v=1; a=rsa-sha256; c=relaxed/relaxed; d=1e100.net; s=20230601; t=1762440448; x=1763045248; h=references:in-reply-to:cc:to:from:subject:message-id:date :x-gm-message-state:from:to:cc:subject:date:message-id:reply-to; bh=0EYMHbOhJCdN6k6AU501G8qEaunXxYXSN6Ts40vtHdg=; b=T7OWU/d2p5VzPpuEoWLoJ7zO3qVrF+OCfuHpGnlxLGaZqrqsv3EPnv6Nm9NDp8bRPy c+8vljfVTFHlsqzMRobBKYZMvMnPTn3gz8629EYf76r0udNW+PA3asOIa7NUeZzla8oZ /MinPhyyc/19R9fGDyoqsiFeKRVHhOswT0MnT7K2lNwCbZJiIS84AdA+Id1Wu4wspLqD /Ez9mIhrsV/C+JeZ1dpKvlOQEpYIh7Dh79qzTx05sdDJ4lg8uacNYL8dI6cTEpXD8Uvh Br7PpMis8wbjmxsTJy7C7hMxHHyw/0aVrnuz902d/c8cJUudJtJIvp993gpjkuBDL9fy DEVA== X-Gm-Message-State: AOJu0Yz38q7IaiWVvQgAjKN9xhxVDUYhjcpNO58w734tYhGbjV+VRv60 zmgYVefPu53ao2ufzv4UDJ+aChDcOzzE1dAuQ8VWLGhczjEEK3Jf6dSTGUnAF28i4SM3e4xMU2x x2BMj14Kw27pNdJo3V3ZLKUWhxxSASXHeI3F1/0k4It8ShVATmkbqUY6E1yWl X-Gm-Gg: ASbGncu2aDZb/u0oafgol5L14hgHP/0lYUGs8avOMzf1lwAsbiDnIofhhdC28sDIGhC xqENnyy4AzV8hC2fM4CBeZgiBEFtUJ5MzXcoo1C9mY4NnNKYLQqkK2SvFPrRO2nPrB+bWLzVT4d WcfcVMJxLSsV0jwwX3jHUOaFhBuybOTCr5PXtoKpWWUna7e5Fwtofw7kGvmGt9TLegKs0cRH0Rh SDCvpIXqp1vmI0RSQ3q1k4i67tyC3qtsFI7n9PkpdpEpQIQBAIwW2N8I7bD9Q16XNSzgnrrhEUO /ARYMM5hJMWvlypEfWhw+o3JIJklc7AI95QhP99FrOF96WUo2M8H7iXFTOTodLLjV/2PJUd89Dr 6gyCbk6Jc X-Google-Smtp-Source: AGHT+IFKFTJScEzUYzGld6mKsUukJgFNGok7maOOx/3VEMtO5dlE0+Hc0FbAlbvt7EHpget4eXNamrwu0I4d X-Received: by 2002:a05:6102:94d:b0:5d3:feef:b821 with SMTP id ada2fe7eead31-5dd893e3fd2mr2620549137.16.1762440447651; Thu, 06 Nov 2025 06:47:27 -0800 (PST) Received: from postal.iol.unh.edu (postal.iol.unh.edu. [2606:4100:3880:1234::84]) by smtp-relay.gmail.com with ESMTPS id ada2fe7eead31-5dda2062796sm217446137.5.2025.11.06.06.47.27 (version=TLS1_2 cipher=ECDHE-ECDSA-AES128-GCM-SHA256 bits=128/128); Thu, 06 Nov 2025 06:47:27 -0800 (PST) X-Relaying-Domain: iol.unh.edu Date: Thu, 06 Nov 2025 06:47:27 -0800 (PST) Message-ID: <690cb4ff.050a0220.2290a7.b093SMTPIN_ADDED_MISSING@mx.google.com> Received: from [172.21.0.2] (unknown [172.18.0.240]) by postal.iol.unh.edu (Postfix) with ESMTP id 1E678604D420; Thu, 6 Nov 2025 09:47:27 -0500 (EST) Subject: |SUCCESS| pw158507 [PATCH] net/mlx5: fix non-template sample action From: dpdklab@iol.unh.edu To: Test Report Cc: dpdk-test-reports@iol.unh.edu In-Reply-To: <20251106130228.491915-1-getelson@nvidia.com> References: <20251106130228.491915-1-getelson@nvidia.com> Content-Type: text/plain X-BeenThere: test-report@dpdk.org X-Mailman-Version: 2.1.29 Precedence: list List-Id: automatic DPDK test reports List-Unsubscribe: , List-Archive: List-Post: List-Help: List-Subscribe: , Errors-To: test-report-bounces@dpdk.org Test-Label: iol-compile-amd64-testing Test-Status: SUCCESS http://dpdk.org/patch/158507 _Testing PASS_ Submitter: Gregory Etelson Date: Thursday, November 06 2025 13:02:28 DPDK git baseline: Repo:dpdk-next-net-mlx Branch: master CommitID:4ce83cd2397cb1d9290e59a48ed8e9563cd215d3 158507 --> testing pass Upstream job id: Windows-Compile-DPDK-Native#32169 Test environment and result as below: +-------------------------------+--------------------+------------------+-------------------+-------------------------+ | Environment | dpdk_meson_compile | dpdk_compile_ovs | dpdk_msvc_compile | dpdk_llvm_clang_compile | +===============================+====================+==================+===================+=========================+ | CentOS Stream 10 | PASS | SKIPPED | SKIPPED | SKIPPED | +-------------------------------+--------------------+------------------+-------------------+-------------------------+ | CentOS Stream 9 | PASS | SKIPPED | SKIPPED | SKIPPED | +-------------------------------+--------------------+------------------+-------------------+-------------------------+ | Debian GNU/Linux 12 | PASS | SKIPPED | SKIPPED | SKIPPED | +-------------------------------+--------------------+------------------+-------------------+-------------------------+ | Fedora Linux 42 | PASS | PASS | SKIPPED | SKIPPED | +-------------------------------+--------------------+------------------+-------------------+-------------------------+ | Red Hat Enterprise Linux 8.10 | PASS | SKIPPED | SKIPPED | SKIPPED | +-------------------------------+--------------------+------------------+-------------------+-------------------------+ | openSUSE Leap 15.6 | PASS | SKIPPED | SKIPPED | SKIPPED | +-------------------------------+--------------------+------------------+-------------------+-------------------------+ | Ubuntu 20.04 | PASS | SKIPPED | SKIPPED | SKIPPED | +-------------------------------+--------------------+------------------+-------------------+-------------------------+ | Red Hat Enterprise Linux 9.5 | PASS | SKIPPED | SKIPPED | SKIPPED | +-------------------------------+--------------------+------------------+-------------------+-------------------------+ | Ubuntu 24.04 | PASS | PASS | SKIPPED | SKIPPED | +-------------------------------+--------------------+------------------+-------------------+-------------------------+ | FreeBSD 14.2 | PASS | SKIPPED | SKIPPED | SKIPPED | +-------------------------------+--------------------+------------------+-------------------+-------------------------+ | Alpine Linux 3.22.0 | PASS | SKIPPED | SKIPPED | SKIPPED | +-------------------------------+--------------------+------------------+-------------------+-------------------------+ | Ubuntu 22.04 | PASS | SKIPPED | SKIPPED | SKIPPED | +-------------------------------+--------------------+------------------+-------------------+-------------------------+ | Windows Server 2022 | SKIPPED | SKIPPED | PASS | PASS | +-------------------------------+--------------------+------------------+-------------------+-------------------------+ CentOS Stream 10 Kernel: 5.15 Compiler: gcc gcc (GCC) 14.2.1 20250110 (Red Hat 14.2.1-8) CentOS Stream 9 Kernel: 5.15 Compiler: gcc gcc (GCC) 11.5.0 20240719 (Red Hat 11.5.0-11) Debian GNU/Linux 12 Kernel: 5.15 Compiler: gcc gcc (Debian 12.2.0-14+deb12u1) 12.2.0 Fedora Linux 42 Kernel: 5.15 Compiler: gcc gcc (GCC) 15.2.1 20250808 (Red Hat 15.2.1-1) Red Hat Enterprise Linux 8.10 Kernel: 5.15 Compiler: gcc gcc (GCC) 8.5.0 20210514 (Red Hat 8.5.0-22) openSUSE Leap 15.6 Kernel: 5.15 Compiler: gcc gcc (SUSE Linux) 7.5.0 Ubuntu 20.04 Kernel: 4.19 Compiler: gcc gcc (Ubuntu 9.4.0-1ubuntu1~20.04.2) 9.4.0 Red Hat Enterprise Linux 9.5 Kernel: 5.15 Compiler: gcc gcc (GCC) 11.5.0 20240719 (Red Hat 11.5.0-2) Ubuntu 24.04 Kernel: 5.15 Compiler: gcc gcc (Ubuntu 13.3.0-6ubuntu2~24.04) 13.3.0 FreeBSD 14.2 Kernel: 14.2-RELEASE Compiler: clang 18.1.6 Alpine Linux 3.22.0 Kernel: 5.15 Compiler: gcc gcc (Alpine 14.2.0) 14.2.0 Ubuntu 22.04 Kernel: 5.15 Compiler: gcc gcc (Ubuntu 11.4.0-1ubuntu1~22.04) 11.4.0 Windows Server 2022 Kernel: 10.0.20348.2031 Compiler: clang 15.0.7, gcc 14.1.0 (MinGW), and MSVC VS 19.39.33521 To view detailed results, visit: https://lab.dpdk.org/results/dashboard/patchsets/34486/ UNH-IOL DPDK Community Lab To manage your email subscriptions, visit: https://lab.dpdk.org/results/dashboard/preferences/subscriptions/