From mboxrd@z Thu Jan 1 00:00:00 1970 Return-Path: Received: from mails.dpdk.org (mails.dpdk.org [217.70.189.124]) by inbox.dpdk.org (Postfix) with ESMTP id 4747748A5B for ; Thu, 6 Nov 2025 16:21:02 +0100 (CET) Received: from mails.dpdk.org (localhost [127.0.0.1]) by mails.dpdk.org (Postfix) with ESMTP id 1C8D74013F; Thu, 6 Nov 2025 16:21:02 +0100 (CET) Received: from mail-pj1-f99.google.com (mail-pj1-f99.google.com [209.85.216.99]) by mails.dpdk.org (Postfix) with ESMTP id 00A834013F for ; Thu, 6 Nov 2025 16:21:00 +0100 (CET) Received: by mail-pj1-f99.google.com with SMTP id 98e67ed59e1d1-340c39ee02dso1116180a91.1 for ; Thu, 06 Nov 2025 07:21:00 -0800 (PST) DKIM-Signature: v=1; a=rsa-sha256; c=relaxed/relaxed; d=iol.unh.edu; s=unh-iol; t=1762442460; x=1763047260; darn=dpdk.org; h=references:in-reply-to:cc:to:from:subject:message-id:date:from:to :cc:subject:date:message-id:reply-to; bh=9VeSwzKClg4EVpTN3tuIVm1RQWiYHyEizeHgoKPH5u4=; b=UuMgteNIbXIHEXw0CpMkTSqUn8IWamBCM22C8tPZo38es7i2fhX2CyJEZYiuUwQJrk mx75LAO93Kf4Tys/BNPFi2NtFvq8pOupH2KC2LVf/t2gc9+gZpmLrjwIc7fNX5OZcCqg 3Y+Xc2/GvYG85sT9OVNLHVuKOaN4KlCICY4nQ= X-Google-DKIM-Signature: v=1; a=rsa-sha256; c=relaxed/relaxed; d=1e100.net; s=20230601; t=1762442460; x=1763047260; h=references:in-reply-to:cc:to:from:subject:message-id:date :x-gm-message-state:from:to:cc:subject:date:message-id:reply-to; bh=9VeSwzKClg4EVpTN3tuIVm1RQWiYHyEizeHgoKPH5u4=; b=vO/2rPYmzfo44HLd3h5vJddgc04Fh+nNNF3wYosI7qH0tcXIJhfQzjupPxhW/MOwdT 7yUT/o5lHxAkmPXzd97ZFPfYn7GfjqC+1vYgushcDzTJDgtj2V16E/4o6V9q23ctmtPj B55SanZU3rEqvKwerfNKG//LZOVbE9ahXvFlDhLrL6p5lzcE+I9woIBKaYVlLB02Wpku mPOVWhncUPxeLqza021zpZpWvc1ffRSzE0LY0MTbOwJQECjT65rpFNGPaavq/oD2xDkT D9wpHO1BB3+xlGEJ9iVDD9ch4yOHNM+BAmVhnJKGvu7Jw6kE2BzXu59pYWGP1hkxkCXg +X4w== X-Gm-Message-State: AOJu0YyLrK3gii8FkVnUAtuYvDzveC3m66e2yQIRfN3RhPqJx2wJVFmN 9e9TwDM/S3k38DHhIMzhhSMJUtpy8acB8m4/Oljl7yijMu3Q30p/CBIh4KeTkczck//CphpLQjQ ADKVNj3WT1NWLdzNJ0x0h01zYnA4Nc6pEcEcyfDBvSRVP X-Gm-Gg: ASbGncs1j+yMadUSzo7BDMvVQREhd3W0HyGAj9pEGVUgA+pNUpGFLsYEZ/hrWezQE00 pPNgHtRBS9RPmC9zEhkxE6ZJvV+d67OUl5bgbKG8FyhJTBhG4Lx/riTi62+cHn0tDwUw+TPUwp4 3D5jcVuJqKOvf73hAqatixmy+u5CKZbstaaUVsxuf0HF/M0GIeN8mcPMekE3vb0elPMXHCwwvl/ mr18hmMNlvuxs0YkukoWUvVpn1fWNAXpadWGFWjJUrYELtBRowSpSjJiiBLb7u4/pEFqOVbF85q 4gZCdx9F7BqDwiGLf/IySN5oLRjC2Jnc5fuVFMk+NrhTtWLj7RCnxzvb9Cgo4ieRPDwyKRaCKey pW4jFzZuHLNw/Y3weLlcZ6yTQuD5hao8= X-Google-Smtp-Source: AGHT+IGa6awvmgedul8D5V3BMrXVOuroZoAA2zr8NF0tN85VSbVQekct2/xs2Z8IfBrXnGLFtVhfXB/dO4sY X-Received: by 2002:a17:90b:384c:b0:329:d8d2:3602 with SMTP id 98e67ed59e1d1-341a6dc4d32mr10490196a91.17.1762442459994; Thu, 06 Nov 2025 07:20:59 -0800 (PST) Received: from postal.iol.unh.edu (postal.iol.unh.edu. [132.177.123.84]) by smtp-relay.gmail.com with ESMTPS id 98e67ed59e1d1-341d0aec574sm138171a91.1.2025.11.06.07.20.59 (version=TLS1_2 cipher=ECDHE-ECDSA-AES128-GCM-SHA256 bits=128/128); Thu, 06 Nov 2025 07:20:59 -0800 (PST) X-Relaying-Domain: iol.unh.edu Date: Thu, 06 Nov 2025 07:20:59 -0800 (PST) Message-ID: <690cbcdb.170a0220.1bbf6d.6f20SMTPIN_ADDED_MISSING@mx.google.com> Received: from [172.21.0.2] (unknown [172.18.0.240]) by postal.iol.unh.edu (Postfix) with ESMTP id 1B3936050A61; Thu, 6 Nov 2025 10:20:59 -0500 (EST) Subject: |SUCCESS| pw158507 [PATCH] net/mlx5: fix non-template sample action From: dpdklab@iol.unh.edu To: Test Report Cc: dpdk-test-reports@iol.unh.edu In-Reply-To: <20251106130228.491915-1-getelson@nvidia.com> References: <20251106130228.491915-1-getelson@nvidia.com> Content-Type: text/plain X-BeenThere: test-report@dpdk.org X-Mailman-Version: 2.1.29 Precedence: list List-Id: automatic DPDK test reports List-Unsubscribe: , List-Archive: List-Post: List-Help: List-Subscribe: , Errors-To: test-report-bounces@dpdk.org Test-Label: iol-compile-amd64-testing Test-Status: SUCCESS http://dpdk.org/patch/158507 _Testing PASS_ Submitter: Gregory Etelson Date: Thursday, November 06 2025 13:02:28 DPDK git baseline: Repo:dpdk-next-net-mlx Branch: master CommitID:4ce83cd2397cb1d9290e59a48ed8e9563cd215d3 158507 --> testing pass Upstream job id: Windows-Compile-DPDK-Native#32170 Test environment and result as below: +-------------------------------+--------------------+------------------+-------------------+-------------------------+----------------------+ | Environment | dpdk_meson_compile | dpdk_compile_ovs | dpdk_msvc_compile | dpdk_llvm_clang_compile | dpdk_mingw64_compile | +===============================+====================+==================+===================+=========================+======================+ | CentOS Stream 10 | PASS | SKIPPED | SKIPPED | SKIPPED | SKIPPED | +-------------------------------+--------------------+------------------+-------------------+-------------------------+----------------------+ | CentOS Stream 9 | PASS | SKIPPED | SKIPPED | SKIPPED | SKIPPED | +-------------------------------+--------------------+------------------+-------------------+-------------------------+----------------------+ | Debian GNU/Linux 12 | PASS | SKIPPED | SKIPPED | SKIPPED | SKIPPED | +-------------------------------+--------------------+------------------+-------------------+-------------------------+----------------------+ | Fedora Linux 42 | PASS | PASS | SKIPPED | SKIPPED | SKIPPED | +-------------------------------+--------------------+------------------+-------------------+-------------------------+----------------------+ | Red Hat Enterprise Linux 8.10 | PASS | SKIPPED | SKIPPED | SKIPPED | SKIPPED | +-------------------------------+--------------------+------------------+-------------------+-------------------------+----------------------+ | openSUSE Leap 15.6 | PASS | SKIPPED | SKIPPED | SKIPPED | SKIPPED | +-------------------------------+--------------------+------------------+-------------------+-------------------------+----------------------+ | Ubuntu 20.04 | PASS | SKIPPED | SKIPPED | SKIPPED | SKIPPED | +-------------------------------+--------------------+------------------+-------------------+-------------------------+----------------------+ | Red Hat Enterprise Linux 9.5 | PASS | SKIPPED | SKIPPED | SKIPPED | SKIPPED | +-------------------------------+--------------------+------------------+-------------------+-------------------------+----------------------+ | Ubuntu 24.04 | PASS | PASS | SKIPPED | SKIPPED | SKIPPED | +-------------------------------+--------------------+------------------+-------------------+-------------------------+----------------------+ | FreeBSD 14.2 | PASS | SKIPPED | SKIPPED | SKIPPED | SKIPPED | +-------------------------------+--------------------+------------------+-------------------+-------------------------+----------------------+ | Alpine Linux 3.22.0 | PASS | SKIPPED | SKIPPED | SKIPPED | SKIPPED | +-------------------------------+--------------------+------------------+-------------------+-------------------------+----------------------+ | Ubuntu 22.04 | PASS | SKIPPED | SKIPPED | SKIPPED | SKIPPED | +-------------------------------+--------------------+------------------+-------------------+-------------------------+----------------------+ | Windows Server 2022 | SKIPPED | SKIPPED | PASS | PASS | PASS | +-------------------------------+--------------------+------------------+-------------------+-------------------------+----------------------+ CentOS Stream 10 Kernel: 5.15 Compiler: gcc gcc (GCC) 14.2.1 20250110 (Red Hat 14.2.1-8) CentOS Stream 9 Kernel: 5.15 Compiler: gcc gcc (GCC) 11.5.0 20240719 (Red Hat 11.5.0-11) Debian GNU/Linux 12 Kernel: 5.15 Compiler: gcc gcc (Debian 12.2.0-14+deb12u1) 12.2.0 Fedora Linux 42 Kernel: 5.15 Compiler: gcc gcc (GCC) 15.2.1 20250808 (Red Hat 15.2.1-1) Red Hat Enterprise Linux 8.10 Kernel: 5.15 Compiler: gcc gcc (GCC) 8.5.0 20210514 (Red Hat 8.5.0-22) openSUSE Leap 15.6 Kernel: 5.15 Compiler: gcc gcc (SUSE Linux) 7.5.0 Ubuntu 20.04 Kernel: 4.19 Compiler: gcc gcc (Ubuntu 9.4.0-1ubuntu1~20.04.2) 9.4.0 Red Hat Enterprise Linux 9.5 Kernel: 5.15 Compiler: gcc gcc (GCC) 11.5.0 20240719 (Red Hat 11.5.0-2) Ubuntu 24.04 Kernel: 5.15 Compiler: gcc gcc (Ubuntu 13.3.0-6ubuntu2~24.04) 13.3.0 FreeBSD 14.2 Kernel: 14.2-RELEASE Compiler: clang 18.1.6 Alpine Linux 3.22.0 Kernel: 5.15 Compiler: gcc gcc (Alpine 14.2.0) 14.2.0 Ubuntu 22.04 Kernel: 5.15 Compiler: gcc gcc (Ubuntu 11.4.0-1ubuntu1~22.04) 11.4.0 Windows Server 2022 Kernel: 10.0.20348.2031 Compiler: clang 15.0.7, gcc 14.1.0 (MinGW), and MSVC VS 19.39.33521 To view detailed results, visit: https://lab.dpdk.org/results/dashboard/patchsets/34486/ UNH-IOL DPDK Community Lab To manage your email subscriptions, visit: https://lab.dpdk.org/results/dashboard/preferences/subscriptions/