From mboxrd@z Thu Jan 1 00:00:00 1970 Return-Path: Received: from mails.dpdk.org (mails.dpdk.org [217.70.189.124]) by inbox.dpdk.org (Postfix) with ESMTP id A713946E24 for ; Thu, 6 Nov 2025 17:28:08 +0100 (CET) Received: from mails.dpdk.org (localhost [127.0.0.1]) by mails.dpdk.org (Postfix) with ESMTP id 857484013F; Thu, 6 Nov 2025 17:28:08 +0100 (CET) Received: from mail-il1-f225.google.com (mail-il1-f225.google.com [209.85.166.225]) by mails.dpdk.org (Postfix) with ESMTP id 7FED04013F for ; Thu, 6 Nov 2025 17:28:06 +0100 (CET) Received: by mail-il1-f225.google.com with SMTP id e9e14a558f8ab-433217b58d9so4082935ab.1 for ; Thu, 06 Nov 2025 08:28:06 -0800 (PST) DKIM-Signature: v=1; a=rsa-sha256; c=relaxed/relaxed; d=iol.unh.edu; s=unh-iol; t=1762446486; x=1763051286; darn=dpdk.org; h=references:in-reply-to:cc:to:from:subject:message-id:date:from:to :cc:subject:date:message-id:reply-to; bh=Qy2NLq29cbqfzKGOkZOr55RHAp+UguZI68w3OZ3f0cw=; b=EcfloS5dMj5GAHBdiWrTDtdFaixWbHLfYA4IZ7PtltVDKYinwOwgfGPh0ZJfa8f0Ph BQPeE7MZYDfj3AT1MyfHX/3prb4fhclc6Nm9dYBJ5UGJyyJDp+hpUftCRiTg8EXEPYAj 4Y28sAfdU9QtQdujiSOgnyJnQuwxNMiRNEjq0= X-Google-DKIM-Signature: v=1; a=rsa-sha256; c=relaxed/relaxed; d=1e100.net; s=20230601; t=1762446486; x=1763051286; h=references:in-reply-to:cc:to:from:subject:message-id:date :x-gm-message-state:from:to:cc:subject:date:message-id:reply-to; bh=Qy2NLq29cbqfzKGOkZOr55RHAp+UguZI68w3OZ3f0cw=; b=WNdneGOU1xtrOR7kwOhrE7EqDF/t/uvLQUnJMTHI/jgM2sbZbW622G4LUbqWP6LZIQ uZlHjbXGSAu/0NxZuH5UKA/7EwkdZ4QkxSAYjbvjadcub+ldTnNsy8xnBVqqke/pwv6v v5ivvgvKDUx+jjF8J0m9vGVMOaqAtA49esbrvrRk8KVydM2iYpd0vBNr+RKGmEcl74rl keWeJ7uM9oW80EUqVjuaID7f+q4vUt0/noVsdTTocSbB7x/oBptH64ZHBJTPrFCtmXTS MLH4glHi+wySDc5lV8Ih/4rZ2/W+ZNqA7SIiwPruxdPzBuMCTxealT9THKKKFX7j3Rlw 1rcg== X-Gm-Message-State: AOJu0Yzg8oqHLwUKXE66ZujlH4X8ctCjZHfvPgSYiihLH8TpJY9XiZxI RN4yWP+BERirSiwpOQZa4HRNGJmx1mEqphn/bnP8MX9XpGJEZDhqN2gKCgCQRu+zm/GjpZcrMuR RZ2P80NuAbRsCp2oxEBong3YELbfjo3p6PFeXS9fLNkWB X-Gm-Gg: ASbGncvzJdfF5O/wBewZ4HszBzSUAbSCi2pZ1YJqg+79Qu8kOfgQZeSPgq+xvv+dcqg WbWG8GX61e6RWyRWUnzewtA7YwDXLPJYvb7zhyRnTKHivq+zs1bym6AF07d8Q4HO8lvAsesmfc6 ZQzv2pxdgY0Gl7MU1z51CzvkvqztiDatJoHOujK9g8OTMQ3vmhzJatFc/hShslkNxWIx8EjShaV SJw7Jd8eq60Rb+pZf8TCOAAKVnPLxVHbDp5qgdaU/nbodvY/lFN8XEMjlaB3rLM7fiTCsyrKqd7 NJu/85yCwFU4t/NKqzZaQ4oBTpIyA1+lV382hmCp2g63Uk+lO6D6YbUoiaEUs5Jpm03Wz89LyEN eRKQkvgQ7pPMQp7u/F3/2YmxjOjT/kVc= X-Google-Smtp-Source: AGHT+IFd1QJOAhnjEGeMPF3vwCCR5dZoS9zxax9OP6djDLjjcY0+8aAgpk2+Daoy97Kz0Hc6FHWoGN6qo0j9 X-Received: by 2002:a05:6e02:2142:b0:433:22fc:bb9a with SMTP id e9e14a558f8ab-4334078f0efmr117909605ab.13.1762446485805; Thu, 06 Nov 2025 08:28:05 -0800 (PST) Received: from postal.iol.unh.edu (postal.iol.unh.edu. [132.177.123.84]) by smtp-relay.gmail.com with ESMTPS id 8926c6da1cb9f-5b746898d4fsm298924173.32.2025.11.06.08.28.05 (version=TLS1_2 cipher=ECDHE-ECDSA-AES128-GCM-SHA256 bits=128/128); Thu, 06 Nov 2025 08:28:05 -0800 (PST) X-Relaying-Domain: iol.unh.edu Date: Thu, 06 Nov 2025 08:28:05 -0800 (PST) Message-ID: <690ccc95.050a0220.1c0d67.f667SMTPIN_ADDED_MISSING@mx.google.com> Received: from [172.21.0.2] (unknown [172.18.0.240]) by postal.iol.unh.edu (Postfix) with ESMTP id 52A9E604D420; Thu, 6 Nov 2025 11:28:05 -0500 (EST) Subject: |SUCCESS| pw158508-158526 [PATCH] [RFC,19/19] app/test-pmd: fix buil From: dpdklab@iol.unh.edu To: Test Report Cc: dpdk-test-reports@iol.unh.edu In-Reply-To: <20251106140948.2894678-20-bruce.richardson@intel.com> References: <20251106140948.2894678-20-bruce.richardson@intel.com> Content-Type: text/plain X-BeenThere: test-report@dpdk.org X-Mailman-Version: 2.1.29 Precedence: list List-Id: automatic DPDK test reports List-Unsubscribe: , List-Archive: List-Post: List-Help: List-Subscribe: , Errors-To: test-report-bounces@dpdk.org Test-Label: iol-unit-amd64-testing Test-Status: SUCCESS http://dpdk.org/patch/158526 _Testing PASS_ Submitter: Bruce Richardson Date: Thursday, November 06 2025 14:09:48 DPDK git baseline: Repo:dpdk Branch: master CommitID:87f7895e470c13e13efd6762d701139d0987294a 158508-158526 --> testing pass Upstream job id: Generic-VM-Unit-Test-DPDK#32347 Test environment and result as below: +-------------------------------+----------------+ | Environment | dpdk_unit_test | +===============================+================+ | Fedora Linux 42 | PASS | +-------------------------------+----------------+ | Fedora Linux 40 | PASS | +-------------------------------+----------------+ | CentOS Stream 9 | PASS | +-------------------------------+----------------+ | Red Hat Enterprise Linux 9.5 | PASS | +-------------------------------+----------------+ | Red Hat Enterprise Linux 8.10 | PASS | +-------------------------------+----------------+ | CentOS Stream 10 | PASS | +-------------------------------+----------------+ | Debian GNU/Linux 12 | PASS | +-------------------------------+----------------+ | Ubuntu 22.04 | PASS | +-------------------------------+----------------+ | Fedora Linux 41 | PASS | +-------------------------------+----------------+ | Ubuntu 24.04 | PASS | +-------------------------------+----------------+ | Ubuntu 20.04 | PASS | +-------------------------------+----------------+ | Windows Server 2022 | PASS | +-------------------------------+----------------+ Fedora Linux 42 Kernel: 5.15 Compiler: clang gcc (GCC) 15.2.1 20250808 (Red Hat 15.2.1-1) Fedora Linux 40 Kernel: 5.15 Compiler: clang gcc (GCC) 14.2.1 20240912 (Red Hat 14.2.1-3) CentOS Stream 9 Kernel: 5.15 Compiler: gcc gcc (GCC) 11.5.0 20240719 (Red Hat 11.5.0-11) Red Hat Enterprise Linux 9.5 Kernel: 5.15 Compiler: gcc gcc (GCC) 11.5.0 20240719 (Red Hat 11.5.0-2) Red Hat Enterprise Linux 8.10 Kernel: 5.15 Compiler: gcc gcc (GCC) 8.5.0 20210514 (Red Hat 8.5.0-22) CentOS Stream 10 Kernel: 5.15 Compiler: gcc gcc (GCC) 14.2.1 20250110 (Red Hat 14.2.1-8) Debian GNU/Linux 12 Kernel: 5.15 Compiler: gcc gcc (Debian 12.2.0-14+deb12u1) 12.2.0 Ubuntu 22.04 Kernel: 5.15 Compiler: gcc gcc (Ubuntu 11.4.0-1ubuntu1~22.04) 11.4.0 Fedora Linux 41 Kernel: 5.15 Compiler: gcc gcc (GCC) 14.3.1 20250523 (Red Hat 14.3.1-1) Ubuntu 24.04 Kernel: 5.15 Compiler: gcc gcc (Ubuntu 13.3.0-6ubuntu2~24.04) 13.3.0 Ubuntu 20.04 Kernel: 5.15 Compiler: gcc gcc (Ubuntu 9.4.0-1ubuntu1~20.04.2) 9.4.0 Windows Server 2022 Kernel: 10.0.20348.2031 Compiler: clang 15.0.7, gcc 14.1.0 (MinGW), and MSVC VS 19.39.33521 To view detailed results, visit: https://lab.dpdk.org/results/dashboard/patchsets/34488/ UNH-IOL DPDK Community Lab To manage your email subscriptions, visit: https://lab.dpdk.org/results/dashboard/preferences/subscriptions/