From mboxrd@z Thu Jan 1 00:00:00 1970 Return-Path: Received: from mails.dpdk.org (mails.dpdk.org [217.70.189.124]) by inbox.dpdk.org (Postfix) with ESMTP id 835D048A5B for ; Thu, 6 Nov 2025 17:38:43 +0100 (CET) Received: from mails.dpdk.org (localhost [127.0.0.1]) by mails.dpdk.org (Postfix) with ESMTP id 7DF9540613; Thu, 6 Nov 2025 17:38:43 +0100 (CET) Received: from mail-pl1-f225.google.com (mail-pl1-f225.google.com [209.85.214.225]) by mails.dpdk.org (Postfix) with ESMTP id A5ABD40667 for ; Thu, 6 Nov 2025 17:38:42 +0100 (CET) Received: by mail-pl1-f225.google.com with SMTP id d9443c01a7336-294fc62d7f4so11405525ad.2 for ; Thu, 06 Nov 2025 08:38:42 -0800 (PST) DKIM-Signature: v=1; a=rsa-sha256; c=relaxed/relaxed; d=iol.unh.edu; s=unh-iol; t=1762447122; x=1763051922; darn=dpdk.org; h=references:in-reply-to:cc:to:from:subject:message-id:date:from:to :cc:subject:date:message-id:reply-to; bh=GWea2TvZEneJu2uh+w52hE+YESFg2619w5AROilsNxU=; b=jCWWrMzLQdpYp9gXfeJB+U9InXpeiO5sjpBmmt5casl0+VnhZ/o3tI5oaoLFb1ED7r Vajw2RoGc5bafHmh3iaXCN55/V1VvkPu5Q2delFn+SkSun2bWycGIiIqFlyKWpN2q5x+ n8KEOZnnIzMbInI7blUgFHVHcX5TrYobs9LWo= X-Google-DKIM-Signature: v=1; a=rsa-sha256; c=relaxed/relaxed; d=1e100.net; s=20230601; t=1762447122; x=1763051922; h=references:in-reply-to:cc:to:from:subject:message-id:date:x-gm-gg :x-gm-message-state:from:to:cc:subject:date:message-id:reply-to; bh=GWea2TvZEneJu2uh+w52hE+YESFg2619w5AROilsNxU=; b=gEtOHiqgOleg4hl47F6LfCBrdgv0q6Vbwn9VQkMSRlMZXBXkgHp29SGCqi0kifD14i 2Pm8XktREIg00nDNaJMyiQKMLEhLDoR4yS5qr3vFF3+AeU3aXzxhABaoywda4axVfLbi 60u1Tk2yCjrjDVnLh4DhxAz12Sh76/yTbhGxJCzgQ9TiUbEWnXCdD1w3UlJ5lwwvEAxs wItmAiKqoP4/F5Mo4JDC46ApIk3SpfG8TP/ZJweWHGtVvO+nHygCRoy2yQc8iy2lORNW D+RRv9ZYZflYxI3t1QZbSzqJ+gJ8aK6CoeQCi0WRJOk/dYkXpmLMST3BWMpgIrwkCS5Z 972Q== X-Gm-Message-State: AOJu0Yz5vcjGG5gJZiuWXoTHzTr0N4EehfxTD+vwY/IPAER5JFFECkMs L2/kLpyuz5ZaqMCkSxERPzg3CFLPRAoDsUB193BaL3xggA/Y3mne2Yt4b0LjrcyXich21yZLjoK K0jSjJRgcJNWLaaIAH6kBFvSDFcIgItYR9xL3BL8bv1FE X-Gm-Gg: ASbGncts06QojTpFFDfy2UiHhuIrvaiaYwO/QI9ioVCuM1pMS6HnbyiEXLXPKvHhMYG eJRhP7qEvdgQ90WQI4Vi3jssGh0eCio5WVByIJXrZEOvx7psPGr/TWoNQCf/sSfA3LXhAAeTYFA FAqJGkZsm/y+R2rcLH1iS5/xSjdKTobw0ZZk7w1ZBMdQ87O1m8bYq23OOQrgdBvlfB0PpQwkpII h8pimHTmS+qtfUcXpZAfszOKL/+3ITsiv3B+ZOBle0HWKXRGTzpoCbteMzJV9M27HuAzXSLDZu1 K1LZCz3Eshrzq4AKGx9lVsfSStKL0cJUlh324BVLLpGHHMGDlytEEGrJ22vqHD6SnOcSmGvps4m 9kURWl5uBdnSE0m588XaNWgTsxlV/Ls0= X-Google-Smtp-Source: AGHT+IENadl9ND7i9+1BjNKFBBQKcCZkUyFw67eOmSQkA31Pie9XzzwJW1P77JtaaV5Q9mmbBNMS2cr0jxL2 X-Received: by 2002:a17:903:1585:b0:295:589a:d12a with SMTP id d9443c01a7336-297c0380fc3mr1392005ad.8.1762447121659; Thu, 06 Nov 2025 08:38:41 -0800 (PST) Received: from postal.iol.unh.edu (postal.iol.unh.edu. [132.177.123.84]) by smtp-relay.gmail.com with ESMTPS id d9443c01a7336-2965104dddbsm2682685ad.29.2025.11.06.08.38.41 (version=TLS1_2 cipher=ECDHE-ECDSA-AES128-GCM-SHA256 bits=128/128); Thu, 06 Nov 2025 08:38:41 -0800 (PST) X-Relaying-Domain: iol.unh.edu Date: Thu, 06 Nov 2025 08:38:41 -0800 (PST) Message-ID: <690ccf11.170a0220.505bd.dedbSMTPIN_ADDED_MISSING@mx.google.com> Received: from [172.21.0.3] (unknown [172.18.0.240]) by postal.iol.unh.edu (Postfix) with ESMTP id D8331604D420; Thu, 6 Nov 2025 11:38:40 -0500 (EST) Subject: |SUCCESS| pw158508-158526 [PATCH] [RFC,19/19] app/test-pmd: fix buil From: dpdklab@iol.unh.edu To: Test Report Cc: dpdk-test-reports@iol.unh.edu In-Reply-To: <20251106140948.2894678-20-bruce.richardson@intel.com> References: <20251106140948.2894678-20-bruce.richardson@intel.com> Content-Type: text/plain X-BeenThere: test-report@dpdk.org X-Mailman-Version: 2.1.29 Precedence: list List-Id: automatic DPDK test reports List-Unsubscribe: , List-Archive: List-Post: List-Help: List-Subscribe: , Errors-To: test-report-bounces@dpdk.org Test-Label: iol-compile-amd64-testing Test-Status: SUCCESS http://dpdk.org/patch/158526 _Testing PASS_ Submitter: Bruce Richardson Date: Thursday, November 06 2025 14:09:48 DPDK git baseline: Repo:dpdk Branch: master CommitID:87f7895e470c13e13efd6762d701139d0987294a 158508-158526 --> testing pass Upstream job id: Windows-Compile-DPDK-Native#32174 Test environment and result as below: +-------------------------------+--------------------+------------------+-------------------+-------------------------+----------------------+ | Environment | dpdk_meson_compile | dpdk_compile_ovs | dpdk_msvc_compile | dpdk_llvm_clang_compile | dpdk_mingw64_compile | +===============================+====================+==================+===================+=========================+======================+ | Ubuntu 20.04 | PASS | SKIPPED | SKIPPED | SKIPPED | SKIPPED | +-------------------------------+--------------------+------------------+-------------------+-------------------------+----------------------+ | CentOS Stream 10 | PASS | SKIPPED | SKIPPED | SKIPPED | SKIPPED | +-------------------------------+--------------------+------------------+-------------------+-------------------------+----------------------+ | Fedora Linux 42 | PASS | PASS | SKIPPED | SKIPPED | SKIPPED | +-------------------------------+--------------------+------------------+-------------------+-------------------------+----------------------+ | CentOS Stream 9 | PASS | SKIPPED | SKIPPED | SKIPPED | SKIPPED | +-------------------------------+--------------------+------------------+-------------------+-------------------------+----------------------+ | Red Hat Enterprise Linux 8.10 | PASS | SKIPPED | SKIPPED | SKIPPED | SKIPPED | +-------------------------------+--------------------+------------------+-------------------+-------------------------+----------------------+ | Debian GNU/Linux 12 | PASS | SKIPPED | SKIPPED | SKIPPED | SKIPPED | +-------------------------------+--------------------+------------------+-------------------+-------------------------+----------------------+ | openSUSE Leap 15.6 | PASS | SKIPPED | SKIPPED | SKIPPED | SKIPPED | +-------------------------------+--------------------+------------------+-------------------+-------------------------+----------------------+ | Red Hat Enterprise Linux 9.5 | PASS | SKIPPED | SKIPPED | SKIPPED | SKIPPED | +-------------------------------+--------------------+------------------+-------------------+-------------------------+----------------------+ | Ubuntu 24.04 | PASS | PASS | SKIPPED | SKIPPED | SKIPPED | +-------------------------------+--------------------+------------------+-------------------+-------------------------+----------------------+ | FreeBSD 14.2 | PASS | SKIPPED | SKIPPED | SKIPPED | SKIPPED | +-------------------------------+--------------------+------------------+-------------------+-------------------------+----------------------+ | Ubuntu 22.04 | PASS | SKIPPED | SKIPPED | SKIPPED | SKIPPED | +-------------------------------+--------------------+------------------+-------------------+-------------------------+----------------------+ | Alpine Linux 3.22.0 | PASS | SKIPPED | SKIPPED | SKIPPED | SKIPPED | +-------------------------------+--------------------+------------------+-------------------+-------------------------+----------------------+ | Windows Server 2022 | SKIPPED | SKIPPED | PASS | PASS | PASS | +-------------------------------+--------------------+------------------+-------------------+-------------------------+----------------------+ Ubuntu 20.04 Kernel: 4.19 Compiler: gcc gcc (Ubuntu 9.4.0-1ubuntu1~20.04.2) 9.4.0 CentOS Stream 10 Kernel: 5.15 Compiler: gcc gcc (GCC) 14.2.1 20250110 (Red Hat 14.2.1-8) Fedora Linux 42 Kernel: 5.15 Compiler: gcc gcc (GCC) 15.2.1 20250808 (Red Hat 15.2.1-1) CentOS Stream 9 Kernel: 5.15 Compiler: gcc gcc (GCC) 11.5.0 20240719 (Red Hat 11.5.0-11) Red Hat Enterprise Linux 8.10 Kernel: 5.15 Compiler: gcc gcc (GCC) 8.5.0 20210514 (Red Hat 8.5.0-22) Debian GNU/Linux 12 Kernel: 5.15 Compiler: gcc gcc (Debian 12.2.0-14+deb12u1) 12.2.0 openSUSE Leap 15.6 Kernel: 5.15 Compiler: gcc gcc (SUSE Linux) 7.5.0 Red Hat Enterprise Linux 9.5 Kernel: 5.15 Compiler: gcc gcc (GCC) 11.5.0 20240719 (Red Hat 11.5.0-2) Ubuntu 24.04 Kernel: 5.15 Compiler: gcc gcc (Ubuntu 13.3.0-6ubuntu2~24.04) 13.3.0 FreeBSD 14.2 Kernel: 14.2-RELEASE Compiler: clang 18.1.6 Ubuntu 22.04 Kernel: 5.15 Compiler: gcc gcc (Ubuntu 11.4.0-1ubuntu1~22.04) 11.4.0 Alpine Linux 3.22.0 Kernel: 5.15 Compiler: gcc gcc (Alpine 14.2.0) 14.2.0 Windows Server 2022 Kernel: 10.0.20348.2031 Compiler: clang 15.0.7, gcc 14.1.0 (MinGW), and MSVC VS 19.39.33521 To view detailed results, visit: https://lab.dpdk.org/results/dashboard/patchsets/34488/ UNH-IOL DPDK Community Lab To manage your email subscriptions, visit: https://lab.dpdk.org/results/dashboard/preferences/subscriptions/