From mboxrd@z Thu Jan 1 00:00:00 1970 Return-Path: Received: from mails.dpdk.org (mails.dpdk.org [217.70.189.124]) by inbox.dpdk.org (Postfix) with ESMTP id A5FDE48A86 for ; Thu, 6 Nov 2025 20:22:30 +0100 (CET) Received: from mails.dpdk.org (localhost [127.0.0.1]) by mails.dpdk.org (Postfix) with ESMTP id 860414013F; Thu, 6 Nov 2025 20:22:30 +0100 (CET) Received: from mail-qv1-f97.google.com (mail-qv1-f97.google.com [209.85.219.97]) by mails.dpdk.org (Postfix) with ESMTP id 4FC1C4013F for ; Thu, 6 Nov 2025 20:22:29 +0100 (CET) Received: by mail-qv1-f97.google.com with SMTP id 6a1803df08f44-88040cfadbfso121416d6.0 for ; Thu, 06 Nov 2025 11:22:29 -0800 (PST) DKIM-Signature: v=1; a=rsa-sha256; c=relaxed/relaxed; d=iol.unh.edu; s=unh-iol; t=1762456948; x=1763061748; darn=dpdk.org; h=references:in-reply-to:cc:to:from:subject:message-id:date:from:to :cc:subject:date:message-id:reply-to; bh=UG61cd2O41k/PPzMnRd//TxnonzHsYoz0OB9kNmpurQ=; b=eT42SVJn5hTuXeRwMzJ6OagKUVqYOZdiHa+qqt8YM3TromOMlCRMRB2ClsAzp3IiDZ o2KHBZWHbdJmmMEA+kFfwIw5FxOM/0Af+ihGm+spnoH2Kz6Rjq8H0WJA+dxgubiwwXGO XeMKSNJPEf8yO+OKFYZ1gh7bRrqTMB9ofNiHs= X-Google-DKIM-Signature: v=1; a=rsa-sha256; c=relaxed/relaxed; d=1e100.net; s=20230601; t=1762456948; x=1763061748; h=references:in-reply-to:cc:to:from:subject:message-id:date:x-gm-gg :x-gm-message-state:from:to:cc:subject:date:message-id:reply-to; bh=UG61cd2O41k/PPzMnRd//TxnonzHsYoz0OB9kNmpurQ=; b=dFxG/nvoTpO8L/wXGIYQ2Kz1GHmwxfwRQfQ9t2SlJxJInovqzsBzCC7dnflEvczwkM eWCOd9HqLLDXb+3xnHjIxAYwG9H9XfXn4/RZG4EepWvnSBq5kqAsmi3U5GeExfoSZulj 8CNT+3TORitOpYBD7P+0s1nXSa/5JO+r+NUpzL4caNtf5EkhD9/RBN7I+vSeMkdm/rVK 26XKRIHMhgWzcuQXgOknq+TaEqlJOJbjO5q+nvcmANLyQcErzW94+OVVskRUsVUPxeWv 7JrMQSQQ3Ysh6MwSvBPIXlFelCs/S77d3s5UO2e7q1Er2xCZ601B3/Ie7md82ggX6n4l eTiA== X-Gm-Message-State: AOJu0YyEWiD1wSJWebxZiP8MUaw6nGQ/TUJEc8HMWCGl8THPEK1777Pm fXT4K1HOWeb3CJxsEUAU72rLOqu3pJx43Pls4tmSgXMCmofsfqPZBsbWvrsaSjlQPuX+PWk01PJ oNSxssvHtOkAZVvD2hUjv3wcf6p9/SuN9kueYyrdBIyJDL3icwWxNHUAAy9tM X-Gm-Gg: ASbGncszkEAugOisiZEoZbBWNdTOLjwEdWQqnI+ZcQSIDxQ4WyWclMMK9cRoN+K1fz/ 1o95V1LEqlxbXWe0b60E97pNPmF+kt4zPMKChb+H+FMBhi3n/1DIBlbt1PhoBEXr7htq6kBGNmD 0lUsQrgckSHhho625Oj+TTxZYwnIC8A8QAgSXFJbnJ89WMv9r/1vxSO6XX8hzxKHTVjuaruMxXi 27C9aDuA0FOSExwZSoHdKYrfH1S5C0uRMSq5SATMSCdceS1jLhutG+sW0Z6hvdLfwFTLJ8KW3Zc a7XbLXYDl6M0Krtvakiw+AhD7CuQfbbjELxLjtwpBHR2jKAQ9WxRXo7QilPLtmyA3mMI72ZNFdX pvVbk5Rfb X-Google-Smtp-Source: AGHT+IH4M6vuz057flKinKb31Lk1cfPllmgVvwZNODfFdo9o46qo3qJPaBz5KoZlgSJWBqK3fG9YVfqcQv9i X-Received: by 2002:a05:6214:4110:b0:880:53a7:a445 with SMTP id 6a1803df08f44-88151e4bc49mr9806426d6.2.1762456948638; Thu, 06 Nov 2025 11:22:28 -0800 (PST) Received: from postal.iol.unh.edu (postal.iol.unh.edu. [2606:4100:3880:1234::84]) by smtp-relay.gmail.com with ESMTPS id 6a1803df08f44-880828b9d45sm3117806d6.6.2025.11.06.11.22.28 (version=TLS1_2 cipher=ECDHE-ECDSA-AES128-GCM-SHA256 bits=128/128); Thu, 06 Nov 2025 11:22:28 -0800 (PST) X-Relaying-Domain: iol.unh.edu Date: Thu, 06 Nov 2025 11:22:28 -0800 (PST) Message-ID: <690cf574.050a0220.ca8b7.0511SMTPIN_ADDED_MISSING@mx.google.com> Received: from [172.21.0.2] (unknown [172.18.0.240]) by postal.iol.unh.edu (Postfix) with ESMTP id 53EBA6050A61; Thu, 6 Nov 2025 14:22:28 -0500 (EST) Subject: |SUCCESS| pw158529-158531 [PATCH] [3/3] bus/fslmc: add support for h From: dpdklab@iol.unh.edu To: Test Report Cc: dpdk-test-reports@iol.unh.edu, Stephen Hemminger In-Reply-To: <20251106163807.201451-3-hemant.agrawal@nxp.com> References: <20251106163807.201451-3-hemant.agrawal@nxp.com> Content-Type: text/plain X-BeenThere: test-report@dpdk.org X-Mailman-Version: 2.1.29 Precedence: list List-Id: automatic DPDK test reports List-Unsubscribe: , List-Archive: List-Post: List-Help: List-Subscribe: , Errors-To: test-report-bounces@dpdk.org Test-Label: iol-compile-amd64-testing Test-Status: SUCCESS http://dpdk.org/patch/158531 _Testing PASS_ Submitter: Hemant Agrawal Date: Thursday, November 06 2025 16:38:07 DPDK git baseline: Repo:dpdk-next-net Branch: master CommitID:591ee7f468aebec30d68d30afa8d5e4dcfc897dc 158529-158531 --> testing pass Upstream job id: Generic-DPDK-Compile-Meson#441549 Test environment and result as below: +-------------------------------+--------------------+------------------+-------------------------+-------------------+----------------------+ | Environment | dpdk_meson_compile | dpdk_compile_ovs | dpdk_llvm_clang_compile | dpdk_msvc_compile | dpdk_mingw64_compile | +===============================+====================+==================+=========================+===================+======================+ | Fedora Linux 42 | PASS | PASS | SKIPPED | SKIPPED | SKIPPED | +-------------------------------+--------------------+------------------+-------------------------+-------------------+----------------------+ | CentOS Stream 9 | PASS | SKIPPED | SKIPPED | SKIPPED | SKIPPED | +-------------------------------+--------------------+------------------+-------------------------+-------------------+----------------------+ | CentOS Stream 10 | PASS | SKIPPED | SKIPPED | SKIPPED | SKIPPED | +-------------------------------+--------------------+------------------+-------------------------+-------------------+----------------------+ | Debian GNU/Linux 12 | PASS | SKIPPED | SKIPPED | SKIPPED | SKIPPED | +-------------------------------+--------------------+------------------+-------------------------+-------------------+----------------------+ | Red Hat Enterprise Linux 8.10 | PASS | SKIPPED | SKIPPED | SKIPPED | SKIPPED | +-------------------------------+--------------------+------------------+-------------------------+-------------------+----------------------+ | Red Hat Enterprise Linux 9.5 | PASS | SKIPPED | SKIPPED | SKIPPED | SKIPPED | +-------------------------------+--------------------+------------------+-------------------------+-------------------+----------------------+ | openSUSE Leap 15.6 | PASS | SKIPPED | SKIPPED | SKIPPED | SKIPPED | +-------------------------------+--------------------+------------------+-------------------------+-------------------+----------------------+ | Ubuntu 22.04 | PASS | SKIPPED | SKIPPED | SKIPPED | SKIPPED | +-------------------------------+--------------------+------------------+-------------------------+-------------------+----------------------+ | FreeBSD 14.2 | PASS | SKIPPED | SKIPPED | SKIPPED | SKIPPED | +-------------------------------+--------------------+------------------+-------------------------+-------------------+----------------------+ | Ubuntu 24.04 | PASS | PASS | SKIPPED | SKIPPED | SKIPPED | +-------------------------------+--------------------+------------------+-------------------------+-------------------+----------------------+ | Ubuntu 20.04 | PASS | SKIPPED | SKIPPED | SKIPPED | SKIPPED | +-------------------------------+--------------------+------------------+-------------------------+-------------------+----------------------+ | Alpine Linux 3.22.0 | PASS | SKIPPED | SKIPPED | SKIPPED | SKIPPED | +-------------------------------+--------------------+------------------+-------------------------+-------------------+----------------------+ | Windows Server 2022 | SKIPPED | SKIPPED | PASS | PASS | PASS | +-------------------------------+--------------------+------------------+-------------------------+-------------------+----------------------+ Fedora Linux 42 Kernel: 5.15 Compiler: clang gcc (GCC) 15.2.1 20250808 (Red Hat 15.2.1-1) CentOS Stream 9 Kernel: 5.15 Compiler: gcc gcc (GCC) 11.5.0 20240719 (Red Hat 11.5.0-11) CentOS Stream 10 Kernel: 5.15 Compiler: gcc gcc (GCC) 14.2.1 20250110 (Red Hat 14.2.1-8) Debian GNU/Linux 12 Kernel: 5.15 Compiler: gcc gcc (Debian 12.2.0-14+deb12u1) 12.2.0 Red Hat Enterprise Linux 8.10 Kernel: 5.15 Compiler: gcc gcc (GCC) 8.5.0 20210514 (Red Hat 8.5.0-22) Red Hat Enterprise Linux 9.5 Kernel: 5.15 Compiler: gcc gcc (GCC) 11.5.0 20240719 (Red Hat 11.5.0-2) openSUSE Leap 15.6 Kernel: 5.15 Compiler: gcc gcc (SUSE Linux) 7.5.0 Ubuntu 22.04 Kernel: 5.15 Compiler: gcc gcc (Ubuntu 11.4.0-1ubuntu1~22.04) 11.4.0 FreeBSD 14.2 Kernel: 14.2-RELEASE Compiler: clang 18.1.6 Ubuntu 24.04 Kernel: 5.15 Compiler: gcc gcc (Ubuntu 13.3.0-6ubuntu2~24.04) 13.3.0 Ubuntu 20.04 Kernel: 4.19 Compiler: gcc gcc (Ubuntu 9.4.0-1ubuntu1~20.04.2) 9.4.0 Alpine Linux 3.22.0 Kernel: 5.15 Compiler: gcc gcc (Alpine 14.2.0) 14.2.0 Windows Server 2022 Kernel: 10.0.20348.2031 Compiler: clang 15.0.7, gcc 14.1.0 (MinGW), and MSVC VS 19.39.33521 To view detailed results, visit: https://lab.dpdk.org/results/dashboard/patchsets/34489/ UNH-IOL DPDK Community Lab To manage your email subscriptions, visit: https://lab.dpdk.org/results/dashboard/preferences/subscriptions/