From mboxrd@z Thu Jan 1 00:00:00 1970 Return-Path: Received: from mails.dpdk.org (mails.dpdk.org [217.70.189.124]) by inbox.dpdk.org (Postfix) with ESMTP id 7CB2D48A86 for ; Thu, 6 Nov 2025 22:03:43 +0100 (CET) Received: from mails.dpdk.org (localhost [127.0.0.1]) by mails.dpdk.org (Postfix) with ESMTP id 5AB914021F; Thu, 6 Nov 2025 22:03:43 +0100 (CET) Received: from mail-oa1-f98.google.com (mail-oa1-f98.google.com [209.85.160.98]) by mails.dpdk.org (Postfix) with ESMTP id 42A1A4021F for ; Thu, 6 Nov 2025 22:03:42 +0100 (CET) Received: by mail-oa1-f98.google.com with SMTP id 586e51a60fabf-3c9a42d6349so78748fac.1 for ; Thu, 06 Nov 2025 13:03:42 -0800 (PST) DKIM-Signature: v=1; a=rsa-sha256; c=relaxed/relaxed; d=iol.unh.edu; s=unh-iol; t=1762463021; x=1763067821; darn=dpdk.org; h=references:in-reply-to:cc:to:from:subject:message-id:date:from:to :cc:subject:date:message-id:reply-to; bh=5FOwl+7XIAQykYA7I30LQiMTuc7ehOCUroz8W7pIKYI=; b=cn6ZRe/g3vN7oaoyC3O5M3jL3Cal8484wzhnUuYHhzLEwJk5N9O46tr3H4NGeYPj34 X/pv9Z+xdKKHc1f6n4rO9B0rV8ddWCYG7rnmPPPUMbjcNQn/HDU9iy9yLkUgfm6beXVh cNNq2IzuJfdbrbb1/y4CoU7AYik1//ZXIdmC0= X-Google-DKIM-Signature: v=1; a=rsa-sha256; c=relaxed/relaxed; d=1e100.net; s=20230601; t=1762463021; x=1763067821; h=references:in-reply-to:cc:to:from:subject:message-id:date:x-gm-gg :x-gm-message-state:from:to:cc:subject:date:message-id:reply-to; bh=5FOwl+7XIAQykYA7I30LQiMTuc7ehOCUroz8W7pIKYI=; b=OalmQKhxe9d4APssBrWfTzA0csugEU2A1MCTx+39BWChpv+9t7Pnh8TGNe3E+1eNhW uB7UCVZwmWUlGf4sJw4R7QC3UrZZVif7226h1SkFJBP3mmje+vw/eM01uWpxOg0Lpz/N gjF54S9QdxcDTUIsDJDS2k/Z3W3Cjb7eKsBga6brEhIIFQf37ARLcPwfYFoPRcbd6RH5 TOEfeus4Ji2USgmc6K3ksdJ8671Nb2+OeeWwin4+NnB+NekOAjNrZbF2i1CMYyTdAkbX JxZ84FCjFWuDZv1+iqfeUOu+GgibGM7CqickDeWq82v1R+rNwF+ikXVRsomY6CwFBMgm //kw== X-Gm-Message-State: AOJu0YyoyWantxazxoB4NIZl44g4uoHJiJeSHFpbW5K1w6jegRjyAyLB OoI7FBAWb1OrTJ5Y4HBUt8qHldRSN/2/fkECX7geb1HvqwMfYiEnbgB4pbQOWS5N6faxlPlXZpn O2bGPAHCE31MZSpTBnw/FJj1oHk0uZKJk/MJiSTfzJqAu X-Gm-Gg: ASbGncs136j7A8U/9c4rTQnGYh6R+ApWMEqf334N5mYHY4cQTFbbHBF6HzGaOil7oiD aM1fYGdX+QMwuKpP8uTMZAMrZ+tc5dxggVuGnPSr7bPytNQ+E0bqMIYoM9Ll/nB/iMSKIivaQw8 F0xK/JsDVJKCfXj3LljY9TrpgACg86USv1hNf0Z4XdVToliTa+Pya7nW4sMXUnt085B5+uxD5W5 9MqF/Cy0PGGk8NAkZ5zIDw3R+tsa4jyvHoF4SiP5nUxmYSBWwdrrm/b9jZ4BH2CuP4V6AbYqOoL N2gc/quUppTM04Sg9uPWXOOGnGVtKEWEjQsEeKdOlDgqT+MGQXepq0lCBgoZvcWmQKOWyAyo1NY QlQF5KI/TuBpChz4mduSUQkmjv8OA+ic= X-Google-Smtp-Source: AGHT+IFEjAv/GcUS5iPCb7chG77paiVTwbGeGjluHzSuemHqql2476P8TyDRN/M95qClUE1fGn14QGqr0YYN X-Received: by 2002:a05:6870:e182:b0:3ad:b9f0:23ca with SMTP id 586e51a60fabf-3e41e6e7b51mr681323fac.48.1762463021358; Thu, 06 Nov 2025 13:03:41 -0800 (PST) Received: from postal.iol.unh.edu (postal.iol.unh.edu. [132.177.123.84]) by smtp-relay.gmail.com with ESMTPS id 586e51a60fabf-3e41f2821b4sm54236fac.17.2025.11.06.13.03.41 (version=TLS1_2 cipher=ECDHE-ECDSA-AES128-GCM-SHA256 bits=128/128); Thu, 06 Nov 2025 13:03:41 -0800 (PST) X-Relaying-Domain: iol.unh.edu Date: Thu, 06 Nov 2025 13:03:41 -0800 (PST) Message-ID: <690d0d2d.050a0220.3abfc3.2ed6SMTPIN_ADDED_MISSING@mx.google.com> Received: from [172.21.0.3] (unknown [172.18.0.240]) by postal.iol.unh.edu (Postfix) with ESMTP id CF4176051830; Thu, 6 Nov 2025 16:03:40 -0500 (EST) Subject: |SUCCESS| pw158507 [PATCH] net/mlx5: fix non-template sample action From: dpdklab@iol.unh.edu To: Test Report Cc: dpdk-test-reports@iol.unh.edu In-Reply-To: <20251106130228.491915-1-getelson@nvidia.com> References: <20251106130228.491915-1-getelson@nvidia.com> Content-Type: text/plain X-BeenThere: test-report@dpdk.org X-Mailman-Version: 2.1.29 Precedence: list List-Id: automatic DPDK test reports List-Unsubscribe: , List-Archive: List-Post: List-Help: List-Subscribe: , Errors-To: test-report-bounces@dpdk.org Test-Label: iol-compile-arm64-testing Test-Status: SUCCESS http://dpdk.org/patch/158507 _Testing PASS_ Submitter: Gregory Etelson Date: Thursday, November 06 2025 13:02:28 DPDK git baseline: Repo:dpdk-next-net-mlx Branch: master CommitID:4ce83cd2397cb1d9290e59a48ed8e9563cd215d3 158507 --> testing pass Upstream job id: Generic-DPDK-Compile-Meson#441469 Test environment and result as below: +------------------------------+--------------------+ | Environment | dpdk_meson_compile | +==============================+====================+ | Red Hat Enterprise Linux 9.5 | PASS | +------------------------------+--------------------+ | Ubuntu 20.04 | PASS | +------------------------------+--------------------+ | Debian GNU/Linux 12 | PASS | +------------------------------+--------------------+ | Fedora Linux 42 | PASS | +------------------------------+--------------------+ | Ubuntu 22.04 | PASS | +------------------------------+--------------------+ | Ubuntu 24.04 | PASS | +------------------------------+--------------------+ | CentOS Stream 9 | PASS | +------------------------------+--------------------+ | CentOS Stream 10 | PASS | +------------------------------+--------------------+ Red Hat Enterprise Linux 9.5 Kernel: 5.4 Compiler: gcc gcc (GCC) 11.5.0 20240719 (Red Hat 11.5.0-2) Ubuntu 20.04 Kernel: 5.15 Compiler: aarch64-linux-gnu-gcc gcc (Ubuntu 9.4.0-1ubuntu1~20.04.2) 9.4.0 Debian GNU/Linux 12 Kernel: 5.4 Compiler: gcc gcc (Debian 12.2.0-14+deb12u1) 12.2.0 Fedora Linux 42 Kernel: 5.4 Compiler: gcc gcc (GCC) 15.2.1 20250808 (Red Hat 15.2.1-1) Ubuntu 22.04 Kernel: 5.4 Compiler: gcc gcc (Ubuntu 11.4.0-1ubuntu1~22.04) 11.4.0 Ubuntu 24.04 Kernel: 5.4 Compiler: gcc gcc (Ubuntu 13.3.0-6ubuntu2~24.04) 13.3.0 CentOS Stream 9 Kernel: 5.4 Compiler: gcc gcc (GCC) 11.5.0 20240719 (Red Hat 11.5.0-11) CentOS Stream 10 Kernel: 5.4 Compiler: gcc gcc (GCC) 14.2.1 20250110 (Red Hat 14.2.1-8) To view detailed results, visit: https://lab.dpdk.org/results/dashboard/patchsets/34486/ UNH-IOL DPDK Community Lab To manage your email subscriptions, visit: https://lab.dpdk.org/results/dashboard/preferences/subscriptions/