From mboxrd@z Thu Jan 1 00:00:00 1970 Return-Path: Received: from mails.dpdk.org (mails.dpdk.org [217.70.189.124]) by inbox.dpdk.org (Postfix) with ESMTP id 7B7D048A86 for ; Thu, 6 Nov 2025 22:13:55 +0100 (CET) Received: from mails.dpdk.org (localhost [127.0.0.1]) by mails.dpdk.org (Postfix) with ESMTP id 5A71A4013F; Thu, 6 Nov 2025 22:13:55 +0100 (CET) Received: from mail-qv1-f100.google.com (mail-qv1-f100.google.com [209.85.219.100]) by mails.dpdk.org (Postfix) with ESMTP id 38FBE4013F for ; Thu, 6 Nov 2025 22:13:54 +0100 (CET) Received: by mail-qv1-f100.google.com with SMTP id 6a1803df08f44-81efcad9c90so992896d6.0 for ; Thu, 06 Nov 2025 13:13:54 -0800 (PST) DKIM-Signature: v=1; a=rsa-sha256; c=relaxed/relaxed; d=iol.unh.edu; s=unh-iol; t=1762463633; x=1763068433; darn=dpdk.org; h=references:in-reply-to:cc:to:from:subject:message-id:date:from:to :cc:subject:date:message-id:reply-to; bh=eK/nKLpbw2Y1U6rki4zOionMZE2eNOvnHFYU+1VgkUs=; b=TTpPwXde1sfMVzYDQtYTgnYbXjCj1SYsa+oMGjTlHrsAm+cVFaUFdtU1IZ1WOuPO8I LYqh/jLU/8wfzL9dmcEGOqsETHwGQuS/9PF2RkXFZBidULpgBwPQ+Z9bP4bgHScMdiGt wePEm6E6vvx0nWRsTwNDRN4e/fuzqvSJg0NQI= X-Google-DKIM-Signature: v=1; a=rsa-sha256; c=relaxed/relaxed; d=1e100.net; s=20230601; t=1762463633; x=1763068433; h=references:in-reply-to:cc:to:from:subject:message-id:date:x-gm-gg :x-gm-message-state:from:to:cc:subject:date:message-id:reply-to; bh=eK/nKLpbw2Y1U6rki4zOionMZE2eNOvnHFYU+1VgkUs=; b=J4BNWU5zt1DCjs5PaOygevimRMUz0IeCa8OFN7oxp6+e76ggVe5dEppo8I0tlQAnHL LuM8XXmu5vgDd6zFr7OND6Eu0B2WKsA+2Cj1KfZK+RF7Oq+JnO3ekEtpQ8co+ASv9n4R pDlxyPDFoKKtOZxYJ9H+bgeeIAaYNiDH6Tr9OuQw/msxTuVBps5ThbpmyzKh7ysyE4fv l4/W48bG9TN0JwFZN+ndvp40E1uXRfD0SmkP+CdWk/iMQj4S8f8mBeOMg1qfIThhgjg1 YlLBGvs17xMGVy+UW1R6tvsp0ChsA7cFHQVsf35IPM4XHUlXsJPosy8g0xx+1lIwitW3 IDig== X-Gm-Message-State: AOJu0Yyakld0rfP4a1tu/d6/mVmpAou+B9vWUI1Aev3LX6VTDqdaFjbB EAgq6QjYLDKgyJCAcNMif/ThaWQwV2M5WIim+F4bcD+dc9FV1IUdZnBOFQI47X3+8jqPhaEbTRR 9KrqJlgUStexrCtFC6/WRfKBcd2BtwTjOW1aOmJaCkkCZFnxqR9sGUuvlQqx+ X-Gm-Gg: ASbGncsDt2PxcWzkHwiq0b0NZ0jfdb22HQttHY1Du2IPNl4Rt08Rj8mLQud5LxZpb8y FXE3DTnIovzerHqlPwHGPY/ZUvQjPU6akVj4oLakd57GZ5JCr97MFA3rO8/F0pT1Fc1uRzd84E+ SOp5+5fEpZX53dvx3K1jbn6fGAspCvganHJtRTaIi3WH4YDcQsmqqMcKY1NHurECL/oDuAvSErl BKpTcjDFqBhBCKwG5UI4rRn8VMOu4ilZBE7Z2Vh9laWBZU7Irp9n0tVJ3L81dpJUttva0tYihMA RfzdmX9hnPMQ2qDVLJ+fRAOsSmgJD6PMQtNLgNoHiMX8JCiWjYxeNTDr2npDIl7ejYkc4TVx+4H OwyFbT3Jq X-Google-Smtp-Source: AGHT+IEq3eChirJkYWf3R7GdSEbhSqQCfyqzgvfPIKmFu5dEXIyPlvMk4eAosrQsIQ7N+faaw2PgMIuajEsO X-Received: by 2002:a05:6214:491:b0:880:501f:5cd with SMTP id 6a1803df08f44-88167b07a6bmr15087316d6.2.1762463633479; Thu, 06 Nov 2025 13:13:53 -0800 (PST) Received: from postal.iol.unh.edu (postal.iol.unh.edu. [2606:4100:3880:1234::84]) by smtp-relay.gmail.com with ESMTPS id 6a1803df08f44-880828baa23sm3339536d6.3.2025.11.06.13.13.53 (version=TLS1_2 cipher=ECDHE-ECDSA-AES128-GCM-SHA256 bits=128/128); Thu, 06 Nov 2025 13:13:53 -0800 (PST) X-Relaying-Domain: iol.unh.edu Date: Thu, 06 Nov 2025 13:13:53 -0800 (PST) Message-ID: <690d0f91.d40a0220.181d07.1743SMTPIN_ADDED_MISSING@mx.google.com> Received: from [172.21.0.2] (unknown [172.18.0.240]) by postal.iol.unh.edu (Postfix) with ESMTP id 367ED6050A61; Thu, 6 Nov 2025 16:13:53 -0500 (EST) Subject: |SUCCESS| pw158532 [PATCH] net/ice: adjust RSS LUT settings From: dpdklab@iol.unh.edu To: Test Report Cc: dpdk-test-reports@iol.unh.edu, Bruce Richardson In-Reply-To: <20251106171736.163516-1-vladimir.medvedkin@intel.com> References: <20251106171736.163516-1-vladimir.medvedkin@intel.com> Content-Type: text/plain X-BeenThere: test-report@dpdk.org X-Mailman-Version: 2.1.29 Precedence: list List-Id: automatic DPDK test reports List-Unsubscribe: , List-Archive: List-Post: List-Help: List-Subscribe: , Errors-To: test-report-bounces@dpdk.org Test-Label: iol-compile-amd64-testing Test-Status: SUCCESS http://dpdk.org/patch/158532 _Testing PASS_ Submitter: Vladimir Medvedkin Date: Thursday, November 06 2025 17:17:36 DPDK git baseline: Repo:dpdk-next-net-intel Branch: master CommitID:2a7bebfa5b488f8c49c9c63f2b7b7ce5cc088560 158532 --> testing pass Upstream job id: Generic-DPDK-Compile-Meson#441610 Test environment and result as below: +-------------------------------+--------------------+------------------+-------------------+-------------------------+----------------------+ | Environment | dpdk_meson_compile | dpdk_compile_ovs | dpdk_msvc_compile | dpdk_llvm_clang_compile | dpdk_mingw64_compile | +===============================+====================+==================+===================+=========================+======================+ | Ubuntu 20.04 | PASS | SKIPPED | SKIPPED | SKIPPED | SKIPPED | +-------------------------------+--------------------+------------------+-------------------+-------------------------+----------------------+ | FreeBSD 14.2 | PASS | SKIPPED | SKIPPED | SKIPPED | SKIPPED | +-------------------------------+--------------------+------------------+-------------------+-------------------------+----------------------+ | CentOS Stream 9 | PASS | SKIPPED | SKIPPED | SKIPPED | SKIPPED | +-------------------------------+--------------------+------------------+-------------------+-------------------------+----------------------+ | CentOS Stream 10 | PASS | SKIPPED | SKIPPED | SKIPPED | SKIPPED | +-------------------------------+--------------------+------------------+-------------------+-------------------------+----------------------+ | Debian GNU/Linux 12 | PASS | SKIPPED | SKIPPED | SKIPPED | SKIPPED | +-------------------------------+--------------------+------------------+-------------------+-------------------------+----------------------+ | Fedora Linux 42 | PASS | PASS | SKIPPED | SKIPPED | SKIPPED | +-------------------------------+--------------------+------------------+-------------------+-------------------------+----------------------+ | openSUSE Leap 15.6 | PASS | SKIPPED | SKIPPED | SKIPPED | SKIPPED | +-------------------------------+--------------------+------------------+-------------------+-------------------------+----------------------+ | Red Hat Enterprise Linux 8.10 | PASS | SKIPPED | SKIPPED | SKIPPED | SKIPPED | +-------------------------------+--------------------+------------------+-------------------+-------------------------+----------------------+ | Red Hat Enterprise Linux 9.5 | PASS | SKIPPED | SKIPPED | SKIPPED | SKIPPED | +-------------------------------+--------------------+------------------+-------------------+-------------------------+----------------------+ | Ubuntu 22.04 | PASS | SKIPPED | SKIPPED | SKIPPED | SKIPPED | +-------------------------------+--------------------+------------------+-------------------+-------------------------+----------------------+ | Ubuntu 24.04 | PASS | PASS | SKIPPED | SKIPPED | SKIPPED | +-------------------------------+--------------------+------------------+-------------------+-------------------------+----------------------+ | Windows Server 2022 | SKIPPED | SKIPPED | PASS | PASS | PASS | +-------------------------------+--------------------+------------------+-------------------+-------------------------+----------------------+ Ubuntu 20.04 Kernel: 4.19 Compiler: gcc gcc (Ubuntu 9.4.0-1ubuntu1~20.04.2) 9.4.0 FreeBSD 14.2 Kernel: 14.2-RELEASE Compiler: clang 18.1.6 CentOS Stream 9 Kernel: 5.15 Compiler: gcc gcc (GCC) 11.5.0 20240719 (Red Hat 11.5.0-11) CentOS Stream 10 Kernel: 5.15 Compiler: gcc gcc (GCC) 14.2.1 20250110 (Red Hat 14.2.1-8) Debian GNU/Linux 12 Kernel: 5.15 Compiler: gcc gcc (Debian 12.2.0-14+deb12u1) 12.2.0 Fedora Linux 42 Kernel: 5.15 Compiler: clang gcc (GCC) 15.2.1 20250808 (Red Hat 15.2.1-1) openSUSE Leap 15.6 Kernel: 5.15 Compiler: gcc gcc (SUSE Linux) 7.5.0 Red Hat Enterprise Linux 8.10 Kernel: 5.15 Compiler: gcc gcc (GCC) 8.5.0 20210514 (Red Hat 8.5.0-22) Red Hat Enterprise Linux 9.5 Kernel: 5.15 Compiler: gcc gcc (GCC) 11.5.0 20240719 (Red Hat 11.5.0-2) Ubuntu 22.04 Kernel: 5.15 Compiler: gcc gcc (Ubuntu 11.4.0-1ubuntu1~22.04) 11.4.0 Ubuntu 24.04 Kernel: 5.15 Compiler: gcc gcc (Ubuntu 13.3.0-6ubuntu2~24.04) 13.3.0 Windows Server 2022 Kernel: 10.0.20348.2031 Compiler: clang 15.0.7, gcc 14.1.0 (MinGW), and MSVC VS 19.39.33521 To view detailed results, visit: https://lab.dpdk.org/results/dashboard/patchsets/34491/ UNH-IOL DPDK Community Lab To manage your email subscriptions, visit: https://lab.dpdk.org/results/dashboard/preferences/subscriptions/