From mboxrd@z Thu Jan 1 00:00:00 1970 Return-Path: Received: from mails.dpdk.org (mails.dpdk.org [217.70.189.124]) by inbox.dpdk.org (Postfix) with ESMTP id C3BB246E24 for ; Thu, 6 Nov 2025 22:17:32 +0100 (CET) Received: from mails.dpdk.org (localhost [127.0.0.1]) by mails.dpdk.org (Postfix) with ESMTP id AA5644013F; Thu, 6 Nov 2025 22:17:32 +0100 (CET) Received: from mail-oo1-f97.google.com (mail-oo1-f97.google.com [209.85.161.97]) by mails.dpdk.org (Postfix) with ESMTP id 90F3A4013F for ; Thu, 6 Nov 2025 22:17:31 +0100 (CET) Received: by mail-oo1-f97.google.com with SMTP id 006d021491bc7-656c665749dso24254eaf.0 for ; Thu, 06 Nov 2025 13:17:31 -0800 (PST) DKIM-Signature: v=1; a=rsa-sha256; c=relaxed/relaxed; d=iol.unh.edu; s=unh-iol; t=1762463851; x=1763068651; darn=dpdk.org; h=references:in-reply-to:cc:to:from:subject:message-id:date:from:to :cc:subject:date:message-id:reply-to; bh=+addO1pk02AoOMB13LWxB37OP/knaiJe0VYArzVpOdk=; b=ISJcT0VE3XwbIvBzAlXq2hof3eNsF9xSJH73v0qgSsF7n5xpx4I4C2b/qfs+XsTG+q TyZcxzLt/TP6YXDrhKXPbbOyeFIq0ewyXMiinG7TeQnEvX1oN4n1cGFQ9TJLPn5QwupX +VugvFFuADZH3eH3FbU36a1KbTaYdQTU5RnQY= X-Google-DKIM-Signature: v=1; a=rsa-sha256; c=relaxed/relaxed; d=1e100.net; s=20230601; t=1762463851; x=1763068651; h=references:in-reply-to:cc:to:from:subject:message-id:date:x-gm-gg :x-gm-message-state:from:to:cc:subject:date:message-id:reply-to; bh=+addO1pk02AoOMB13LWxB37OP/knaiJe0VYArzVpOdk=; b=JJZvtEWGiFit3FO563yeDob3csei2JYIAbqmKRJyWjGWW4JcwN2NvGQmem+R760GE5 iwJBwJrmdvZQq/70134QmdJ03q6rZ5yuD57B0ikBaAjFdxmIAigry4Q7cefcEzIAlMnv 5oHoG0gNErdRWlxC9eZIFn9qejI+8MNXpepscGuh8OOVmSuAlXshAZ3GHVxR+JMitMFk ShzL5ZQUP22/LAYo/Oxb01HZFiPA9hgDOq2/1zX1Uv0S/UvdBLkB9RIJfuDvTQx0HAf0 rvrtfkvQAa4wdGtBjH//9N8DzxjgfqvBf6+ilicMCPkEvdUcBPEGVjfc28vM8bxv4TRS omQQ== X-Gm-Message-State: AOJu0YxmnpzOWf2Wr+63tN9gQnb0YKlSYj3vgJDWF5hPCt1G/pKG/jfz 6/nRRPPbaQ2eioNFvkjHzYUx61yXbJQU238qEgyEf8f8CxDdBPuXqaRdztIlPXguT+SDovBbqw5 AJ01XDWgM5Uhn0Y57bXgo1hOJxoPr/W/EPcYU/OJ29czEM1yzZsWo8ddW5MOF X-Gm-Gg: ASbGncu4TMDOdEGPqv5SGhQy8k+dwg5JhYB9r34kCnXrwDZM35fs/s7fGFNnK+Lwl4t xMhu9LOfKqMnQ2S1OIqsgTgTMYHy5oBYlfAOIH09jA7ni2BiaHnhyjdO410Vp7ax1mmVdfK5UJo bLMFtEI973sP1f6sF3V7Kh09izK+Lk0Jnt/5x4F/D/sSRiNyBs+rpG0Fkgf+1INWh8J4x/O2xiv AWUeNiyEmu9CmRJGB1wBC57Ki0WF1iPjBSOcyjqrrCkmVakAyMpqkvXpnVDrh6Se3u6P0tgsFk/ Z1DY5vzx8vFCfyJ4tfDYxEZouUGOsXxQmT0tbxe3+Wjg3a+yQnjh5BMh71XvGJEbgHDSkAi/B6f Q1LG++Shx X-Google-Smtp-Source: AGHT+IG+AT1I+jilxiBv9t373aB5c2xRZScK9mk1moHTBo9nFQOdi2UqEJ7wXXK0KnX/fdjk9AT833IgIknb X-Received: by 2002:a05:6820:c08d:20b0:656:b1c0:7f4c with SMTP id 006d021491bc7-656cddc3bb6mr527738eaf.4.1762463850727; Thu, 06 Nov 2025 13:17:30 -0800 (PST) Received: from postal.iol.unh.edu (postal.iol.unh.edu. [2606:4100:3880:1234::84]) by smtp-relay.gmail.com with ESMTPS id 006d021491bc7-656c575a300sm210483eaf.11.2025.11.06.13.17.30 (version=TLS1_2 cipher=ECDHE-ECDSA-AES128-GCM-SHA256 bits=128/128); Thu, 06 Nov 2025 13:17:30 -0800 (PST) X-Relaying-Domain: iol.unh.edu Date: Thu, 06 Nov 2025 13:17:30 -0800 (PST) Message-ID: <690d106a.050a0220.276ee.b298SMTPIN_ADDED_MISSING@mx.google.com> Received: from [172.21.0.2] (unknown [172.18.0.240]) by postal.iol.unh.edu (Postfix) with ESMTP id 40E7E6050A61; Thu, 6 Nov 2025 16:17:30 -0500 (EST) Subject: |SUCCESS| pw158532 [PATCH] net/ice: adjust RSS LUT settings From: dpdklab@iol.unh.edu To: Test Report Cc: dpdk-test-reports@iol.unh.edu, Bruce Richardson In-Reply-To: <20251106171736.163516-1-vladimir.medvedkin@intel.com> References: <20251106171736.163516-1-vladimir.medvedkin@intel.com> Content-Type: text/plain X-BeenThere: test-report@dpdk.org X-Mailman-Version: 2.1.29 Precedence: list List-Id: automatic DPDK test reports List-Unsubscribe: , List-Archive: List-Post: List-Help: List-Subscribe: , Errors-To: test-report-bounces@dpdk.org Test-Label: iol-compile-amd64-testing Test-Status: SUCCESS http://dpdk.org/patch/158532 _Testing PASS_ Submitter: Vladimir Medvedkin Date: Thursday, November 06 2025 17:17:36 DPDK git baseline: Repo:dpdk-next-net-intel Branch: master CommitID:2a7bebfa5b488f8c49c9c63f2b7b7ce5cc088560 158532 --> testing pass Upstream job id: Generic-DPDK-Compile-Meson#441611 Test environment and result as below: +-------------------------------+--------------------+------------------+-------------------+-------------------------+----------------------+ | Environment | dpdk_meson_compile | dpdk_compile_ovs | dpdk_msvc_compile | dpdk_llvm_clang_compile | dpdk_mingw64_compile | +===============================+====================+==================+===================+=========================+======================+ | Ubuntu 20.04 | PASS | SKIPPED | SKIPPED | SKIPPED | SKIPPED | +-------------------------------+--------------------+------------------+-------------------+-------------------------+----------------------+ | FreeBSD 14.2 | PASS | SKIPPED | SKIPPED | SKIPPED | SKIPPED | +-------------------------------+--------------------+------------------+-------------------+-------------------------+----------------------+ | CentOS Stream 9 | PASS | SKIPPED | SKIPPED | SKIPPED | SKIPPED | +-------------------------------+--------------------+------------------+-------------------+-------------------------+----------------------+ | CentOS Stream 10 | PASS | SKIPPED | SKIPPED | SKIPPED | SKIPPED | +-------------------------------+--------------------+------------------+-------------------+-------------------------+----------------------+ | Debian GNU/Linux 12 | PASS | SKIPPED | SKIPPED | SKIPPED | SKIPPED | +-------------------------------+--------------------+------------------+-------------------+-------------------------+----------------------+ | Fedora Linux 42 | PASS | PASS | SKIPPED | SKIPPED | SKIPPED | +-------------------------------+--------------------+------------------+-------------------+-------------------------+----------------------+ | openSUSE Leap 15.6 | PASS | SKIPPED | SKIPPED | SKIPPED | SKIPPED | +-------------------------------+--------------------+------------------+-------------------+-------------------------+----------------------+ | Red Hat Enterprise Linux 8.10 | PASS | SKIPPED | SKIPPED | SKIPPED | SKIPPED | +-------------------------------+--------------------+------------------+-------------------+-------------------------+----------------------+ | Red Hat Enterprise Linux 9.5 | PASS | SKIPPED | SKIPPED | SKIPPED | SKIPPED | +-------------------------------+--------------------+------------------+-------------------+-------------------------+----------------------+ | Ubuntu 22.04 | PASS | SKIPPED | SKIPPED | SKIPPED | SKIPPED | +-------------------------------+--------------------+------------------+-------------------+-------------------------+----------------------+ | Ubuntu 24.04 | PASS | PASS | SKIPPED | SKIPPED | SKIPPED | +-------------------------------+--------------------+------------------+-------------------+-------------------------+----------------------+ | Alpine Linux 3.22.0 | PASS | SKIPPED | SKIPPED | SKIPPED | SKIPPED | +-------------------------------+--------------------+------------------+-------------------+-------------------------+----------------------+ | Windows Server 2022 | SKIPPED | SKIPPED | PASS | PASS | PASS | +-------------------------------+--------------------+------------------+-------------------+-------------------------+----------------------+ Ubuntu 20.04 Kernel: 4.19 Compiler: gcc gcc (Ubuntu 9.4.0-1ubuntu1~20.04.2) 9.4.0 FreeBSD 14.2 Kernel: 14.2-RELEASE Compiler: clang 18.1.6 CentOS Stream 9 Kernel: 5.15 Compiler: gcc gcc (GCC) 11.5.0 20240719 (Red Hat 11.5.0-11) CentOS Stream 10 Kernel: 5.15 Compiler: gcc gcc (GCC) 14.2.1 20250110 (Red Hat 14.2.1-8) Debian GNU/Linux 12 Kernel: 5.15 Compiler: gcc gcc (Debian 12.2.0-14+deb12u1) 12.2.0 Fedora Linux 42 Kernel: 5.15 Compiler: clang gcc (GCC) 15.2.1 20250808 (Red Hat 15.2.1-1) openSUSE Leap 15.6 Kernel: 5.15 Compiler: gcc gcc (SUSE Linux) 7.5.0 Red Hat Enterprise Linux 8.10 Kernel: 5.15 Compiler: gcc gcc (GCC) 8.5.0 20210514 (Red Hat 8.5.0-22) Red Hat Enterprise Linux 9.5 Kernel: 5.15 Compiler: gcc gcc (GCC) 11.5.0 20240719 (Red Hat 11.5.0-2) Ubuntu 22.04 Kernel: 5.15 Compiler: gcc gcc (Ubuntu 11.4.0-1ubuntu1~22.04) 11.4.0 Ubuntu 24.04 Kernel: 5.15 Compiler: gcc gcc (Ubuntu 13.3.0-6ubuntu2~24.04) 13.3.0 Alpine Linux 3.22.0 Kernel: 5.15 Compiler: gcc gcc (Alpine 14.2.0) 14.2.0 Windows Server 2022 Kernel: 10.0.20348.2031 Compiler: clang 15.0.7, gcc 14.1.0 (MinGW), and MSVC VS 19.39.33521 To view detailed results, visit: https://lab.dpdk.org/results/dashboard/patchsets/34491/ UNH-IOL DPDK Community Lab To manage your email subscriptions, visit: https://lab.dpdk.org/results/dashboard/preferences/subscriptions/