From mboxrd@z Thu Jan 1 00:00:00 1970 Return-Path: Received: from mails.dpdk.org (mails.dpdk.org [217.70.189.124]) by inbox.dpdk.org (Postfix) with ESMTP id 746F848A86 for ; Thu, 6 Nov 2025 22:35:18 +0100 (CET) Received: from mails.dpdk.org (localhost [127.0.0.1]) by mails.dpdk.org (Postfix) with ESMTP id 52B084013F; Thu, 6 Nov 2025 22:35:18 +0100 (CET) Received: from mail-yx1-f97.google.com (mail-yx1-f97.google.com [74.125.224.97]) by mails.dpdk.org (Postfix) with ESMTP id C11504013F for ; Thu, 6 Nov 2025 22:35:16 +0100 (CET) Received: by mail-yx1-f97.google.com with SMTP id 956f58d0204a3-63fbbad0ac3so122507d50.1 for ; Thu, 06 Nov 2025 13:35:16 -0800 (PST) DKIM-Signature: v=1; a=rsa-sha256; c=relaxed/relaxed; d=iol.unh.edu; s=unh-iol; t=1762464916; x=1763069716; darn=dpdk.org; h=references:in-reply-to:cc:to:from:subject:message-id:date:from:to :cc:subject:date:message-id:reply-to; bh=elpEDyMbyrMqd9WjBTRXCWDth1ACcQfF4XpVFdmOMw0=; b=GDLtZwZ+p5UNGz9rPp7YNu8I9vruo6qJZ8MdtdHFrKNBBLwS4nHz9CkEX4hIyb8mPo 4FJZWJz6DEIscsPJsO7sXhy9lPHq5N+O/nE/bBR63X+eXCewuQ67gKjCI3wYDDdTavtj bKfrIzgMfhs7fxJ3zHPsa9cu10Kfv69Gk5hio= X-Google-DKIM-Signature: v=1; a=rsa-sha256; c=relaxed/relaxed; d=1e100.net; s=20230601; t=1762464916; x=1763069716; h=references:in-reply-to:cc:to:from:subject:message-id:date:x-gm-gg :x-gm-message-state:from:to:cc:subject:date:message-id:reply-to; bh=elpEDyMbyrMqd9WjBTRXCWDth1ACcQfF4XpVFdmOMw0=; b=bm9hx5/3nR+qmdNAchPcLB/ol74JP1AD7rngYkamnPQ2Tz8eqk/WVIuBNQ9/ZEhU/l 3Hv3xAyM9RTtoYDBLXWHTb60L1FKs5VDNnXGKoz+XQWiTaigjT8wQp59RqHh8Tsp5Q/n fr6cEVjZ09jC2d25DZQgvHKuGDMRFnHl6Hwn8V5EMxQ2lsrqTc7bs1j6OjReJbZNhOfT gxAMML9QgB3dVU2r5IfJjt70S1iEDAFK+h3oCWIrPwaNm3VBkdICEdEiuv1YTB9Mc3Ks iK2LkKgwUBlVCCcLYGQD60/LpL5MDcuKcvbB5rnwSQIC5wt9snKseZhaWh0R/oh49XJ8 SVAg== X-Gm-Message-State: AOJu0Ywb2R8fkQFPfBKhElwFTmBOhQp5GCKTUs/thm5/XcV0VZYCCLQk X6jDy/P4VoUCldjZYoTtCBIL1jvV8ZLSEddI5MscNjLrmIgIEb+rpE1Xy+maA120Ns9S/AUvkin tpU+jY87moiStEvWDw6aajhZyOVhiyj6ARQl2CPMk/yhtmNfshHxGDPl8yYJA X-Gm-Gg: ASbGncuU56puBTLQZ31onpojzNsmOJDO2xJsQi6liXbB4FHXgXsT4ygTNRMmyecNbLB cFPf9ZA5xmUtXuzDl0syq0T8a99PF9HKlLifYfhikCKSBWixq3fyR4tIN3fFk/5Gye1j9cd+jUs RlMaEcRBWqGeoPYukwWK6XyosrsXJv+4bBG9ehNnRxZTaGSjhRst/tzVBqPUfIjNs+iSipozPS6 ZY1eVL/CjPEiMykKaZUMfm+ndvGu/MEoYbp1IYSrbdIP/COXWrHyPhmpbfS2FRq5nF5tl782cIe DsjnlNL6Q2t3lNKYbD1UTqYxN5NC2TZ/DRNRW7/3427aWiCtrAwNaJQOBbyudVYF9242xDtlCTg TPcmy81+/ X-Google-Smtp-Source: AGHT+IEvDKUPbidSlHH3RC5j4ET8wYa9Stx1MLiywljFzxNPQ4Jjs5IwmNhyjnXEEGH6iWT9c9Wcc1sL3GEq X-Received: by 2002:a53:c048:0:10b0:63f:abf6:1cc with SMTP id 956f58d0204a3-640c4308902mr752155d50.13.1762464915903; Thu, 06 Nov 2025 13:35:15 -0800 (PST) Received: from postal.iol.unh.edu (postal.iol.unh.edu. [2606:4100:3880:1234::84]) by smtp-relay.gmail.com with ESMTPS id 00721157ae682-787b16488a3sm2011537b3.10.2025.11.06.13.35.15 (version=TLS1_2 cipher=ECDHE-ECDSA-AES128-GCM-SHA256 bits=128/128); Thu, 06 Nov 2025 13:35:15 -0800 (PST) X-Relaying-Domain: iol.unh.edu Date: Thu, 06 Nov 2025 13:35:15 -0800 (PST) Message-ID: <690d1493.050a0220.2e5bfe.b3c7SMTPIN_ADDED_MISSING@mx.google.com> Received: from [172.21.0.2] (unknown [172.18.0.240]) by postal.iol.unh.edu (Postfix) with ESMTP id 97EEF6050A61; Thu, 6 Nov 2025 16:35:15 -0500 (EST) Subject: |SUCCESS| pw158532 [PATCH] net/ice: adjust RSS LUT settings From: dpdklab@iol.unh.edu To: Test Report Cc: dpdk-test-reports@iol.unh.edu, Bruce Richardson In-Reply-To: <20251106171736.163516-1-vladimir.medvedkin@intel.com> References: <20251106171736.163516-1-vladimir.medvedkin@intel.com> Content-Type: text/plain X-BeenThere: test-report@dpdk.org X-Mailman-Version: 2.1.29 Precedence: list List-Id: automatic DPDK test reports List-Unsubscribe: , List-Archive: List-Post: List-Help: List-Subscribe: , Errors-To: test-report-bounces@dpdk.org Test-Label: iol-compile-amd64-testing Test-Status: SUCCESS http://dpdk.org/patch/158532 _Testing PASS_ Submitter: Vladimir Medvedkin Date: Thursday, November 06 2025 17:17:36 DPDK git baseline: Repo:dpdk-next-net-intel Branch: master CommitID:2a7bebfa5b488f8c49c9c63f2b7b7ce5cc088560 158532 --> testing pass Upstream job id: Generic-DPDK-Compile-Meson#441612 Test environment and result as below: +-------------------------------+--------------------+------------------+-------------------+-------------------------+----------------------+ | Environment | dpdk_meson_compile | dpdk_compile_ovs | dpdk_msvc_compile | dpdk_llvm_clang_compile | dpdk_mingw64_compile | +===============================+====================+==================+===================+=========================+======================+ | Ubuntu 20.04 | PASS | SKIPPED | SKIPPED | SKIPPED | SKIPPED | +-------------------------------+--------------------+------------------+-------------------+-------------------------+----------------------+ | FreeBSD 14.2 | PASS | SKIPPED | SKIPPED | SKIPPED | SKIPPED | +-------------------------------+--------------------+------------------+-------------------+-------------------------+----------------------+ | CentOS Stream 9 | PASS | SKIPPED | SKIPPED | SKIPPED | SKIPPED | +-------------------------------+--------------------+------------------+-------------------+-------------------------+----------------------+ | CentOS Stream 10 | PASS | SKIPPED | SKIPPED | SKIPPED | SKIPPED | +-------------------------------+--------------------+------------------+-------------------+-------------------------+----------------------+ | Debian GNU/Linux 12 | PASS | SKIPPED | SKIPPED | SKIPPED | SKIPPED | +-------------------------------+--------------------+------------------+-------------------+-------------------------+----------------------+ | Fedora Linux 42 | PASS | PASS | SKIPPED | SKIPPED | SKIPPED | +-------------------------------+--------------------+------------------+-------------------+-------------------------+----------------------+ | openSUSE Leap 15.6 | PASS | SKIPPED | SKIPPED | SKIPPED | SKIPPED | +-------------------------------+--------------------+------------------+-------------------+-------------------------+----------------------+ | Red Hat Enterprise Linux 8.10 | PASS | SKIPPED | SKIPPED | SKIPPED | SKIPPED | +-------------------------------+--------------------+------------------+-------------------+-------------------------+----------------------+ | Red Hat Enterprise Linux 9.5 | PASS | SKIPPED | SKIPPED | SKIPPED | SKIPPED | +-------------------------------+--------------------+------------------+-------------------+-------------------------+----------------------+ | Ubuntu 22.04 | PASS | SKIPPED | SKIPPED | SKIPPED | SKIPPED | +-------------------------------+--------------------+------------------+-------------------+-------------------------+----------------------+ | Ubuntu 24.04 | PASS | PASS | SKIPPED | SKIPPED | SKIPPED | +-------------------------------+--------------------+------------------+-------------------+-------------------------+----------------------+ | Alpine Linux 3.22.0 | PASS | SKIPPED | SKIPPED | SKIPPED | SKIPPED | +-------------------------------+--------------------+------------------+-------------------+-------------------------+----------------------+ | Windows Server 2022 | SKIPPED | SKIPPED | PASS | PASS | PASS | +-------------------------------+--------------------+------------------+-------------------+-------------------------+----------------------+ Ubuntu 20.04 Kernel: 4.19 Compiler: gcc gcc (Ubuntu 9.4.0-1ubuntu1~20.04.2) 9.4.0 FreeBSD 14.2 Kernel: 14.2-RELEASE Compiler: clang 18.1.6 CentOS Stream 9 Kernel: 5.15 Compiler: gcc gcc (GCC) 11.5.0 20240719 (Red Hat 11.5.0-11) CentOS Stream 10 Kernel: 5.15 Compiler: gcc gcc (GCC) 14.2.1 20250110 (Red Hat 14.2.1-8) Debian GNU/Linux 12 Kernel: 5.15 Compiler: gcc gcc (Debian 12.2.0-14+deb12u1) 12.2.0 Fedora Linux 42 Kernel: 5.15 Compiler: clang gcc (GCC) 15.2.1 20250808 (Red Hat 15.2.1-1) openSUSE Leap 15.6 Kernel: 5.15 Compiler: gcc gcc (SUSE Linux) 7.5.0 Red Hat Enterprise Linux 8.10 Kernel: 5.15 Compiler: gcc gcc (GCC) 8.5.0 20210514 (Red Hat 8.5.0-22) Red Hat Enterprise Linux 9.5 Kernel: 5.15 Compiler: gcc gcc (GCC) 11.5.0 20240719 (Red Hat 11.5.0-2) Ubuntu 22.04 Kernel: 5.15 Compiler: gcc gcc (Ubuntu 11.4.0-1ubuntu1~22.04) 11.4.0 Ubuntu 24.04 Kernel: 5.15 Compiler: gcc gcc (Ubuntu 13.3.0-6ubuntu2~24.04) 13.3.0 Alpine Linux 3.22.0 Kernel: 5.15 Compiler: gcc gcc (Alpine 14.2.0) 14.2.0 Windows Server 2022 Kernel: 10.0.20348.2031 Compiler: clang 15.0.7, gcc 14.1.0 (MinGW), and MSVC VS 19.39.33521 To view detailed results, visit: https://lab.dpdk.org/results/dashboard/patchsets/34491/ UNH-IOL DPDK Community Lab To manage your email subscriptions, visit: https://lab.dpdk.org/results/dashboard/preferences/subscriptions/