From mboxrd@z Thu Jan 1 00:00:00 1970 Return-Path: Received: from mails.dpdk.org (mails.dpdk.org [217.70.189.124]) by inbox.dpdk.org (Postfix) with ESMTP id 2822048A86 for ; Thu, 6 Nov 2025 22:55:32 +0100 (CET) Received: from mails.dpdk.org (localhost [127.0.0.1]) by mails.dpdk.org (Postfix) with ESMTP id 025154013F; Thu, 6 Nov 2025 22:55:32 +0100 (CET) Received: from mail-qv1-f100.google.com (mail-qv1-f100.google.com [209.85.219.100]) by mails.dpdk.org (Postfix) with ESMTP id 5ADEC4013F for ; Thu, 6 Nov 2025 22:55:30 +0100 (CET) Received: by mail-qv1-f100.google.com with SMTP id 6a1803df08f44-879b99b7ca8so1397776d6.0 for ; Thu, 06 Nov 2025 13:55:30 -0800 (PST) DKIM-Signature: v=1; a=rsa-sha256; c=relaxed/relaxed; d=iol.unh.edu; s=unh-iol; t=1762466130; x=1763070930; darn=dpdk.org; h=references:in-reply-to:cc:to:from:subject:message-id:date:from:to :cc:subject:date:message-id:reply-to; bh=NOW6GZXfoCtfnvDw5OyqtK3EoP1onp3Ko8rucnIbgfs=; b=NRd/cyv2aHTah6rnHJPDjNTWSPD5SymnUi3EUMAVIF5rY5OQwr9XYRK7aihZN2Qnts 86SSO8Uj3XOhmGpPBd/qvp/H1gPQ8MQUmj3g04kIqwRh+d+2vVOASZHfCx9B8M6mhDV3 g79khCbStSSzKhMB7yLF/pHVrIqo3KPPedCUY= X-Google-DKIM-Signature: v=1; a=rsa-sha256; c=relaxed/relaxed; d=1e100.net; s=20230601; t=1762466130; x=1763070930; h=references:in-reply-to:cc:to:from:subject:message-id:date:x-gm-gg :x-gm-message-state:from:to:cc:subject:date:message-id:reply-to; bh=NOW6GZXfoCtfnvDw5OyqtK3EoP1onp3Ko8rucnIbgfs=; b=DuY711MItfdIcgnZ+S5jKY3R90xnAJlZlKPRwjaMGP/wtyRLvbI2N+1tEH+1xmxsz2 I5yIEjZo/HDoDqBLXygXEa+xOaZvv3DeMbzyLBKO2G47ihYXoKN6dGGRLZkwJR/8DyWV t3TPrOSiAxByd5+raS4maoGnM1bwo/ajB4ZerBuKo7Zt5dOqDNlCrHOqK15gPlgnJvtG +NTBaMm90gDNZQy1Xwcvw6nmo7HbKqtRokMGlBkKrjOOEJyTYo7t/lMMVaadlcDiscyy adAs92sSelABH+awswtSUCu+t5H3gy3lqswct/gjzDITdBMxHrJVxaxPEIWTrkC2lPM+ J4Vw== X-Gm-Message-State: AOJu0YyhcTzjR43VhI/ezr2jbA+WlpbS6iAN/qwHAQlmhzTFsDW22vfQ VVyB2YPmE/wOPXXosbv0C0IMuPmiGNR2jfQ0UCNBMmL5tA6geFJfKChEAvsac6xJvYr2mKlvrOa s9K3swYCPj8VbIm2SaEt3p0ZmukWEZFVKOGrTC1mLtFCR X-Gm-Gg: ASbGncvmcTEnHuyudoU6sSwrMs4vza5vryjTsPaQ1J5w/GttLDJdXxr2b/cbioLuF4O G8971failQEt9Whop6LsKnijUWU8Zpo2ofxvTzsshzTjBP3RtsrYTSSjWFOJR33G6yXJfUGwRTN Kj2ZEPXWZme/HhDWU0+9xCQNgEg57qRrypXMkYkpGhvg8Bx092J72wqHhvon+4lzVHWtDpF8Pcv zRw3XrPQtBlcXcZoZqXrlCbw0DALqjsxC9XpFe7WZp8r9hxmVot9TUQQJgXD1DBcOcPOXyQbTEc Uo42oudodK+Cjx1i0tMYu4IA+MulZ3SHt+yt5pxBbGXpmtvVCRH5luH2OjxHmPMGSE152pLojKT EAnWOeGUdtGxzRDl9oGSSMwS2+UTOPlY= X-Google-Smtp-Source: AGHT+IHZ8EB2Y9P6HMEno34uabLNy9v5CytmRvCQhWK8SL3645CTMpmEXnEtiRnL/xbeO2LX/lsU2xKph5c1 X-Received: by 2002:a05:6214:410e:b0:880:52b8:2f9e with SMTP id 6a1803df08f44-88167b17935mr15994116d6.21.1762466129737; Thu, 06 Nov 2025 13:55:29 -0800 (PST) Received: from postal.iol.unh.edu (postal.iol.unh.edu. [132.177.123.84]) by smtp-relay.gmail.com with ESMTPS id 6a1803df08f44-880829f6d61sm3437116d6.25.2025.11.06.13.55.29 (version=TLS1_2 cipher=ECDHE-ECDSA-AES128-GCM-SHA256 bits=128/128); Thu, 06 Nov 2025 13:55:29 -0800 (PST) X-Relaying-Domain: iol.unh.edu Date: Thu, 06 Nov 2025 13:55:29 -0800 (PST) Message-ID: <690d1951.050a0220.1d5093.2049SMTPIN_ADDED_MISSING@mx.google.com> Received: from [172.21.0.2] (unknown [172.18.0.240]) by postal.iol.unh.edu (Postfix) with ESMTP id 68AEB60003F4; Thu, 6 Nov 2025 16:55:29 -0500 (EST) Subject: |SUCCESS| pw158508-158526 [PATCH] [RFC,19/19] app/test-pmd: fix buil From: dpdklab@iol.unh.edu To: Test Report Cc: dpdk-test-reports@iol.unh.edu In-Reply-To: <20251106140948.2894678-20-bruce.richardson@intel.com> References: <20251106140948.2894678-20-bruce.richardson@intel.com> Content-Type: text/plain X-BeenThere: test-report@dpdk.org X-Mailman-Version: 2.1.29 Precedence: list List-Id: automatic DPDK test reports List-Unsubscribe: , List-Archive: List-Post: List-Help: List-Subscribe: , Errors-To: test-report-bounces@dpdk.org Test-Label: iol-compile-arm64-testing Test-Status: SUCCESS http://dpdk.org/patch/158526 _Testing PASS_ Submitter: Bruce Richardson Date: Thursday, November 06 2025 14:09:48 DPDK git baseline: Repo:dpdk Branch: master CommitID:87f7895e470c13e13efd6762d701139d0987294a 158508-158526 --> testing pass Upstream job id: Generic-DPDK-Compile-Meson#441515 Test environment and result as below: +------------------------------+--------------------+ | Environment | dpdk_meson_compile | +==============================+====================+ | Red Hat Enterprise Linux 9.5 | PASS | +------------------------------+--------------------+ | Ubuntu 20.04 | PASS | +------------------------------+--------------------+ | Fedora Linux 42 | PASS | +------------------------------+--------------------+ | Debian GNU/Linux 12 | PASS | +------------------------------+--------------------+ | CentOS Stream 9 | PASS | +------------------------------+--------------------+ | Ubuntu 24.04 | PASS | +------------------------------+--------------------+ | Ubuntu 22.04 | PASS | +------------------------------+--------------------+ | CentOS Stream 10 | PASS | +------------------------------+--------------------+ Red Hat Enterprise Linux 9.5 Kernel: 5.4 Compiler: gcc gcc (GCC) 11.5.0 20240719 (Red Hat 11.5.0-2) Ubuntu 20.04 Kernel: 5.15 Compiler: gcc gcc (Ubuntu 9.4.0-1ubuntu1~20.04.2) 9.4.0 Fedora Linux 42 Kernel: 5.4 Compiler: gcc gcc (GCC) 15.2.1 20250808 (Red Hat 15.2.1-1) Debian GNU/Linux 12 Kernel: 5.4 Compiler: gcc gcc (Debian 12.2.0-14+deb12u1) 12.2.0 CentOS Stream 9 Kernel: 5.4 Compiler: gcc gcc (GCC) 11.5.0 20240719 (Red Hat 11.5.0-11) Ubuntu 24.04 Kernel: 5.4 Compiler: gcc gcc (Ubuntu 13.3.0-6ubuntu2~24.04) 13.3.0 Ubuntu 22.04 Kernel: 5.4 Compiler: gcc gcc (Ubuntu 11.4.0-1ubuntu1~22.04) 11.4.0 CentOS Stream 10 Kernel: 5.4 Compiler: gcc gcc (GCC) 14.2.1 20250110 (Red Hat 14.2.1-8) To view detailed results, visit: https://lab.dpdk.org/results/dashboard/patchsets/34488/ UNH-IOL DPDK Community Lab To manage your email subscriptions, visit: https://lab.dpdk.org/results/dashboard/preferences/subscriptions/