From mboxrd@z Thu Jan 1 00:00:00 1970 Return-Path: Received: from mails.dpdk.org (mails.dpdk.org [217.70.189.124]) by inbox.dpdk.org (Postfix) with ESMTP id A36E348A86 for ; Fri, 7 Nov 2025 01:57:10 +0100 (CET) Received: from mails.dpdk.org (localhost [127.0.0.1]) by mails.dpdk.org (Postfix) with ESMTP id 8F07F4013F; Fri, 7 Nov 2025 01:57:10 +0100 (CET) Received: from mail-pg1-f228.google.com (mail-pg1-f228.google.com [209.85.215.228]) by mails.dpdk.org (Postfix) with ESMTP id EE8294013F for ; Fri, 7 Nov 2025 01:57:09 +0100 (CET) Received: by mail-pg1-f228.google.com with SMTP id 41be03b00d2f7-b6ce6d1d3dcso137650a12.3 for ; Thu, 06 Nov 2025 16:57:09 -0800 (PST) DKIM-Signature: v=1; a=rsa-sha256; c=relaxed/relaxed; d=iol.unh.edu; s=unh-iol; t=1762477029; x=1763081829; darn=dpdk.org; h=references:in-reply-to:cc:to:from:subject:message-id:date:from:to :cc:subject:date:message-id:reply-to; bh=aY2mg3eJAX0LyXkztMsgXDU1bJV+0MSewo4IuGEqKzg=; b=DCUhLCIR7VyIcsHjZU8yzTWnOTtMZqlXBE2LL3AnP0nYcm/eTQu9EhMcbf8GeVmdet bSJEHRT1JBHYrW6ZVoiFlRvBmyjCBrUbA2e8iZGbkUxIHsQLsZ+qC8zEGxkx4y1k7BP3 qEdRVgx3gqzq1ago7dDf16Ml7qeVrrMnSX6lw= X-Google-DKIM-Signature: v=1; a=rsa-sha256; c=relaxed/relaxed; d=1e100.net; s=20230601; t=1762477029; x=1763081829; h=references:in-reply-to:cc:to:from:subject:message-id:date:x-gm-gg :x-gm-message-state:from:to:cc:subject:date:message-id:reply-to; bh=aY2mg3eJAX0LyXkztMsgXDU1bJV+0MSewo4IuGEqKzg=; b=nRgaQiXuhmDiHLVzirZVoKvJ3jBgJiOTkTHso+C50O2zW0QEZWdXhMtk3P2Vb86qUj z8vZ+SGYFyTPGYxptZuF2PGoB7EKHo9VP5IMx5qfQ7beH/ff3e7vW9gRFIOgxzJodVhs f10nJWaTAerazRh/gXqAc7nqQFdL+lW73v/l/kMPRAHSukoPFFTS1lt+HDu4MtYnqA8M bv2DgS6BVlXD6ximNYbuzOZlGiNiGAegTS/uofrl4MWjEZDSbs6qkitvY53+F9+1WWg9 wKH8LTNY2a/GZJs46aG4QK44jkBi6PMDcUgHa5Vna9+DY9nyi+IC2f642JcEUi5BCBVy WB3A== X-Gm-Message-State: AOJu0Yx5yUGBFupU8/dVAy1uorTdchW9ov9bkhzXQL6OgpGC4m+NMsBh mw3ePkwUvdriswrpMXe5NcF4pLl32jzrElow+aumiS/B/Uz5KPvf2xmLnTxMArTc/fxmZ+6rZpE za0QmBS+39ZPOow4OgykSOv91I2XDRkRxLBMa53Ax15aF X-Gm-Gg: ASbGncszCOXHsyAZGich/PQ0BNO2QW5cQr51Opjg+75eXsrgs7uXM8YkJ/a+gf4SyFU Vt2MA2ritBkVWBErvPGIq5vBcg7XuMe0p7a5kxUaOIIQnZ1/CWzbt0DAbnT8CW6rtuQCrrmaUsx VmjgMtFc1zsePPnD3yp9KCJR+Lehh34pAhI2GL83EWx4bt2LG7fU8LnunVA5nXOLtnhdC9wsN/F x/nAF1idG5xVv+SAQ+btK0Ar/jtF347GjhkvPONN7JS0soPk5Tv8pdvruSEtJuHc74D1hvTxHGJ cC8oFiLdJ8WiAqbcNRODhw/YfOGiDWxaXLXdfJMHTCb4DSdZPpWeBtlYiD+5nf3peL3vDhhCJPT eyQcFGocsts0LC+zYnLthGLB1XHTiP+4= X-Google-Smtp-Source: AGHT+IEIxxn5fxfmFC3hUXRz8h3ncJ61jR5mffuK9iqRzlo9R82yUW6hArUtI0cB9Oq3Q7FBadM5wBk7KQc6 X-Received: by 2002:a17:902:ecc3:b0:295:9db1:ff4b with SMTP id d9443c01a7336-297c03b71c5mr15297395ad.4.1762477028948; Thu, 06 Nov 2025 16:57:08 -0800 (PST) Received: from postal.iol.unh.edu (postal.iol.unh.edu. [132.177.123.84]) by smtp-relay.gmail.com with ESMTPS id d9443c01a7336-2965096e4b1sm3270925ad.9.2025.11.06.16.57.08 (version=TLS1_2 cipher=ECDHE-ECDSA-AES128-GCM-SHA256 bits=128/128); Thu, 06 Nov 2025 16:57:08 -0800 (PST) X-Relaying-Domain: iol.unh.edu Date: Thu, 06 Nov 2025 16:57:08 -0800 (PST) Message-ID: <690d43e4.170a0220.15d943.2999SMTPIN_ADDED_MISSING@mx.google.com> Received: from [172.21.0.2] (unknown [172.18.0.240]) by postal.iol.unh.edu (Postfix) with ESMTP id 657E260003F4; Thu, 6 Nov 2025 19:57:08 -0500 (EST) Subject: |SUCCESS| pw158490-158491 [PATCH] [2/2] app/testpmd: fix wrong Rx qu From: dpdklab@iol.unh.edu To: Test Report Cc: dpdk-test-reports@iol.unh.edu, Stephen Hemminger In-Reply-To: <20251106002920.6162-3-fengchengwen@huawei.com> References: <20251106002920.6162-3-fengchengwen@huawei.com> Content-Type: text/plain X-BeenThere: test-report@dpdk.org X-Mailman-Version: 2.1.29 Precedence: list List-Id: automatic DPDK test reports List-Unsubscribe: , List-Archive: List-Post: List-Help: List-Subscribe: , Errors-To: test-report-bounces@dpdk.org Test-Label: iol-unit-amd64-testing Test-Status: SUCCESS http://dpdk.org/patch/158491 _Testing PASS_ Submitter: Chengwen Feng Date: Thursday, November 06 2025 00:29:20 DPDK git baseline: Repo:dpdk-next-net Branch: master CommitID:591ee7f468aebec30d68d30afa8d5e4dcfc897dc 158490-158491 --> testing pass Upstream job id: Generic-Unit-Test-DPDK#389663 Test environment and result as below: +-------------------------------+----------------+ | Environment | dpdk_unit_test | +===============================+================+ | Fedora Linux 41 | PASS | +-------------------------------+----------------+ | Fedora Linux 40 | PASS | +-------------------------------+----------------+ | CentOS Stream 10 | PASS | +-------------------------------+----------------+ | Ubuntu 22.04 | PASS | +-------------------------------+----------------+ | Fedora Linux 42 | PASS | +-------------------------------+----------------+ | CentOS Stream 9 | PASS | +-------------------------------+----------------+ | Red Hat Enterprise Linux 9.5 | PASS | +-------------------------------+----------------+ | Ubuntu 20.04 | PASS | +-------------------------------+----------------+ | Debian GNU/Linux 12 | PASS | +-------------------------------+----------------+ | Ubuntu 24.04 | PASS | +-------------------------------+----------------+ | Red Hat Enterprise Linux 8.10 | PASS | +-------------------------------+----------------+ Fedora Linux 41 Kernel: 5.15 Compiler: clang gcc (GCC) 14.3.1 20250523 (Red Hat 14.3.1-1) Fedora Linux 40 Kernel: 5.15 Compiler: gcc gcc (GCC) 14.2.1 20240912 (Red Hat 14.2.1-3) CentOS Stream 10 Kernel: 5.15 Compiler: gcc gcc (GCC) 14.2.1 20250110 (Red Hat 14.2.1-8) Ubuntu 22.04 Kernel: 5.15 Compiler: gcc gcc (Ubuntu 11.4.0-1ubuntu1~22.04) 11.4.0 Fedora Linux 42 Kernel: 5.15 Compiler: clang gcc (GCC) 15.2.1 20250808 (Red Hat 15.2.1-1) CentOS Stream 9 Kernel: 5.15 Compiler: gcc gcc (GCC) 11.5.0 20240719 (Red Hat 11.5.0-11) Red Hat Enterprise Linux 9.5 Kernel: 5.15 Compiler: gcc gcc (GCC) 11.5.0 20240719 (Red Hat 11.5.0-2) Ubuntu 20.04 Kernel: 5.15 Compiler: gcc gcc (Ubuntu 9.4.0-1ubuntu1~20.04.2) 9.4.0 Debian GNU/Linux 12 Kernel: 5.15 Compiler: gcc gcc (Debian 12.2.0-14+deb12u1) 12.2.0 Ubuntu 24.04 Kernel: 5.15 Compiler: gcc gcc (Ubuntu 13.3.0-6ubuntu2~24.04) 13.3.0 Red Hat Enterprise Linux 8.10 Kernel: 5.15 Compiler: gcc gcc (GCC) 8.5.0 20210514 (Red Hat 8.5.0-22) To view detailed results, visit: https://lab.dpdk.org/results/dashboard/patchsets/34496/ UNH-IOL DPDK Community Lab To manage your email subscriptions, visit: https://lab.dpdk.org/results/dashboard/preferences/subscriptions/