From mboxrd@z Thu Jan 1 00:00:00 1970 Return-Path: Received: from mails.dpdk.org (mails.dpdk.org [217.70.189.124]) by inbox.dpdk.org (Postfix) with ESMTP id 24E5348A8A for ; Fri, 7 Nov 2025 02:08:50 +0100 (CET) Received: from mails.dpdk.org (localhost [127.0.0.1]) by mails.dpdk.org (Postfix) with ESMTP id 1D7064013F; Fri, 7 Nov 2025 02:08:50 +0100 (CET) Received: from mail-oa1-f99.google.com (mail-oa1-f99.google.com [209.85.160.99]) by mails.dpdk.org (Postfix) with ESMTP id 7A27F4013F for ; Fri, 7 Nov 2025 02:08:48 +0100 (CET) Received: by mail-oa1-f99.google.com with SMTP id 586e51a60fabf-373b7e07182so172178fac.0 for ; Thu, 06 Nov 2025 17:08:48 -0800 (PST) DKIM-Signature: v=1; a=rsa-sha256; c=relaxed/relaxed; d=iol.unh.edu; s=unh-iol; t=1762477727; x=1763082527; darn=dpdk.org; h=references:in-reply-to:cc:to:from:subject:message-id:date:from:to :cc:subject:date:message-id:reply-to; bh=RFY0XKDRGfQNLkcgwd5IKFlZ9E0+upTdbHSuNfQvJPE=; b=XRsRwPUVzgtZfBJt/3BP23M7OPC7n5SJL6e5pxC3ryGunbFkY8esGP414NdfJvVa1u xxRh2/IbYV8ZER01722fMz5zKKp6P7uk95XqW3QVPNgqQf+JWsorHsDf8gg8Z6uV4VKC 6UI+31YE+eCzuosMTcr/YfAGcAabjtG4ZrNiw= X-Google-DKIM-Signature: v=1; a=rsa-sha256; c=relaxed/relaxed; d=1e100.net; s=20230601; t=1762477727; x=1763082527; h=references:in-reply-to:cc:to:from:subject:message-id:date:x-gm-gg :x-gm-message-state:from:to:cc:subject:date:message-id:reply-to; bh=RFY0XKDRGfQNLkcgwd5IKFlZ9E0+upTdbHSuNfQvJPE=; b=wXLRVq+uDU4o8R597nAw9hHPK3N3G40Cn9/Km7mzqx3HWiGEwaGMEdU0jrEcjl2SxQ QttgaXkVPt0hIhe/Qwg6Ww8vIq/etU6P7Gj2yU4ax4wh3ZYyDsHDufLQYsNSkCvxhHd/ alrzCHZ56wsWk6M/v10rn0AdyfN28zHLRbGap6CAWnVvCqRnnAbEMyeToAVEGvp5sZR8 GJi49OPXYVLiZbf91j9ix/5raiQ0/FVnZH60ouIG9FE9gBRm+wm1cXF/dJJJRQn6MM1W dyW6UumI0sFlRRQeCa6qMmjHAuoNbWX16V4PI4NDJwUH/2UBTwpM38fNVfoOUS1eN4TV h36w== X-Gm-Message-State: AOJu0Yw8c0n7GAo2v/0A4n/pLnafGDJbKBoP5arshV/ttLPpH6y/c5Eu VjNNd0Ne3HGndRWY172UT8aIpWpBkOhSZfL6vCbSMZoNVMXRzQzf3iDPExAA9JHax6eRtkVRTnW yHJaLPjVgMBUd2pSpmUClTirYp+Y1v+3iHBntXADXeNzW X-Gm-Gg: ASbGnctbseXgW/yp/EP+TMVqmEuHDTV5b7802YoHwpTdB0Znc4n5l++AFVHU0rbsdT+ g0i82AbPuvqAK0gGDfsbbEff2/8dadvTDkgMscFObvWX/1wT5WANQWVXPac0Rip0Xt/DGvu2O9V +efe9iVhncOl4wjcfbh22Y8PO1gOxaDy8zTvfb+0ELiW4zSC0KrEK01P9YXu3N5r9e7nkRUz8QL /CPth8S3PeUReCG4zU8qX3GabpxslqEOtdFTQ/sI/2iIrhG+SU8ZqNCp3jhUVjgjA/wB/hSZyek VAwP55SezpfWn5go0RFw0PwAKnbvmG4UbgRtCQGQOaCH7FrjEg0f7Z4l4dEA7HxEOGpQBpRtJKp jl7OrAlLUx7XKthOTXepQn4qzP8HSnpI= X-Google-Smtp-Source: AGHT+IGV2xUvJGpYWaORaSXJHURWcschKbPTytqebCmSN5gLPxiH1mZ6hBKOVoDIOwQikT02Wv8IoPJt5lDQ X-Received: by 2002:a05:6870:e182:b0:3ad:b9f0:23ca with SMTP id 586e51a60fabf-3e41e6e7b51mr1096000fac.48.1762477727707; Thu, 06 Nov 2025 17:08:47 -0800 (PST) Received: from postal.iol.unh.edu (postal.iol.unh.edu. [132.177.123.84]) by smtp-relay.gmail.com with ESMTPS id 586e51a60fabf-3e41e7f9798sm98536fac.0.2025.11.06.17.08.47 (version=TLS1_2 cipher=ECDHE-ECDSA-AES128-GCM-SHA256 bits=128/128); Thu, 06 Nov 2025 17:08:47 -0800 (PST) X-Relaying-Domain: iol.unh.edu Date: Thu, 06 Nov 2025 17:08:47 -0800 (PST) Message-ID: <690d469f.050a0220.859e7.558fSMTPIN_ADDED_MISSING@mx.google.com> Received: from [172.21.0.4] (unknown [172.18.0.240]) by postal.iol.unh.edu (Postfix) with ESMTP id 3A3C06051830; Thu, 6 Nov 2025 20:08:47 -0500 (EST) Subject: |SUCCESS| pw158483 [PATCH] [v2] dts: testpmd link check on port star From: dpdklab@iol.unh.edu To: Test Report Cc: dpdk-test-reports@iol.unh.edu In-Reply-To: <20251105194925.1507334-1-probb@iol.unh.edu> References: <20251105194925.1507334-1-probb@iol.unh.edu> Content-Type: text/plain X-BeenThere: test-report@dpdk.org X-Mailman-Version: 2.1.29 Precedence: list List-Id: automatic DPDK test reports List-Unsubscribe: , List-Archive: List-Post: List-Help: List-Subscribe: , Errors-To: test-report-bounces@dpdk.org Test-Label: iol-compile-amd64-testing Test-Status: SUCCESS http://dpdk.org/patch/158483 _Testing PASS_ Submitter: Patrick Robb Date: Wednesday, November 05 2025 19:49:25 DPDK git baseline: Repo:dpdk-next-dts Branch: master CommitID:4f35a61a6a5a31f822c3d7519e8a1de1b7cbd9c4 158483 --> testing pass Upstream job id: Generic-DPDK-Compile-Meson#441748 Test environment and result as below: +------------------------------+--------------------+ | Environment | dpdk_meson_compile | +==============================+====================+ | Ubuntu 20.04 | PASS | +------------------------------+--------------------+ | FreeBSD 14.2 | PASS | +------------------------------+--------------------+ | Red Hat Enterprise Linux 9.5 | PASS | +------------------------------+--------------------+ Ubuntu 20.04 Kernel: 4.19 Compiler: gcc gcc (Ubuntu 9.4.0-1ubuntu1~20.04.2) 9.4.0 FreeBSD 14.2 Kernel: 14.2-RELEASE Compiler: clang 18.1.6 Red Hat Enterprise Linux 9.5 Kernel: 5.15 Compiler: gcc gcc (GCC) 11.5.0 20240719 (Red Hat 11.5.0-2) To view detailed results, visit: https://lab.dpdk.org/results/dashboard/patchsets/34500/ UNH-IOL DPDK Community Lab To manage your email subscriptions, visit: https://lab.dpdk.org/results/dashboard/preferences/subscriptions/