From mboxrd@z Thu Jan 1 00:00:00 1970 Return-Path: Received: from mails.dpdk.org (mails.dpdk.org [217.70.189.124]) by inbox.dpdk.org (Postfix) with ESMTP id E515548A8A for ; Fri, 7 Nov 2025 02:17:38 +0100 (CET) Received: from mails.dpdk.org (localhost [127.0.0.1]) by mails.dpdk.org (Postfix) with ESMTP id CEF4A4013F; Fri, 7 Nov 2025 02:17:38 +0100 (CET) Received: from mail-il1-f225.google.com (mail-il1-f225.google.com [209.85.166.225]) by mails.dpdk.org (Postfix) with ESMTP id 2AD0A4013F for ; Fri, 7 Nov 2025 02:17:37 +0100 (CET) Received: by mail-il1-f225.google.com with SMTP id e9e14a558f8ab-43326c74911so1106895ab.2 for ; Thu, 06 Nov 2025 17:17:37 -0800 (PST) DKIM-Signature: v=1; a=rsa-sha256; c=relaxed/relaxed; d=iol.unh.edu; s=unh-iol; t=1762478256; x=1763083056; darn=dpdk.org; h=references:in-reply-to:cc:to:from:subject:message-id:date:from:to :cc:subject:date:message-id:reply-to; bh=7YIy7Y/+vllE5dKkru5uJ51GiyDBqdNqVxVXM+Ov8h8=; b=ARbNdjg9Z0VIaq3KuKoOln6sfjuCs1zzRHOxq+f9LqIb9kL3UlZ87bMcqZYk3mWufb uty5pEIfsiRMpVKRCeyD2oQlyMlDmdok5O3YhuKRFrh0tBDkasO7YGYAATOpOGQsmLie GAtEnjnxubaFu+jiXA4bDBS1jVCuR8Dcef9Ns= X-Google-DKIM-Signature: v=1; a=rsa-sha256; c=relaxed/relaxed; d=1e100.net; s=20230601; t=1762478256; x=1763083056; h=references:in-reply-to:cc:to:from:subject:message-id:date:x-gm-gg :x-gm-message-state:from:to:cc:subject:date:message-id:reply-to; bh=7YIy7Y/+vllE5dKkru5uJ51GiyDBqdNqVxVXM+Ov8h8=; b=fasza5ctVsgp3SBSxDBYfxL/BgHyxwwuhac5rbN3JL5pnwSlrO0fyXSLqX6lMHd8rp rdKk0iRvq9oRFF7yEt5B8MtC99+z8P4vBmemD3JEys5Wo2GYYcSrYZ4BTYqnTZtFc39M eyR0h5c2visPNkpklsKLocMOYMK0ZdeFx6bad+UpgvaEEBRH7/k3mVlwyE0habB2LSd0 cj4/Luvw2u96sPz0Uq0JUTJXrvoADGmNsMNjRSXCnEdjXO3E6wweZhfc8c4g4cOsRvOS tnX+KGZbh9ksozj84/kfg6skYUrgiGvIe7RyQ/6T77qcthGEf3LzhIccBjfk5yZ4BatN 7Jew== X-Gm-Message-State: AOJu0YwDj6JCHkHI+Xt6pojNp5Pih9JW9UHIIUjSTfWwunTw3rhaYw8/ qkHimvqbANm7Zcm5Z4LM/Blel1y8W9nPh++RzuGIUunGc/I5aNYV4k3YGc/yoZIO44HGKvj3qOb ClbAUqcbejmAPQCF58bn7sLyjjooUR/XCGttdNaCplwIB X-Gm-Gg: ASbGnctdZHdNUxLncpVa/TrOS9vWibXae6jtNTU0tJfHmDIZXemQJdgkQbGsU+c0zYZ tc6YV32rcu740lqyyQkz4m/v/al6/hPf42nh2B17TtKd0k6lL6bxltDoLMXDxej/ZoX/9xFXyYH mZd7cCM/RA5RcPPFNrCPxXenE2J/mubBcDYOOFQqfOikOVCXXkTyTsyk/bjOeiAs1l+usTUIEpi 33Fkscn6aXXyvQiLOSSHcPWteWUUP31NSfjfyW5ZiJEMWBP8/q8TyE/r4MJqhSQmdqRQor6N2LR IXitx46UJN3TLsLR/TNmZ5apjDX5rStSH5bBwkBELPN3C7zQbN8AvxQ8gxVJlC5sz4y2cqwdkPO bHQxSuspisayD1Q2/Bdyg48suEh+tQds= X-Google-Smtp-Source: AGHT+IG32SmsM4vaQfAtFhgfuWFKMR96Mp6+4XvGypr+lv7FPPAP55IhODlwiEt0DAY097YkYdaB+QIEdNnd X-Received: by 2002:a05:6e02:8a:b0:433:4fc9:7b38 with SMTP id e9e14a558f8ab-4335f4a0057mr19487365ab.28.1762478256465; Thu, 06 Nov 2025 17:17:36 -0800 (PST) Received: from postal.iol.unh.edu (postal.iol.unh.edu. [132.177.123.84]) by smtp-relay.gmail.com with ESMTPS id e9e14a558f8ab-4334f4b488fsm3226515ab.22.2025.11.06.17.17.36 (version=TLS1_2 cipher=ECDHE-ECDSA-AES128-GCM-SHA256 bits=128/128); Thu, 06 Nov 2025 17:17:36 -0800 (PST) X-Relaying-Domain: iol.unh.edu Date: Thu, 06 Nov 2025 17:17:36 -0800 (PST) Message-ID: <690d48b0.050a0220.1dd094.0c25SMTPIN_ADDED_MISSING@mx.google.com> Received: from [172.21.0.2] (unknown [172.18.0.240]) by postal.iol.unh.edu (Postfix) with ESMTP id 0BD686051830; Thu, 6 Nov 2025 20:17:36 -0500 (EST) Subject: |SUCCESS| pw158492 [PATCH] [v2] check-spdk: check that tag is on fir From: dpdklab@iol.unh.edu To: Test Report Cc: dpdk-test-reports@iol.unh.edu In-Reply-To: <20251106012200.921242-1-stephen@networkplumber.org> References: <20251106012200.921242-1-stephen@networkplumber.org> Content-Type: text/plain X-BeenThere: test-report@dpdk.org X-Mailman-Version: 2.1.29 Precedence: list List-Id: automatic DPDK test reports List-Unsubscribe: , List-Archive: List-Post: List-Help: List-Subscribe: , Errors-To: test-report-bounces@dpdk.org Test-Label: iol-compile-amd64-testing Test-Status: SUCCESS http://dpdk.org/patch/158492 _Testing PASS_ Submitter: Stephen Hemminger Date: Thursday, November 06 2025 01:22:00 DPDK git baseline: Repo:dpdk Branch: master CommitID:87f7895e470c13e13efd6762d701139d0987294a 158492 --> testing pass Upstream job id: Windows-Compile-DPDK-VS#7455 Test environment and result as below: +-------------------------------+--------------------+------------------+-------------------+ | Environment | dpdk_meson_compile | dpdk_compile_ovs | dpdk_msvc_compile | +===============================+====================+==================+===================+ | Ubuntu 20.04 | PASS | SKIPPED | SKIPPED | +-------------------------------+--------------------+------------------+-------------------+ | FreeBSD 14.2 | PASS | SKIPPED | SKIPPED | +-------------------------------+--------------------+------------------+-------------------+ | CentOS Stream 9 | PASS | SKIPPED | SKIPPED | +-------------------------------+--------------------+------------------+-------------------+ | Fedora Linux 42 | PASS | PASS | SKIPPED | +-------------------------------+--------------------+------------------+-------------------+ | CentOS Stream 10 | PASS | SKIPPED | SKIPPED | +-------------------------------+--------------------+------------------+-------------------+ | Debian GNU/Linux 12 | PASS | SKIPPED | SKIPPED | +-------------------------------+--------------------+------------------+-------------------+ | Ubuntu 24.04 | PASS | PASS | SKIPPED | +-------------------------------+--------------------+------------------+-------------------+ | Red Hat Enterprise Linux 8.10 | PASS | SKIPPED | SKIPPED | +-------------------------------+--------------------+------------------+-------------------+ | Red Hat Enterprise Linux 9.5 | PASS | SKIPPED | SKIPPED | +-------------------------------+--------------------+------------------+-------------------+ | openSUSE Leap 15.6 | PASS | SKIPPED | SKIPPED | +-------------------------------+--------------------+------------------+-------------------+ | Alpine Linux 3.22.0 | PASS | SKIPPED | SKIPPED | +-------------------------------+--------------------+------------------+-------------------+ | Ubuntu 22.04 | PASS | SKIPPED | SKIPPED | +-------------------------------+--------------------+------------------+-------------------+ | Windows Server 2022 | SKIPPED | SKIPPED | PASS | +-------------------------------+--------------------+------------------+-------------------+ Ubuntu 20.04 Kernel: 4.19 Compiler: gcc gcc (Ubuntu 9.4.0-1ubuntu1~20.04.2) 9.4.0 FreeBSD 14.2 Kernel: 14.2-RELEASE Compiler: clang 18.1.6 CentOS Stream 9 Kernel: 5.15 Compiler: gcc gcc (GCC) 11.5.0 20240719 (Red Hat 11.5.0-11) Fedora Linux 42 Kernel: 5.15 Compiler: clang gcc (GCC) 15.2.1 20250808 (Red Hat 15.2.1-1) CentOS Stream 10 Kernel: 5.15 Compiler: gcc gcc (GCC) 14.2.1 20250110 (Red Hat 14.2.1-8) Debian GNU/Linux 12 Kernel: 5.15 Compiler: gcc gcc (Debian 12.2.0-14+deb12u1) 12.2.0 Ubuntu 24.04 Kernel: 5.15 Compiler: gcc gcc (Ubuntu 13.3.0-6ubuntu2~24.04) 13.3.0 Red Hat Enterprise Linux 8.10 Kernel: 5.15 Compiler: gcc gcc (GCC) 8.5.0 20210514 (Red Hat 8.5.0-22) Red Hat Enterprise Linux 9.5 Kernel: 5.15 Compiler: gcc gcc (GCC) 11.5.0 20240719 (Red Hat 11.5.0-2) openSUSE Leap 15.6 Kernel: 5.15 Compiler: gcc gcc (SUSE Linux) 7.5.0 Alpine Linux 3.22.0 Kernel: 5.15 Compiler: gcc gcc (Alpine 14.2.0) 14.2.0 Ubuntu 22.04 Kernel: 5.15 Compiler: gcc gcc (Ubuntu 11.4.0-1ubuntu1~22.04) 11.4.0 Windows Server 2022 Kernel: 10.0.20348.2031 Compiler: clang 15.0.7, gcc 14.1.0 (MinGW), and MSVC VS 19.39.33521 To view detailed results, visit: https://lab.dpdk.org/results/dashboard/patchsets/34495/ UNH-IOL DPDK Community Lab To manage your email subscriptions, visit: https://lab.dpdk.org/results/dashboard/preferences/subscriptions/