From mboxrd@z Thu Jan 1 00:00:00 1970 Return-Path: Received: from mails.dpdk.org (mails.dpdk.org [217.70.189.124]) by inbox.dpdk.org (Postfix) with ESMTP id 54AE648A8A for ; Fri, 7 Nov 2025 02:21:37 +0100 (CET) Received: from mails.dpdk.org (localhost [127.0.0.1]) by mails.dpdk.org (Postfix) with ESMTP id 501D54013F; Fri, 7 Nov 2025 02:21:37 +0100 (CET) Received: from mail-qt1-f226.google.com (mail-qt1-f226.google.com [209.85.160.226]) by mails.dpdk.org (Postfix) with ESMTP id DA8814013F for ; Fri, 7 Nov 2025 02:21:35 +0100 (CET) Received: by mail-qt1-f226.google.com with SMTP id d75a77b69052e-4ecf03363c9so2021641cf.1 for ; Thu, 06 Nov 2025 17:21:35 -0800 (PST) DKIM-Signature: v=1; a=rsa-sha256; c=relaxed/relaxed; d=iol.unh.edu; s=unh-iol; t=1762478495; x=1763083295; darn=dpdk.org; h=references:in-reply-to:cc:to:from:subject:message-id:date:from:to :cc:subject:date:message-id:reply-to; bh=/HvvTc72PknKWBIruwkkWu66VjfHP73Bwiv/jkqmjeA=; b=WtOxr2Dz3EMmMY2fhha9dwvtLnq4dAfjhDsCbrJdtdkbxGmYoZT85bUd57mW1GGHzt u2h3luUOzgSoWywKErLGFXF34o3bPHnyBHJ665BT8F7RFLX4VQHk74p/XFWyiEzxPNR1 08B+iWU4d1gDB6hRJz0Tv5LDgc74UzNC8bM6E= X-Google-DKIM-Signature: v=1; a=rsa-sha256; c=relaxed/relaxed; d=1e100.net; s=20230601; t=1762478495; x=1763083295; h=references:in-reply-to:cc:to:from:subject:message-id:date:x-gm-gg :x-gm-message-state:from:to:cc:subject:date:message-id:reply-to; bh=/HvvTc72PknKWBIruwkkWu66VjfHP73Bwiv/jkqmjeA=; b=G6LPYpNVMLlpsTeI8MEjfy1w7dEvArNinFqGETnm5BOqekXAOV5qXS8Hrxz2lTZvou PYuyoTNYeSxV/oJSKPdND8MoaR4mmFwYW6yhqLTATVnK4WmZwd33BFaaN5fvQkECitAI g0Aq5siCLavShWNWUqom38B3LsZimsQY6ieWrP2LfINw/WHkR7TgwIbwUlBE5cwbsk+r kFZIkDUqMou5sb7YO1tsvpfJNfVEY7UVqw0Za8T3CQVRQYVyYcksvX8l+hzrNAz5UNjH m2x6wYCndiCyw7UCconuWk3WkKqLiEvuAWoN1Of+1M2EpXLk8lVwncrIthtsvnPz2Rhu 2iqw== X-Gm-Message-State: AOJu0YzaCec9h6jAIXBfRZnbB+NfS8JJ7+EfDxhxVy2A6TCQW+cq4iBo HOXxEzWZJOrqkY1sj5nBKT+X2MNZbkgKukOZVArmDcBlLJzop9loFnapCzthpLNh72N9l2uLdCL yB3EZWXsj0J8pPzJfejh2pRLsVik2XoV3KcAMmvXWTpam X-Gm-Gg: ASbGncvUkav6hZO8X0pk7HwglzfbvBq7PJAFlSBQV4mz08k4ca71mxRkiBHnkTtEFHG yFmw3/A2WPV92iiXvmsIiqxB4EQF/ySDrIsrQrhIXdsS5N4CknC8JPbbT/shR23cO9yy5Khl86t Nfydxvps/J7yt0ZQAy9G/IQFBfYWGJi+aFIi7IiGvhWR72mf5X1zh8fYBP3c+oX3w6DIIPwn1sV UYLZ/ihh6qcOcnvmZSFuPyVpL2L890F/IFcCJQ+b9Kx/S7muJh9E+oVH1pV4Y1TrOfR1NXy3uhO Uhnaa6oPiDm9NgPB7IW2KqI3tC7DpMTshv+6U9dWDNi2MjNt9p2Afz21vBht85wX5pC1tTge91B wBWDvSz6PX77z7cVuPZc7rpnOcQDmOVQ= X-Google-Smtp-Source: AGHT+IFYQGxafkVwO6qiqxS9AzYr6CwSQ9fHg5XGPSzVQ9qWdwz4dJJGuJn40WLiXutScjXs1A62QqEYjVMb X-Received: by 2002:ac8:5810:0:b0:4e8:a1eb:3e2d with SMTP id d75a77b69052e-4ed949398d0mr20352791cf.2.1762478495268; Thu, 06 Nov 2025 17:21:35 -0800 (PST) Received: from postal.iol.unh.edu (postal.iol.unh.edu. [132.177.123.84]) by smtp-relay.gmail.com with ESMTPS id d75a77b69052e-4ed812ef319sm2245681cf.4.2025.11.06.17.21.35 (version=TLS1_2 cipher=ECDHE-ECDSA-AES128-GCM-SHA256 bits=128/128); Thu, 06 Nov 2025 17:21:35 -0800 (PST) X-Relaying-Domain: iol.unh.edu Date: Thu, 06 Nov 2025 17:21:35 -0800 (PST) Message-ID: <690d499f.050a0220.3652fd.c52aSMTPIN_ADDED_MISSING@mx.google.com> Received: from [172.21.0.2] (unknown [172.18.0.240]) by postal.iol.unh.edu (Postfix) with ESMTP id D47CC6051830; Thu, 6 Nov 2025 20:21:34 -0500 (EST) Subject: |SUCCESS| pw158493-158494 [PATCH] [v4,2/2] net/mlx5: support PF repr From: dpdklab@iol.unh.edu To: Test Report Cc: dpdk-test-reports@iol.unh.edu, Stephen Hemminger In-Reply-To: <20251106055246.360824-2-getelson@nvidia.com> References: <20251106055246.360824-2-getelson@nvidia.com> Content-Type: text/plain X-BeenThere: test-report@dpdk.org X-Mailman-Version: 2.1.29 Precedence: list List-Id: automatic DPDK test reports List-Unsubscribe: , List-Archive: List-Post: List-Help: List-Subscribe: , Errors-To: test-report-bounces@dpdk.org Test-Label: iol-compile-amd64-testing Test-Status: SUCCESS http://dpdk.org/patch/158494 _Testing PASS_ Submitter: Gregory Etelson Date: Thursday, November 06 2025 05:52:45 DPDK git baseline: Repo:dpdk-next-net Branch: master CommitID:591ee7f468aebec30d68d30afa8d5e4dcfc897dc 158493-158494 --> testing pass Upstream job id: Windows-Compile-DPDK-Native#32186 Test environment and result as below: +-------------------------------+--------------------+------------------+-------------------+-------------------------+----------------------+ | Environment | dpdk_meson_compile | dpdk_compile_ovs | dpdk_msvc_compile | dpdk_llvm_clang_compile | dpdk_mingw64_compile | +===============================+====================+==================+===================+=========================+======================+ | CentOS Stream 9 | PASS | SKIPPED | SKIPPED | SKIPPED | SKIPPED | +-------------------------------+--------------------+------------------+-------------------+-------------------------+----------------------+ | Debian GNU/Linux 12 | PASS | SKIPPED | SKIPPED | SKIPPED | SKIPPED | +-------------------------------+--------------------+------------------+-------------------+-------------------------+----------------------+ | openSUSE Leap 15.6 | PASS | SKIPPED | SKIPPED | SKIPPED | SKIPPED | +-------------------------------+--------------------+------------------+-------------------+-------------------------+----------------------+ | CentOS Stream 10 | PASS | SKIPPED | SKIPPED | SKIPPED | SKIPPED | +-------------------------------+--------------------+------------------+-------------------+-------------------------+----------------------+ | Fedora Linux 42 | PASS | PASS | SKIPPED | SKIPPED | SKIPPED | +-------------------------------+--------------------+------------------+-------------------+-------------------------+----------------------+ | Ubuntu 20.04 | PASS | SKIPPED | SKIPPED | SKIPPED | SKIPPED | +-------------------------------+--------------------+------------------+-------------------+-------------------------+----------------------+ | Red Hat Enterprise Linux 8.10 | PASS | SKIPPED | SKIPPED | SKIPPED | SKIPPED | +-------------------------------+--------------------+------------------+-------------------+-------------------------+----------------------+ | Red Hat Enterprise Linux 9.5 | PASS | SKIPPED | SKIPPED | SKIPPED | SKIPPED | +-------------------------------+--------------------+------------------+-------------------+-------------------------+----------------------+ | FreeBSD 14.2 | PASS | SKIPPED | SKIPPED | SKIPPED | SKIPPED | +-------------------------------+--------------------+------------------+-------------------+-------------------------+----------------------+ | Ubuntu 22.04 | PASS | SKIPPED | SKIPPED | SKIPPED | SKIPPED | +-------------------------------+--------------------+------------------+-------------------+-------------------------+----------------------+ | Alpine Linux 3.22.0 | PASS | SKIPPED | SKIPPED | SKIPPED | SKIPPED | +-------------------------------+--------------------+------------------+-------------------+-------------------------+----------------------+ | Ubuntu 24.04 | PASS | PASS | SKIPPED | SKIPPED | SKIPPED | +-------------------------------+--------------------+------------------+-------------------+-------------------------+----------------------+ | Windows Server 2022 | SKIPPED | SKIPPED | PASS | PASS | PASS | +-------------------------------+--------------------+------------------+-------------------+-------------------------+----------------------+ CentOS Stream 9 Kernel: 5.15 Compiler: gcc gcc (GCC) 11.5.0 20240719 (Red Hat 11.5.0-11) Debian GNU/Linux 12 Kernel: 5.15 Compiler: gcc gcc (Debian 12.2.0-14+deb12u1) 12.2.0 openSUSE Leap 15.6 Kernel: 5.15 Compiler: gcc gcc (SUSE Linux) 7.5.0 CentOS Stream 10 Kernel: 5.15 Compiler: gcc gcc (GCC) 14.2.1 20250110 (Red Hat 14.2.1-8) Fedora Linux 42 Kernel: 5.15 Compiler: clang gcc (GCC) 15.2.1 20250808 (Red Hat 15.2.1-1) Ubuntu 20.04 Kernel: 5.15 Compiler: gcc gcc (Ubuntu 9.4.0-1ubuntu1~20.04.2) 9.4.0 Red Hat Enterprise Linux 8.10 Kernel: 5.15 Compiler: gcc gcc (GCC) 8.5.0 20210514 (Red Hat 8.5.0-22) Red Hat Enterprise Linux 9.5 Kernel: 5.15 Compiler: gcc gcc (GCC) 11.5.0 20240719 (Red Hat 11.5.0-2) FreeBSD 14.2 Kernel: 14.2-RELEASE Compiler: clang 18.1.6 Ubuntu 22.04 Kernel: 5.15 Compiler: gcc gcc (Ubuntu 11.4.0-1ubuntu1~22.04) 11.4.0 Alpine Linux 3.22.0 Kernel: 5.15 Compiler: gcc gcc (Alpine 14.2.0) 14.2.0 Ubuntu 24.04 Kernel: 5.15 Compiler: gcc gcc (Ubuntu 13.3.0-6ubuntu2~24.04) 13.3.0 Windows Server 2022 Kernel: 10.0.20348.2031 Compiler: clang 15.0.7, gcc 14.1.0 (MinGW), and MSVC VS 19.39.33521 To view detailed results, visit: https://lab.dpdk.org/results/dashboard/patchsets/34494/ UNH-IOL DPDK Community Lab To manage your email subscriptions, visit: https://lab.dpdk.org/results/dashboard/preferences/subscriptions/