From mboxrd@z Thu Jan 1 00:00:00 1970 Return-Path: Received: from mails.dpdk.org (mails.dpdk.org [217.70.189.124]) by inbox.dpdk.org (Postfix) with ESMTP id 1E16B48A8A for ; Fri, 7 Nov 2025 02:29:13 +0100 (CET) Received: from mails.dpdk.org (localhost [127.0.0.1]) by mails.dpdk.org (Postfix) with ESMTP id 19DB74013F; Fri, 7 Nov 2025 02:29:13 +0100 (CET) Received: from mail-il1-f228.google.com (mail-il1-f228.google.com [209.85.166.228]) by mails.dpdk.org (Postfix) with ESMTP id 035AD4013F for ; Fri, 7 Nov 2025 02:29:12 +0100 (CET) Received: by mail-il1-f228.google.com with SMTP id e9e14a558f8ab-4330d2ea04eso931775ab.3 for ; Thu, 06 Nov 2025 17:29:11 -0800 (PST) DKIM-Signature: v=1; a=rsa-sha256; c=relaxed/relaxed; d=iol.unh.edu; s=unh-iol; t=1762478951; x=1763083751; darn=dpdk.org; h=references:in-reply-to:cc:to:from:subject:message-id:date:from:to :cc:subject:date:message-id:reply-to; bh=VsDTHQfKz8IvZ3Nqpv4ghLdrZt6wdqbC6w6uhgMWBJY=; b=LSOu+a30JusF3BwSXrSUtsOlM1Jmo9gMmrbM2uPQtobE+gS5QKV7y5dimzb1pjFiIj Xg1aRGcGHjc/9u8wieNPYz73rBMZD30Z5OVj8ygpusXSdSm3xCidtUYKLXex8PIvoPcc zpE6luLOOSjwu6VI+zcnrcx7DJrpxng8W3ZXQ= X-Google-DKIM-Signature: v=1; a=rsa-sha256; c=relaxed/relaxed; d=1e100.net; s=20230601; t=1762478951; x=1763083751; h=references:in-reply-to:cc:to:from:subject:message-id:date:x-gm-gg :x-gm-message-state:from:to:cc:subject:date:message-id:reply-to; bh=VsDTHQfKz8IvZ3Nqpv4ghLdrZt6wdqbC6w6uhgMWBJY=; b=mk35nzdgMZCt9cyLiWi/bZuSHuw1yolt1rJbeRqBnxEj7GuKNzdjUG+Enda6llQEHI r3vUv2UeMgl/uRV3SCGPHXwT3f4IKVvHE1x/vrKq63dalhmmsFGdYZgh0rUCAzr6rl+U 5zZsY3lzdf6eaQ7BvTMCj5ARwJRwXnLWpMKzEm/ZSS6cPZp4UnghUsQ1Zw/mBErUr3v4 RMJQ7fCORcPJ4umgrg0dhvVx7vnc8IiDkx4u7Rf7VOBoYFHgM3HBC+Y92KaLy9g1Rvbz /SZQpa7v0YLAEgBauBI/rVGgHBOfL91/24ZzPxOGIGetnV8ufwjnc8Jh3CTjztWnRH4M 69Lw== X-Gm-Message-State: AOJu0YzJIYemoOPm47k+Fk9urNFGhuBX2TQqQjn9z1S6GZdGr79y8tiI jTX6DNOtI6RX19VVpG/4uiNWs1q+aZxrKeKhAWnve+ur+wtG0mJwxksIWy70TliESPISX460lcK TAzS5RR3b0Ow4zHji/awSKDg5WVGzfCXtnob9L559BTZ3 X-Gm-Gg: ASbGncvbsk452vtPGzZnWrAW2KrtoRCzVEcoGB1zA0Hv1t86YVvYHGqeRX8OzUMtIEI e4pC6a5yuUIuJHSU6nzyG6pYQ//D5ysvVLgD0vjWY9bOfgrOB0szCj0OpAHwOiy7HivpvqdI4Uk zrcDdk4i6xRPwrb5L7QEzFxAHGoZTjfpDoQ4Hp3T8f+5ynAU5P493DsrkBwDFjxC0j9kNDnypo1 L0sG+P0p1Ex/xa64MgpdTBcJWJre1mheT425+PDjFWUlMEk2hLDoXPBzSWZxOerc7hYFFbeJszW TjLUO+dMJK0VmSLrRAqBDdzNEBCUkwMmH8bdXaClZ+svussZj5fdXjDavzUbNh8oxom4VewzRb1 lRAy9S+fAEmsU212eSLWu7o7Y8d37+pQ= X-Google-Smtp-Source: AGHT+IEpBGj8wsgWKzbVuZvdImUQuIjZngHn5jEbwkL13F2SCDXmBR0zjhbNgqxUEune/eRFWRXnv7McM2XQ X-Received: by 2002:a05:6e02:1a64:b0:433:290f:c201 with SMTP id e9e14a558f8ab-4335f3d0389mr23664865ab.11.1762478951301; Thu, 06 Nov 2025 17:29:11 -0800 (PST) Received: from postal.iol.unh.edu (postal.iol.unh.edu. [132.177.123.84]) by smtp-relay.gmail.com with ESMTPS id 8926c6da1cb9f-5b74676efaesm380580173.16.2025.11.06.17.29.11 (version=TLS1_2 cipher=ECDHE-ECDSA-AES128-GCM-SHA256 bits=128/128); Thu, 06 Nov 2025 17:29:11 -0800 (PST) X-Relaying-Domain: iol.unh.edu Date: Thu, 06 Nov 2025 17:29:11 -0800 (PST) Message-ID: <690d4b67.050a0220.2e1561.40abSMTPIN_ADDED_MISSING@mx.google.com> Received: from [172.21.0.3] (unknown [172.18.0.240]) by postal.iol.unh.edu (Postfix) with ESMTP id D91426051835; Thu, 6 Nov 2025 20:29:10 -0500 (EST) Subject: |SUCCESS| pw158492 [PATCH] [v2] check-spdk: check that tag is on fir From: dpdklab@iol.unh.edu To: Test Report Cc: dpdk-test-reports@iol.unh.edu In-Reply-To: <20251106012200.921242-1-stephen@networkplumber.org> References: <20251106012200.921242-1-stephen@networkplumber.org> Content-Type: text/plain X-BeenThere: test-report@dpdk.org X-Mailman-Version: 2.1.29 Precedence: list List-Id: automatic DPDK test reports List-Unsubscribe: , List-Archive: List-Post: List-Help: List-Subscribe: , Errors-To: test-report-bounces@dpdk.org Test-Label: iol-unit-amd64-testing Test-Status: SUCCESS http://dpdk.org/patch/158492 _Testing PASS_ Submitter: Stephen Hemminger Date: Thursday, November 06 2025 01:22:00 DPDK git baseline: Repo:dpdk Branch: master CommitID:87f7895e470c13e13efd6762d701139d0987294a 158492 --> testing pass Upstream job id: Generic-VM-Unit-Test-DPDK#32361 Test environment and result as below: +-------------------------------+----------------+ | Environment | dpdk_unit_test | +===============================+================+ | Fedora Linux 40 | PASS | +-------------------------------+----------------+ | CentOS Stream 9 | PASS | +-------------------------------+----------------+ | Ubuntu 24.04 | PASS | +-------------------------------+----------------+ | Debian GNU/Linux 12 | PASS | +-------------------------------+----------------+ | CentOS Stream 10 | PASS | +-------------------------------+----------------+ | Fedora Linux 41 | PASS | +-------------------------------+----------------+ | Ubuntu 22.04 | PASS | +-------------------------------+----------------+ | Red Hat Enterprise Linux 9.5 | PASS | +-------------------------------+----------------+ | Fedora Linux 42 | PASS | +-------------------------------+----------------+ | Red Hat Enterprise Linux 8.10 | PASS | +-------------------------------+----------------+ | Ubuntu 20.04 | PASS | +-------------------------------+----------------+ | Windows Server 2022 | PASS | +-------------------------------+----------------+ Fedora Linux 40 Kernel: 5.15 Compiler: gcc gcc (GCC) 14.2.1 20240912 (Red Hat 14.2.1-3) CentOS Stream 9 Kernel: 5.15 Compiler: gcc gcc (GCC) 11.5.0 20240719 (Red Hat 11.5.0-11) Ubuntu 24.04 Kernel: 5.15 Compiler: gcc gcc (Ubuntu 13.3.0-6ubuntu2~24.04) 13.3.0 Debian GNU/Linux 12 Kernel: 5.15 Compiler: gcc gcc (Debian 12.2.0-14+deb12u1) 12.2.0 CentOS Stream 10 Kernel: 5.15 Compiler: gcc gcc (GCC) 14.2.1 20250110 (Red Hat 14.2.1-8) Fedora Linux 41 Kernel: 5.15 Compiler: gcc gcc (GCC) 14.3.1 20250523 (Red Hat 14.3.1-1) Ubuntu 22.04 Kernel: 5.15 Compiler: gcc gcc (Ubuntu 11.4.0-1ubuntu1~22.04) 11.4.0 Red Hat Enterprise Linux 9.5 Kernel: 5.15 Compiler: gcc gcc (GCC) 11.5.0 20240719 (Red Hat 11.5.0-2) Fedora Linux 42 Kernel: 5.15 Compiler: gcc gcc (GCC) 15.2.1 20250808 (Red Hat 15.2.1-1) Red Hat Enterprise Linux 8.10 Kernel: 5.15 Compiler: gcc gcc (GCC) 8.5.0 20210514 (Red Hat 8.5.0-22) Ubuntu 20.04 Kernel: 5.15 Compiler: gcc gcc (Ubuntu 9.4.0-1ubuntu1~20.04.2) 9.4.0 Windows Server 2022 Kernel: 10.0.20348.2031 Compiler: clang 15.0.7, gcc 14.1.0 (MinGW), and MSVC VS 19.39.33521 To view detailed results, visit: https://lab.dpdk.org/results/dashboard/patchsets/34495/ UNH-IOL DPDK Community Lab To manage your email subscriptions, visit: https://lab.dpdk.org/results/dashboard/preferences/subscriptions/