From mboxrd@z Thu Jan 1 00:00:00 1970 Return-Path: Received: from mails.dpdk.org (mails.dpdk.org [217.70.189.124]) by inbox.dpdk.org (Postfix) with ESMTP id 2C64C48A8A for ; Fri, 7 Nov 2025 02:45:13 +0100 (CET) Received: from mails.dpdk.org (localhost [127.0.0.1]) by mails.dpdk.org (Postfix) with ESMTP id 23F134013F; Fri, 7 Nov 2025 02:45:13 +0100 (CET) Received: from mail-io1-f98.google.com (mail-io1-f98.google.com [209.85.166.98]) by mails.dpdk.org (Postfix) with ESMTP id 75B494013F for ; Fri, 7 Nov 2025 02:45:11 +0100 (CET) Received: by mail-io1-f98.google.com with SMTP id ca18e2360f4ac-9487e2b9622so21843039f.2 for ; Thu, 06 Nov 2025 17:45:11 -0800 (PST) DKIM-Signature: v=1; a=rsa-sha256; c=relaxed/relaxed; d=iol.unh.edu; s=unh-iol; t=1762479911; x=1763084711; darn=dpdk.org; h=references:in-reply-to:cc:to:from:subject:message-id:date:from:to :cc:subject:date:message-id:reply-to; bh=APZxi7aiTBDs9pIoIF+3alYDCi4DS8KPCUTHw7sP3zc=; b=SvFhmEOdTWg6fjSf6Q/m9xoUKiXu4GOb6GaRMlsK2gkC0IWX4l+k/zjU/06P0oeS+I a+DgzDhVmuNUMy4Kb5nm2L+0ZYLO1e/5OJRPQ3YPtI/+15gXIB2x6fWQ0YEj545nZPT7 Qcf7ndv/WgbWjLKF1U0ehcvILTE7nSG/v3Khs= X-Google-DKIM-Signature: v=1; a=rsa-sha256; c=relaxed/relaxed; d=1e100.net; s=20230601; t=1762479911; x=1763084711; h=references:in-reply-to:cc:to:from:subject:message-id:date:x-gm-gg :x-gm-message-state:from:to:cc:subject:date:message-id:reply-to; bh=APZxi7aiTBDs9pIoIF+3alYDCi4DS8KPCUTHw7sP3zc=; b=hd5Bmfri2Pdb3L2odKztGfjmA0QfU5fc3Cukfb8vxt+SKox3Xep3bDwtDp09kMcJ9Q VqNLTO0cUOoG2FAhW3LB+VkICexsqT1cNe70WuLSP01++ymdSbRnSBbQzZJVFyGwVy4z gsN650yB30DN0gtG2sFYKZsa2DlocGM89n+n1m4NzysfEm9HNUlftVPrd6ztfBtN9uIk wa63PHZ/+k7LJ0yNJtDWAUo7tQHnitjaB4NXIczx27M4IwM/i7yCeqCdHYlVG1NG7/mg kJURHtZ7LfZFRXPDJCIqAYbd8mM/gAUTM13wYMHo3pU5ZZxJvBmV37xACqQUucwYcQ3W PMsA== X-Gm-Message-State: AOJu0YwaC2PzOyOUGQf/NaCizuEccB/nMg9VeW8XhSujWJscBjbs7qdv SLv6DCW2IDB+veTY5Wz3CKrEw0Mg/QGotGQ6C2Igf+J7G0wQM2wRoFcKtMaN0JxYrEUvDUG9lPF hmIxon8Y0/ZlLveT7rMJoeF01aqFmU67L7mBAKL744t0B X-Gm-Gg: ASbGnct6HGxDw3Hgsjcs+hy+zijaQ51W/lKm/OK4wF2BtS1QBI3CG2Dnvnxynemzapj UjdS4ehtxqM1fDXTNgVHZCJoJ2xmpMwC99KAu8GOd9CRUzZsz/DWjhccGU+h9QlfLo34KYu79dc fHpRm/fi9YKSxiD6s+5CCSgE6CcIxe19PxwX/f7d/nZz0Xsp+V/6aS9ti/kXNxo5cc4Q/IZRFtU SoCVOntxOnu20vs+Ag7IVE2WbtZG+JwEd6+3p434JzownweUbwnpuBgEDuoUSyRCpUftHiAqCkA gLYDbeTQl+OXgX+8W2neFasdGy8L37HFRZyk9EO0DBZu7QHbHX7F2uC9baNk2gRDDmfS8vEnjYp oLM4zzxVBj1x6EgQPjRYqUyKv1qXZ7JE= X-Google-Smtp-Source: AGHT+IFH97GZIxAqRLMOCJ8vra6P89Jyot3cpiYBHNpPnMRr5q1JEsqk1/U8PY2a0PftJSMvjeeDxPn755oF X-Received: by 2002:a92:cdaf:0:b0:433:4fb4:edc9 with SMTP id e9e14a558f8ab-4335f3f9656mr26269275ab.11.1762479910801; Thu, 06 Nov 2025 17:45:10 -0800 (PST) Received: from postal.iol.unh.edu (postal.iol.unh.edu. [132.177.123.84]) by smtp-relay.gmail.com with ESMTPS id e9e14a558f8ab-4334f4bca2dsm3209155ab.26.2025.11.06.17.45.10 (version=TLS1_2 cipher=ECDHE-ECDSA-AES128-GCM-SHA256 bits=128/128); Thu, 06 Nov 2025 17:45:10 -0800 (PST) X-Relaying-Domain: iol.unh.edu Date: Thu, 06 Nov 2025 17:45:10 -0800 (PST) Message-ID: <690d4f26.050a0220.1ab7b2.0bb7SMTPIN_ADDED_MISSING@mx.google.com> Received: from [172.21.0.3] (unknown [172.18.0.240]) by postal.iol.unh.edu (Postfix) with ESMTP id 5EDB96051830; Thu, 6 Nov 2025 20:45:10 -0500 (EST) Subject: |SUCCESS| pw158492 [PATCH] [v2] check-spdk: check that tag is on fir From: dpdklab@iol.unh.edu To: Test Report Cc: dpdk-test-reports@iol.unh.edu In-Reply-To: <20251106012200.921242-1-stephen@networkplumber.org> References: <20251106012200.921242-1-stephen@networkplumber.org> Content-Type: text/plain X-BeenThere: test-report@dpdk.org X-Mailman-Version: 2.1.29 Precedence: list List-Id: automatic DPDK test reports List-Unsubscribe: , List-Archive: List-Post: List-Help: List-Subscribe: , Errors-To: test-report-bounces@dpdk.org Test-Label: iol-unit-amd64-testing Test-Status: SUCCESS http://dpdk.org/patch/158492 _Testing PASS_ Submitter: Stephen Hemminger Date: Thursday, November 06 2025 01:22:00 DPDK git baseline: Repo:dpdk Branch: master CommitID:87f7895e470c13e13efd6762d701139d0987294a 158492 --> testing pass Upstream job id: Generic-VM-Unit-Test-DPDK#32362 Test environment and result as below: +-------------------------------+----------------+ | Environment | dpdk_unit_test | +===============================+================+ | Fedora Linux 40 | PASS | +-------------------------------+----------------+ | CentOS Stream 9 | PASS | +-------------------------------+----------------+ | Ubuntu 24.04 | PASS | +-------------------------------+----------------+ | Debian GNU/Linux 12 | PASS | +-------------------------------+----------------+ | CentOS Stream 10 | PASS | +-------------------------------+----------------+ | Fedora Linux 41 | PASS | +-------------------------------+----------------+ | Ubuntu 22.04 | PASS | +-------------------------------+----------------+ | Red Hat Enterprise Linux 9.5 | PASS | +-------------------------------+----------------+ | Fedora Linux 42 | PASS | +-------------------------------+----------------+ | Red Hat Enterprise Linux 8.10 | PASS | +-------------------------------+----------------+ | Ubuntu 20.04 | PASS | +-------------------------------+----------------+ | Windows Server 2022 | PASS | +-------------------------------+----------------+ Fedora Linux 40 Kernel: 5.15 Compiler: gcc gcc (GCC) 14.2.1 20240912 (Red Hat 14.2.1-3) CentOS Stream 9 Kernel: 5.15 Compiler: gcc gcc (GCC) 11.5.0 20240719 (Red Hat 11.5.0-11) Ubuntu 24.04 Kernel: 5.15 Compiler: gcc gcc (Ubuntu 13.3.0-6ubuntu2~24.04) 13.3.0 Debian GNU/Linux 12 Kernel: 5.15 Compiler: gcc gcc (Debian 12.2.0-14+deb12u1) 12.2.0 CentOS Stream 10 Kernel: 5.15 Compiler: gcc gcc (GCC) 14.2.1 20250110 (Red Hat 14.2.1-8) Fedora Linux 41 Kernel: 5.15 Compiler: gcc gcc (GCC) 14.3.1 20250523 (Red Hat 14.3.1-1) Ubuntu 22.04 Kernel: 5.15 Compiler: gcc gcc (Ubuntu 11.4.0-1ubuntu1~22.04) 11.4.0 Red Hat Enterprise Linux 9.5 Kernel: 5.15 Compiler: gcc gcc (GCC) 11.5.0 20240719 (Red Hat 11.5.0-2) Fedora Linux 42 Kernel: 5.15 Compiler: gcc gcc (GCC) 15.2.1 20250808 (Red Hat 15.2.1-1) Red Hat Enterprise Linux 8.10 Kernel: 5.15 Compiler: gcc gcc (GCC) 8.5.0 20210514 (Red Hat 8.5.0-22) Ubuntu 20.04 Kernel: 5.15 Compiler: gcc gcc (Ubuntu 9.4.0-1ubuntu1~20.04.2) 9.4.0 Windows Server 2022 Kernel: 10.0.20348.2031 Compiler: clang 15.0.7, gcc 14.1.0 (MinGW), and MSVC VS 19.39.33521 To view detailed results, visit: https://lab.dpdk.org/results/dashboard/patchsets/34495/ UNH-IOL DPDK Community Lab To manage your email subscriptions, visit: https://lab.dpdk.org/results/dashboard/preferences/subscriptions/