From mboxrd@z Thu Jan 1 00:00:00 1970 Return-Path: Received: from mails.dpdk.org (mails.dpdk.org [217.70.189.124]) by inbox.dpdk.org (Postfix) with ESMTP id 471B548A8A for ; Fri, 7 Nov 2025 03:08:58 +0100 (CET) Received: from mails.dpdk.org (localhost [127.0.0.1]) by mails.dpdk.org (Postfix) with ESMTP id 4050A4013F; Fri, 7 Nov 2025 03:08:58 +0100 (CET) Received: from mail-qt1-f227.google.com (mail-qt1-f227.google.com [209.85.160.227]) by mails.dpdk.org (Postfix) with ESMTP id A27FB4013F for ; Fri, 7 Nov 2025 03:08:56 +0100 (CET) Received: by mail-qt1-f227.google.com with SMTP id d75a77b69052e-4e89de04d62so2324061cf.0 for ; Thu, 06 Nov 2025 18:08:56 -0800 (PST) DKIM-Signature: v=1; a=rsa-sha256; c=relaxed/relaxed; d=iol.unh.edu; s=unh-iol; t=1762481336; x=1763086136; darn=dpdk.org; h=references:in-reply-to:cc:to:from:subject:message-id:date:from:to :cc:subject:date:message-id:reply-to; bh=TJEYpPk0Nz4R+pEmvlwl9bmKRaS7UyGEgmBhT9I+MOA=; b=EefItz6i7Q6ZpnkQccUmiRnMYIOHQsfneJ3ofQYEITxtc3qH+VA8MuevEsh22jQfuK /10C0dydM2fcCgaiHaMbftRowHEUSgyRtcX3evt4ukiT6x6hA2B1Ng2XvM5+NuzJN8f+ MYIyPYQg+AF1AsVYmy40hU/UFbmK0iTcbjQQs= X-Google-DKIM-Signature: v=1; a=rsa-sha256; c=relaxed/relaxed; d=1e100.net; s=20230601; t=1762481336; x=1763086136; h=references:in-reply-to:cc:to:from:subject:message-id:date:x-gm-gg :x-gm-message-state:from:to:cc:subject:date:message-id:reply-to; bh=TJEYpPk0Nz4R+pEmvlwl9bmKRaS7UyGEgmBhT9I+MOA=; b=e3awcc16CKvLQqdSR5Y0j0LzLn2XTBs+vRkP87j56jW1Yr7WLrLIEhJL/JXycq+CWp +OsWnduEX3JYL8oC22loTprlUcAWg7sZogz6ypmIy7oB+CLocmVY7vj4S7Hng/2jexnK s4PZFMI/9l19x8wKsuZGG69o9mcVT1F9BTpR7sFLzSZAvbfLhBKYdKV1GVdcxehVjR20 XUfnaigcb4iaZmfkS/3hFzxPebZ33Fw72O3dGU9YlzfvlC3WOLjMzfXqBuQvTEmQj+9M lJa6A8RAG4yDUIZdDL1NzehKIiYWEb40spwlufPkjnkJNTAc0wdCSxSTag68p6D1Y8aP 8heA== X-Gm-Message-State: AOJu0YxPDj/Rm9toRzScog6JitsLWYgwWeiEL7f+eLrQV/iL/U3lENPl LvTqmXd6RIDQtq0a0+hmpywxzJcA3GwMO576sMI8EN2IFe4xXulQ4hY5CHEXcd8KGqu3lul7bjh sscv0CnFwXIIIGhHqbQDsuovHRyMk3iaBje+hR6qxiGmz42OvwLqBJ/ShwLRw X-Gm-Gg: ASbGncvqCPC9HK0SaAUcoROLef6oo+t2APSku08m9JrCbmSIAXwIr8GWFetgWvQLAVf UWjKzk/iZrfuYhv6PlXpJLFNcWk66EltN52j8el0Mb0ba2qVkbdRRH702R+G14OEO07x4+AnVGa sA/BEXlG7Ph5xBrxd8Boi1T6VOLd0QdmIqinPxGlXvE6uFjDRwJvhHgzp5/9W0WPRvWYTaYQfRT SxHWy37rS2FLvUJS+vBDGOxViCy9l3K7PEx1QcNIHb2ZAAMU1EF5tj2lGdTZ0gRsY+3tEimu338 er8eZ1/wIEsSOhc8767ao1nOW7V95cl5AwT54N4MIWTy24JfOq/dD2aF1X/pH0A6PrDOiAusn6R 7JgrVyMoq X-Google-Smtp-Source: AGHT+IG31BKbiKgJf8JtU6pY0fImnnCJKZOTsXYluSasuWzxmRIfVNEgYukUa46zRdE45tQpiKjfFZ6WdIcQ X-Received: by 2002:a05:622a:1308:b0:4ed:685e:f3d3 with SMTP id d75a77b69052e-4ed94a83c3emr18829781cf.81.1762481335958; Thu, 06 Nov 2025 18:08:55 -0800 (PST) Received: from postal.iol.unh.edu (postal.iol.unh.edu. [2606:4100:3880:1234::84]) by smtp-relay.gmail.com with ESMTPS id d75a77b69052e-4ed812df65esm2877811cf.1.2025.11.06.18.08.55 (version=TLS1_2 cipher=ECDHE-ECDSA-AES128-GCM-SHA256 bits=128/128); Thu, 06 Nov 2025 18:08:55 -0800 (PST) X-Relaying-Domain: iol.unh.edu Date: Thu, 06 Nov 2025 18:08:55 -0800 (PST) Message-ID: <690d54b7.050a0220.31c58c.efcdSMTPIN_ADDED_MISSING@mx.google.com> Received: from [172.21.0.2] (unknown [172.18.0.240]) by postal.iol.unh.edu (Postfix) with ESMTP id AC7A66051830; Thu, 6 Nov 2025 21:08:55 -0500 (EST) Subject: |SUCCESS| pw158529-158531 [PATCH] [3/3] bus/fslmc: add support for h From: dpdklab@iol.unh.edu To: Test Report Cc: dpdk-test-reports@iol.unh.edu, Stephen Hemminger In-Reply-To: <20251106163807.201451-3-hemant.agrawal@nxp.com> References: <20251106163807.201451-3-hemant.agrawal@nxp.com> Content-Type: text/plain X-BeenThere: test-report@dpdk.org X-Mailman-Version: 2.1.29 Precedence: list List-Id: automatic DPDK test reports List-Unsubscribe: , List-Archive: List-Post: List-Help: List-Subscribe: , Errors-To: test-report-bounces@dpdk.org Test-Label: iol-compile-arm64-testing Test-Status: SUCCESS http://dpdk.org/patch/158531 _Testing PASS_ Submitter: Hemant Agrawal Date: Thursday, November 06 2025 16:38:07 DPDK git baseline: Repo:dpdk-next-net Branch: master CommitID:591ee7f468aebec30d68d30afa8d5e4dcfc897dc 158529-158531 --> testing pass Upstream job id: Generic-DPDK-Compile-Meson#441542 Test environment and result as below: +------------------------------+--------------------+ | Environment | dpdk_meson_compile | +==============================+====================+ | Ubuntu 20.04 | PASS | +------------------------------+--------------------+ | Red Hat Enterprise Linux 9.5 | PASS | +------------------------------+--------------------+ | Fedora Linux 42 | PASS | +------------------------------+--------------------+ | Ubuntu 24.04 | PASS | +------------------------------+--------------------+ | Ubuntu 22.04 | PASS | +------------------------------+--------------------+ | CentOS Stream 10 | PASS | +------------------------------+--------------------+ | Debian GNU/Linux 12 | PASS | +------------------------------+--------------------+ | CentOS Stream 9 | PASS | +------------------------------+--------------------+ Ubuntu 20.04 Kernel: 5.15 Compiler: aarch64-linux-gnu-gcc gcc (Ubuntu 9.4.0-1ubuntu1~20.04.2) 9.4.0 Red Hat Enterprise Linux 9.5 Kernel: 5.4 Compiler: gcc gcc (GCC) 11.5.0 20240719 (Red Hat 11.5.0-2) Fedora Linux 42 Kernel: 5.4 Compiler: gcc gcc (GCC) 15.2.1 20250808 (Red Hat 15.2.1-1) Ubuntu 24.04 Kernel: 5.4 Compiler: gcc gcc (Ubuntu 13.3.0-6ubuntu2~24.04) 13.3.0 Ubuntu 22.04 Kernel: 5.4 Compiler: gcc gcc (Ubuntu 11.4.0-1ubuntu1~22.04) 11.4.0 CentOS Stream 10 Kernel: 5.4 Compiler: gcc gcc (GCC) 14.2.1 20250110 (Red Hat 14.2.1-8) Debian GNU/Linux 12 Kernel: 5.4 Compiler: gcc gcc (Debian 12.2.0-14+deb12u1) 12.2.0 CentOS Stream 9 Kernel: 5.4 Compiler: gcc gcc (GCC) 11.5.0 20240719 (Red Hat 11.5.0-11) To view detailed results, visit: https://lab.dpdk.org/results/dashboard/patchsets/34489/ UNH-IOL DPDK Community Lab To manage your email subscriptions, visit: https://lab.dpdk.org/results/dashboard/preferences/subscriptions/