From mboxrd@z Thu Jan 1 00:00:00 1970 Return-Path: Received: from mails.dpdk.org (mails.dpdk.org [217.70.189.124]) by inbox.dpdk.org (Postfix) with ESMTP id 5FB5148A8A for ; Fri, 7 Nov 2025 03:09:31 +0100 (CET) Received: from mails.dpdk.org (localhost [127.0.0.1]) by mails.dpdk.org (Postfix) with ESMTP id 53C304013F; Fri, 7 Nov 2025 03:09:31 +0100 (CET) Received: from mail-io1-f100.google.com (mail-io1-f100.google.com [209.85.166.100]) by mails.dpdk.org (Postfix) with ESMTP id C49714013F for ; Fri, 7 Nov 2025 03:09:29 +0100 (CET) Received: by mail-io1-f100.google.com with SMTP id ca18e2360f4ac-93e2d42d9b4so9434239f.2 for ; Thu, 06 Nov 2025 18:09:29 -0800 (PST) DKIM-Signature: v=1; a=rsa-sha256; c=relaxed/relaxed; d=iol.unh.edu; s=unh-iol; t=1762481369; x=1763086169; darn=dpdk.org; h=references:in-reply-to:cc:to:from:subject:message-id:date:from:to :cc:subject:date:message-id:reply-to; bh=Wgx2YSa4e/TnHoBNKav3f/W4BTb+fBnuzAdhbeuUsUg=; b=Wf6+w8EveNcVnH4VMySjrGi8uyGvDbjsOweonF3EPNhwzZRlGLFj22S1AwNG3yyKjG Bs6Kyphe+61A+DDX6lLMukPAMZ3l4ncrVic3HSawacMnANb8t1Pjh4eVFn5HXZ9+TcWb 1V+qkr6bMyODYSsnTHvTbFFHvmAmPIswbPUxE= X-Google-DKIM-Signature: v=1; a=rsa-sha256; c=relaxed/relaxed; d=1e100.net; s=20230601; t=1762481369; x=1763086169; h=references:in-reply-to:cc:to:from:subject:message-id:date:x-gm-gg :x-gm-message-state:from:to:cc:subject:date:message-id:reply-to; bh=Wgx2YSa4e/TnHoBNKav3f/W4BTb+fBnuzAdhbeuUsUg=; b=nm1ZwzyJpHrGmfjnSA/+Kw01p+0tFAY58kwK8zbnacEMKbziCYMCywiV3hkTBWXfCB 9f2NcOXjRI0NyFDbGkmXzScHJm734vpZ6y0LLM7O49cBK6mS6YVfmUZfMHzn7LEQX984 ZYpizv8rzKOz1eb9FP+AT4iuIpAAji35v9W7Ca+Y49cNvcmMf7eQshCG3/TnwS5CLrXZ 1FbO+giFjg0z47EUCO5V2SHSnL6TjZ/PeHn4uJN5TPY/RJ6oHFqUuqAcU/fcE/pB+j60 dcMItMu13EgYrgXTe3cngNP1q51u65TFYee5C23g+Ul8stu4CScbddWKEYG58N2EV3F6 vsQA== X-Gm-Message-State: AOJu0YwGdrTIcP62kvEvJG61C/KCIGywTv8f1YUxzSQD6Ex0ak7gG4zG 2vkqaU4od/Oe/KLduigl4DAMIc6g7mBxGYUsU581DyLuiGvWlyPWiIdWdWTtfrF562r0Hy8zSQt 9dIT7Q0MMGCMW0xOQMm7s81so3P+Ae2qzqLFmKo+hyLui X-Gm-Gg: ASbGncvMJVJlFS9U5jA37XyRUXFyzNLWEFoVw9B4br/SSTmLpsrq7VNkqL+eZy7WcPs mCTIwfqIOcuohZxTwGkhpT0rKGAremkfvHWwRHCo0MvF0SQgnlTtw3H/dM81VP+EChvfNDm9Xmm 0aq5+47Ju2bix4Vytq4xKkckMKYOrTbxGob4qQPngi0PSCYS/v7Ym54cWXWy4yVtc3CsIfoL0aT EhNTN5YyNobZL1lLt4ouXvBFtr0wHtkpGE4qP4D3Ojm1S+LxqJDhO9x+Qh2sCqP/F6uJ2GKunTN w+l8AF/S9YgGDLMTqsX5bwAxgYvswTzrzNn5lQSKM7c6xA/vbWSThABZKOwtnErvFr09ZNdrs2O EVSQH1cVwHX6zT+aUnHf6/6sQNjxDSOU= X-Google-Smtp-Source: AGHT+IHzpYjX8rAdhsv/DJJCgnNhiZKoGoSI74PMz6rt6Sr28kVUNpKBTSRvQIwuPjrDPGAHb1N0+1xXGrOF X-Received: by 2002:a05:6602:7287:b0:93b:da4b:d0a3 with SMTP id ca18e2360f4ac-948890bd000mr229490339f.19.1762481369077; Thu, 06 Nov 2025 18:09:29 -0800 (PST) Received: from postal.iol.unh.edu (postal.iol.unh.edu. [132.177.123.84]) by smtp-relay.gmail.com with ESMTPS id 8926c6da1cb9f-5b746872602sm414077173.20.2025.11.06.18.09.28 (version=TLS1_2 cipher=ECDHE-ECDSA-AES128-GCM-SHA256 bits=128/128); Thu, 06 Nov 2025 18:09:29 -0800 (PST) X-Relaying-Domain: iol.unh.edu Date: Thu, 06 Nov 2025 18:09:29 -0800 (PST) Message-ID: <690d54d9.050a0220.2779fc.5632SMTPIN_ADDED_MISSING@mx.google.com> Received: from [172.21.0.7] (unknown [172.18.0.240]) by postal.iol.unh.edu (Postfix) with ESMTP id AD3166051830; Thu, 6 Nov 2025 21:09:28 -0500 (EST) Subject: |SUCCESS| pw158532 [PATCH] net/ice: adjust RSS LUT settings From: dpdklab@iol.unh.edu To: Test Report Cc: dpdk-test-reports@iol.unh.edu, Bruce Richardson In-Reply-To: <20251106171736.163516-1-vladimir.medvedkin@intel.com> References: <20251106171736.163516-1-vladimir.medvedkin@intel.com> Content-Type: text/plain X-BeenThere: test-report@dpdk.org X-Mailman-Version: 2.1.29 Precedence: list List-Id: automatic DPDK test reports List-Unsubscribe: , List-Archive: List-Post: List-Help: List-Subscribe: , Errors-To: test-report-bounces@dpdk.org Test-Label: iol-compile-arm64-testing Test-Status: SUCCESS http://dpdk.org/patch/158532 _Testing PASS_ Submitter: Vladimir Medvedkin Date: Thursday, November 06 2025 17:17:36 DPDK git baseline: Repo:dpdk-next-net-intel Branch: master CommitID:2a7bebfa5b488f8c49c9c63f2b7b7ce5cc088560 158532 --> testing pass Upstream job id: Generic-DPDK-Compile-Meson#441591 Test environment and result as below: +------------------------------+--------------------+ | Environment | dpdk_meson_compile | +==============================+====================+ | Red Hat Enterprise Linux 9.5 | PASS | +------------------------------+--------------------+ | Ubuntu 20.04 | PASS | +------------------------------+--------------------+ | Debian GNU/Linux 12 | PASS | +------------------------------+--------------------+ | Fedora Linux 42 | PASS | +------------------------------+--------------------+ | Ubuntu 22.04 | PASS | +------------------------------+--------------------+ | Ubuntu 24.04 | PASS | +------------------------------+--------------------+ | CentOS Stream 9 | PASS | +------------------------------+--------------------+ | CentOS Stream 10 | PASS | +------------------------------+--------------------+ Red Hat Enterprise Linux 9.5 Kernel: 5.4 Compiler: gcc gcc (GCC) 11.5.0 20240719 (Red Hat 11.5.0-2) Ubuntu 20.04 Kernel: 5.15 Compiler: aarch64-linux-gnu-gcc gcc (Ubuntu 9.4.0-1ubuntu1~20.04.2) 9.4.0 Debian GNU/Linux 12 Kernel: 5.4 Compiler: gcc gcc (Debian 12.2.0-14+deb12u1) 12.2.0 Fedora Linux 42 Kernel: 5.4 Compiler: gcc gcc (GCC) 15.2.1 20250808 (Red Hat 15.2.1-1) Ubuntu 22.04 Kernel: 5.4 Compiler: gcc gcc (Ubuntu 11.4.0-1ubuntu1~22.04) 11.4.0 Ubuntu 24.04 Kernel: 5.4 Compiler: gcc gcc (Ubuntu 13.3.0-6ubuntu2~24.04) 13.3.0 CentOS Stream 9 Kernel: 5.4 Compiler: gcc gcc (GCC) 11.5.0 20240719 (Red Hat 11.5.0-11) CentOS Stream 10 Kernel: 5.4 Compiler: gcc gcc (GCC) 14.2.1 20250110 (Red Hat 14.2.1-8) To view detailed results, visit: https://lab.dpdk.org/results/dashboard/patchsets/34491/ UNH-IOL DPDK Community Lab To manage your email subscriptions, visit: https://lab.dpdk.org/results/dashboard/preferences/subscriptions/