From mboxrd@z Thu Jan 1 00:00:00 1970 Return-Path: Received: from mails.dpdk.org (mails.dpdk.org [217.70.189.124]) by inbox.dpdk.org (Postfix) with ESMTP id 94F2148A8A for ; Fri, 7 Nov 2025 03:10:13 +0100 (CET) Received: from mails.dpdk.org (localhost [127.0.0.1]) by mails.dpdk.org (Postfix) with ESMTP id 869994013F; Fri, 7 Nov 2025 03:10:13 +0100 (CET) Received: from mail-pf1-f228.google.com (mail-pf1-f228.google.com [209.85.210.228]) by mails.dpdk.org (Postfix) with ESMTP id C949E4013F for ; Fri, 7 Nov 2025 03:10:11 +0100 (CET) Received: by mail-pf1-f228.google.com with SMTP id d2e1a72fcca58-7af6a6f20easo245760b3a.0 for ; Thu, 06 Nov 2025 18:10:11 -0800 (PST) DKIM-Signature: v=1; a=rsa-sha256; c=relaxed/relaxed; d=iol.unh.edu; s=unh-iol; t=1762481411; x=1763086211; darn=dpdk.org; h=references:in-reply-to:cc:to:from:subject:message-id:date:from:to :cc:subject:date:message-id:reply-to; bh=hFD4+6YkWq6+CrpWpiHbnIRpPQYcdgSTAkplCWNT+fI=; b=XvQQ/dHgnskBw+02IvzB00bVwFH3HP6ap4n/tjhmKWe+PRsIWu6ThnrR+ReS0FQ5DM 62lHEgY7HlCQ9GiE+fRc4RIS3rJVEbEEOw/EhEnaIEcXL473hBAHiNHggpteidVNDdah XlT6zjz0dz4PRG4AeTP/NdHe1R7ek8CcCA1VI= X-Google-DKIM-Signature: v=1; a=rsa-sha256; c=relaxed/relaxed; d=1e100.net; s=20230601; t=1762481411; x=1763086211; h=references:in-reply-to:cc:to:from:subject:message-id:date:x-gm-gg :x-gm-message-state:from:to:cc:subject:date:message-id:reply-to; bh=hFD4+6YkWq6+CrpWpiHbnIRpPQYcdgSTAkplCWNT+fI=; b=pax26FJi8uuuLJlJRiBWNOn+ueJ0YZ/ld+5HxM6ewFDkFwOBb59xCzeD7BPoL+dlUS QdZqV7hGJ7dt7woO4py4BNbCXSwCbRATzeP6+x3Il2DX1CY2UdgV4CMhP/ab7rQqy2BU k99cVB3Q3cwlqKKMZ0prmYnnFkHcBxJDDvx/WiPnuq0MI7CSbfC5uYQcVTHXoEJ/fQ0F JTbrVn/MX42LfX0YBKKZ59upNVBl1PQO5PIaB/+qaMfqkjsehWvw12S1uDKxsnLEXh0t xyUwQ5AOMCdmH57VakjZhZ3HhccRBDQpelOQte9V7iPHg3zPEJanvzyjM6We1s0EWU/s Llww== X-Gm-Message-State: AOJu0Yw60d7ed4RTwmbZrMH/pKZtiF+HKup9aqDnkhNi7g3uCOGhsaC4 saK7nb0aD7gQQO1HawPgehhmk5IgtombCLxsYeWNEAVb280gHczSBYQxSmmDTJTnyApKToTuw4C LQxMRPkuQ0OCTng8Y/XW6/ooId1rf2t4GT6YOgRB9KZ6uk9dy/Tz4NRBFCBKq X-Gm-Gg: ASbGncukmp0vFaM6Odk69gDd00n1Phy/sqlMuHtlE8UpKf1zT4ot69e+ZDnNhEFGD3h J585QkYDdAtbbmJw1EDGBFGWK46HpqQRwMLwj27mVxVPjNzS0Wurxq5VLJlXQTf+TFvrFVhkeLk Juh1XgZmDBGdtr+EyhrJjlGb+6ZNNM4JuHcuW6s4bZa2wlXhWQOUZZGH+y4tgAS8MOsEe95kiI3 EEiecLLfXP6+GCAKrRPZi5IP1SbFIG0rvZIiN9Sy1CjamENZQQY/t58Sr/NyspRaZ1YzIjO93nz Qh/Jp/EGN+GULvcXbFSpDpIn0/r9SfXw4mnPvemavwjDk6T6UCoBz9eqvilMILtXBeoZUVJWN/C /qRDeg4TJ X-Google-Smtp-Source: AGHT+IGLRy3MrRSF4s9r2cctCD4IZ56HVNeGBL0kso8CelwnBBFZMG2YeS/Qh+AQUK47iXgA1ouq16vS32MD X-Received: by 2002:a05:6a00:3ccf:b0:7a2:81fe:b742 with SMTP id d2e1a72fcca58-7b0bbb0c990mr2416751b3a.12.1762481411013; Thu, 06 Nov 2025 18:10:11 -0800 (PST) Received: from postal.iol.unh.edu (postal.iol.unh.edu. [2606:4100:3880:1234::84]) by smtp-relay.gmail.com with ESMTPS id d2e1a72fcca58-7b0c9c07d9fsm105471b3a.3.2025.11.06.18.10.10 (version=TLS1_2 cipher=ECDHE-ECDSA-AES128-GCM-SHA256 bits=128/128); Thu, 06 Nov 2025 18:10:11 -0800 (PST) X-Relaying-Domain: iol.unh.edu Date: Thu, 06 Nov 2025 18:10:11 -0800 (PST) Message-ID: <690d5503.050a0220.2335c6.5a27SMTPIN_ADDED_MISSING@mx.google.com> Received: from [172.21.0.9] (unknown [172.18.0.240]) by postal.iol.unh.edu (Postfix) with ESMTP id 4B5256051830; Thu, 6 Nov 2025 21:10:10 -0500 (EST) Subject: |SUCCESS| pw158533 [PATCH] [v3] dts: add test case docstring checks From: dpdklab@iol.unh.edu To: Test Report Cc: dpdk-test-reports@iol.unh.edu In-Reply-To: <20251106181355.209706-1-dmarx@iol.unh.edu> References: <20251106181355.209706-1-dmarx@iol.unh.edu> Content-Type: text/plain X-BeenThere: test-report@dpdk.org X-Mailman-Version: 2.1.29 Precedence: list List-Id: automatic DPDK test reports List-Unsubscribe: , List-Archive: List-Post: List-Help: List-Subscribe: , Errors-To: test-report-bounces@dpdk.org Test-Label: iol-compile-arm64-testing Test-Status: SUCCESS http://dpdk.org/patch/158533 _Testing PASS_ Submitter: Dean Marx Date: Thursday, November 06 2025 18:13:55 DPDK git baseline: Repo:dpdk-next-dts Branch: master CommitID:4f35a61a6a5a31f822c3d7519e8a1de1b7cbd9c4 158533 --> testing pass Upstream job id: Generic-DPDK-Compile-Meson#441618 Test environment and result as below: +------------------------------+--------------------+ | Environment | dpdk_meson_compile | +==============================+====================+ | Red Hat Enterprise Linux 9.5 | PASS | +------------------------------+--------------------+ | Ubuntu 20.04 | PASS | +------------------------------+--------------------+ | Debian GNU/Linux 12 | PASS | +------------------------------+--------------------+ | Fedora Linux 42 | PASS | +------------------------------+--------------------+ | Ubuntu 22.04 | PASS | +------------------------------+--------------------+ | Ubuntu 24.04 | PASS | +------------------------------+--------------------+ | CentOS Stream 9 | PASS | +------------------------------+--------------------+ | CentOS Stream 10 | PASS | +------------------------------+--------------------+ Red Hat Enterprise Linux 9.5 Kernel: 5.4 Compiler: gcc gcc (GCC) 11.5.0 20240719 (Red Hat 11.5.0-2) Ubuntu 20.04 Kernel: 5.15 Compiler: aarch64-linux-gnu-gcc gcc (Ubuntu 9.4.0-1ubuntu1~20.04.2) 9.4.0 Debian GNU/Linux 12 Kernel: 5.4 Compiler: gcc gcc (Debian 12.2.0-14+deb12u1) 12.2.0 Fedora Linux 42 Kernel: 5.4 Compiler: gcc gcc (GCC) 15.2.1 20250808 (Red Hat 15.2.1-1) Ubuntu 22.04 Kernel: 5.4 Compiler: gcc gcc (Ubuntu 11.4.0-1ubuntu1~22.04) 11.4.0 Ubuntu 24.04 Kernel: 5.4 Compiler: gcc gcc (Ubuntu 13.3.0-6ubuntu2~24.04) 13.3.0 CentOS Stream 9 Kernel: 5.4 Compiler: gcc gcc (GCC) 11.5.0 20240719 (Red Hat 11.5.0-11) CentOS Stream 10 Kernel: 5.4 Compiler: gcc gcc (GCC) 14.2.1 20250110 (Red Hat 14.2.1-8) To view detailed results, visit: https://lab.dpdk.org/results/dashboard/patchsets/34492/ UNH-IOL DPDK Community Lab To manage your email subscriptions, visit: https://lab.dpdk.org/results/dashboard/preferences/subscriptions/