From mboxrd@z Thu Jan 1 00:00:00 1970 Return-Path: Received: from mails.dpdk.org (mails.dpdk.org [217.70.189.124]) by inbox.dpdk.org (Postfix) with ESMTP id 3B86248A8A for ; Fri, 7 Nov 2025 03:12:30 +0100 (CET) Received: from mails.dpdk.org (localhost [127.0.0.1]) by mails.dpdk.org (Postfix) with ESMTP id 367654013F; Fri, 7 Nov 2025 03:12:30 +0100 (CET) Received: from mail-io1-f99.google.com (mail-io1-f99.google.com [209.85.166.99]) by mails.dpdk.org (Postfix) with ESMTP id 3385C4013F for ; Fri, 7 Nov 2025 03:12:29 +0100 (CET) Received: by mail-io1-f99.google.com with SMTP id ca18e2360f4ac-9486d008fdbso10372339f.1 for ; Thu, 06 Nov 2025 18:12:29 -0800 (PST) DKIM-Signature: v=1; a=rsa-sha256; c=relaxed/relaxed; d=iol.unh.edu; s=unh-iol; t=1762481548; x=1763086348; darn=dpdk.org; h=references:in-reply-to:cc:to:from:subject:message-id:date:from:to :cc:subject:date:message-id:reply-to; bh=FH157avn2H1CErbubSbUB8wWXJhj2+Q1mAm0aC8wedY=; b=e/NydDCsbOZEA1fFDHN4IEajq3WEUIr6jnLoLASVikxc757adGGx47/90fGTzXlj9p iw5I6f2nr3OBl77CmN8Pcc//ie3R5NqL2elayBFYNwKE6Y6zW5zKzRF9DghBLxZCHLdU eBfo+4KXbBwFm9HzxSruZN+bWiIToTtqGziA4= X-Google-DKIM-Signature: v=1; a=rsa-sha256; c=relaxed/relaxed; d=1e100.net; s=20230601; t=1762481548; x=1763086348; h=references:in-reply-to:cc:to:from:subject:message-id:date:x-gm-gg :x-gm-message-state:from:to:cc:subject:date:message-id:reply-to; bh=FH157avn2H1CErbubSbUB8wWXJhj2+Q1mAm0aC8wedY=; b=ceZwCnCSsLBvSrmUr5bD/M++qNNw07m2xPkOipavPXFh/q5cHjhzemxWmGhJo4GPuR spIqqKG8RJCSJ2HLbW1zSaSCzS3EeAs3xMhGwI5Io5S7125xO7RbKWWgc3FafsXqyI3v 4x002in1eC8QHJBowe/XxLjSXey0wqpthFrXh5mMnjrG9wynNbTHEqhto9fEsDjcSme2 QdCAIJ0AJM7chz6WCDdGGDKIs9iGhUBE1d86MnMqRLAF/hoYaPYZpkDv0Va7XDAh0H6Z oLEtX/6pi6Vv7G4ktWj8oFOahR6bGunqvMmotgfS+gEL3R5biX43IWcey77IZt3iklaw O1Hw== X-Gm-Message-State: AOJu0Yy1oOMvirwpizn9RcP3dB7klIa1zCfjb4mBGUl88koHd209sQ1z dBrWU5yJDA59v55GWz6H8KjcN+0Xg92svyT+JEEfDuSEuKXlpm1syOWGAUHM7ZcZeQd/RMu6Vfg vA3UrDKerNoFfQ1gam6l79Asw8B2A717AWlNHk6j1E6Nb X-Gm-Gg: ASbGnctd/iWfELA60Du19M2DEqbFp+DLcN6Vhm7Y9zW9mumcrog4tJYpqXh1PXAd+kg 8Q4/1Z0MDNz+SA0DhH0aYe9GzqXk8ER8jnPle1xqFYGFL4uNF1R2Occk4IorbggLVOLCBdLaugj 5kn7A0BiLxYjd1NtHSf2AuPMR4oi/DM07emTTrRORoZxnyCWmtvvML33t9ZGUmMi2NYBSwon+7T Q4nzRiht1TCk7A0WMLC9NVBhMrUFY5wsv9uWMAx+ZuVJ48nt4bld0AhsIb69raJAlS2T9wdB0WF YS6+E+r8ZGj4AogVz5nClWBBV+ls/FDhMcngl1eijCcns2ZQ0qI78POzFkMJHi9t8wGuDb8STw/ uGhHuNuDFHTPDPNSU6kERlK7tWd6/oS8= X-Google-Smtp-Source: AGHT+IEjRYOGNFXnasL2EJ8zE8f7VAVKz18h0voA7cfGOEVl7qEsKh4VqwrEWGaDzHLDnv0mq2Jnd8nM1PA5 X-Received: by 2002:a05:6602:4919:b0:943:5954:d9da with SMTP id ca18e2360f4ac-9488d9f9d91mr6205239f.8.1762481548502; Thu, 06 Nov 2025 18:12:28 -0800 (PST) Received: from postal.iol.unh.edu (postal.iol.unh.edu. [132.177.123.84]) by smtp-relay.gmail.com with ESMTPS id 8926c6da1cb9f-5b74676efaesm387649173.16.2025.11.06.18.12.28 (version=TLS1_2 cipher=ECDHE-ECDSA-AES128-GCM-SHA256 bits=128/128); Thu, 06 Nov 2025 18:12:28 -0800 (PST) X-Relaying-Domain: iol.unh.edu Date: Thu, 06 Nov 2025 18:12:28 -0800 (PST) Message-ID: <690d558c.050a0220.2e1561.4613SMTPIN_ADDED_MISSING@mx.google.com> Received: from [172.21.0.4] (unknown [172.18.0.240]) by postal.iol.unh.edu (Postfix) with ESMTP id 061216051830; Thu, 6 Nov 2025 21:12:28 -0500 (EST) Subject: |SUCCESS| pw158490-158491 [PATCH] [2/2] app/testpmd: fix wrong Rx qu From: dpdklab@iol.unh.edu To: Test Report Cc: dpdk-test-reports@iol.unh.edu, Stephen Hemminger In-Reply-To: <20251106002920.6162-3-fengchengwen@huawei.com> References: <20251106002920.6162-3-fengchengwen@huawei.com> Content-Type: text/plain X-BeenThere: test-report@dpdk.org X-Mailman-Version: 2.1.29 Precedence: list List-Id: automatic DPDK test reports List-Unsubscribe: , List-Archive: List-Post: List-Help: List-Subscribe: , Errors-To: test-report-bounces@dpdk.org Test-Label: iol-compile-amd64-testing Test-Status: SUCCESS http://dpdk.org/patch/158491 _Testing PASS_ Submitter: fengchengwen Date: Thursday, November 06 2025 00:29:20 DPDK git baseline: Repo:dpdk-next-net Branch: master CommitID:591ee7f468aebec30d68d30afa8d5e4dcfc897dc 158490-158491 --> testing pass Upstream job id: Windows-Compile-DPDK-VS#7456 Test environment and result as below: +-------------------------------+--------------------+------------------+-------------------+ | Environment | dpdk_meson_compile | dpdk_compile_ovs | dpdk_msvc_compile | +===============================+====================+==================+===================+ | Ubuntu 20.04 | PASS | SKIPPED | SKIPPED | +-------------------------------+--------------------+------------------+-------------------+ | FreeBSD 14.2 | PASS | SKIPPED | SKIPPED | +-------------------------------+--------------------+------------------+-------------------+ | CentOS Stream 9 | PASS | SKIPPED | SKIPPED | +-------------------------------+--------------------+------------------+-------------------+ | CentOS Stream 10 | PASS | SKIPPED | SKIPPED | +-------------------------------+--------------------+------------------+-------------------+ | Debian GNU/Linux 12 | PASS | SKIPPED | SKIPPED | +-------------------------------+--------------------+------------------+-------------------+ | Fedora Linux 42 | PASS | PASS | SKIPPED | +-------------------------------+--------------------+------------------+-------------------+ | Red Hat Enterprise Linux 8.10 | PASS | SKIPPED | SKIPPED | +-------------------------------+--------------------+------------------+-------------------+ | openSUSE Leap 15.6 | PASS | SKIPPED | SKIPPED | +-------------------------------+--------------------+------------------+-------------------+ | Red Hat Enterprise Linux 9.5 | PASS | SKIPPED | SKIPPED | +-------------------------------+--------------------+------------------+-------------------+ | Ubuntu 22.04 | PASS | SKIPPED | SKIPPED | +-------------------------------+--------------------+------------------+-------------------+ | Ubuntu 24.04 | PASS | PASS | SKIPPED | +-------------------------------+--------------------+------------------+-------------------+ | Alpine Linux 3.22.0 | PASS | SKIPPED | SKIPPED | +-------------------------------+--------------------+------------------+-------------------+ | Windows Server 2022 | SKIPPED | SKIPPED | PASS | +-------------------------------+--------------------+------------------+-------------------+ Ubuntu 20.04 Kernel: 4.19 Compiler: gcc gcc (Ubuntu 9.4.0-1ubuntu1~20.04.2) 9.4.0 FreeBSD 14.2 Kernel: 14.2-RELEASE Compiler: clang 18.1.6 CentOS Stream 9 Kernel: 5.15 Compiler: gcc gcc (GCC) 11.5.0 20240719 (Red Hat 11.5.0-11) CentOS Stream 10 Kernel: 5.15 Compiler: gcc gcc (GCC) 14.2.1 20250110 (Red Hat 14.2.1-8) Debian GNU/Linux 12 Kernel: 5.15 Compiler: gcc gcc (Debian 12.2.0-14+deb12u1) 12.2.0 Fedora Linux 42 Kernel: 5.15 Compiler: clang gcc (GCC) 15.2.1 20250808 (Red Hat 15.2.1-1) Red Hat Enterprise Linux 8.10 Kernel: 5.15 Compiler: gcc gcc (GCC) 8.5.0 20210514 (Red Hat 8.5.0-22) openSUSE Leap 15.6 Kernel: 5.15 Compiler: gcc gcc (SUSE Linux) 7.5.0 Red Hat Enterprise Linux 9.5 Kernel: 5.15 Compiler: gcc gcc (GCC) 11.5.0 20240719 (Red Hat 11.5.0-2) Ubuntu 22.04 Kernel: 5.15 Compiler: gcc gcc (Ubuntu 11.4.0-1ubuntu1~22.04) 11.4.0 Ubuntu 24.04 Kernel: 5.15 Compiler: gcc gcc (Ubuntu 13.3.0-6ubuntu2~24.04) 13.3.0 Alpine Linux 3.22.0 Kernel: 5.15 Compiler: gcc gcc (Alpine 14.2.0) 14.2.0 Windows Server 2022 Kernel: 10.0.20348.2031 Compiler: clang 15.0.7, gcc 14.1.0 (MinGW), and MSVC VS 19.39.33521 To view detailed results, visit: https://lab.dpdk.org/results/dashboard/patchsets/34496/ UNH-IOL DPDK Community Lab To manage your email subscriptions, visit: https://lab.dpdk.org/results/dashboard/preferences/subscriptions/