From mboxrd@z Thu Jan 1 00:00:00 1970 Return-Path: Received: from mails.dpdk.org (mails.dpdk.org [217.70.189.124]) by inbox.dpdk.org (Postfix) with ESMTP id ED22348A8C for ; Fri, 7 Nov 2025 04:49:23 +0100 (CET) Received: from mails.dpdk.org (localhost [127.0.0.1]) by mails.dpdk.org (Postfix) with ESMTP id CBD1D4013F; Fri, 7 Nov 2025 04:49:23 +0100 (CET) Received: from mail-io1-f97.google.com (mail-io1-f97.google.com [209.85.166.97]) by mails.dpdk.org (Postfix) with ESMTP id 3794A4013F for ; Fri, 7 Nov 2025 04:49:22 +0100 (CET) Received: by mail-io1-f97.google.com with SMTP id ca18e2360f4ac-9487e2b9622so27402739f.2 for ; Thu, 06 Nov 2025 19:49:22 -0800 (PST) DKIM-Signature: v=1; a=rsa-sha256; c=relaxed/relaxed; d=iol.unh.edu; s=unh-iol; t=1762487361; x=1763092161; darn=dpdk.org; h=references:in-reply-to:cc:to:from:subject:message-id:date:from:to :cc:subject:date:message-id:reply-to; bh=yk7ZNWMD0zSHH6hPBy6I8bNZQifszvU2NFNQ+aDBM70=; b=iwvRYd6wGdDMCAfqC7xFtQ2jufsd6lp7+uFO2ctMAjwuqiPDTXyvL2xr4sRJU5xQu4 8fwDJwyl6gzxQ5oze519n7LdVlrFaReZzvZGwAPy7B2/L5btvy/2Sgdux2ICo+6fCkkV voJ4PlbSaPkfjJ7AFTM8CqxGcHhiyPAZXewjU= X-Google-DKIM-Signature: v=1; a=rsa-sha256; c=relaxed/relaxed; d=1e100.net; s=20230601; t=1762487361; x=1763092161; h=references:in-reply-to:cc:to:from:subject:message-id:date:x-gm-gg :x-gm-message-state:from:to:cc:subject:date:message-id:reply-to; bh=yk7ZNWMD0zSHH6hPBy6I8bNZQifszvU2NFNQ+aDBM70=; b=iNCAIs2zNsV8nAXjCc+rJMneZReKGi34C8wA8vixJItTNBFMIbbvrGZLv/rq2myNGh bd1d56jWDY42+Pk8mulDD/Un2sUcVTcuvJUTakTQ6emmA2JIrwLCDlp5e0BmL9Ro2FTO egIMQXEy/ljYp51Bi8bOZVe5/MzWouohQUIaxBfU5fPlWpaJ8maBQ+WlZe0nIVDhtNb6 jl7k7fK+Oi7gMeBAEFAadDSiI6ztpZQMJijIjCpzhaKo+yP9q5n/30y8gPmal983OUj+ kBKJzlWtkrRybyhTn8eG0DgoLb6EQ+B8ipdyjlcqm1vEyXxkWvEdilBPJvgwno73bfvr VsVw== X-Gm-Message-State: AOJu0YxKLz026Y36g14N/TPbqLjDI/7z8ClIauejscEeY6i+n97A+GlH VHNtwBhE4ZAj72+BAOO+HfRo09LcEt02JiXSeiB4PnnK/j6/RodUu/h30auIyLKExLUyi8/TGwj +GPePWTFwWjLOCnylf6yIb0XJZVcABVxCIeHVyiy/LLNNCIIOdveb7jnoGvgW X-Gm-Gg: ASbGncstUw20jf86T2DLcIEgCiH5aItihnRG4xPzzjcM9ob/u8pIvSRgcK6CGeK+gLY yOxGhnDT/SPUKNn/5UbiFFA0RTvbk2fuhK5vYGfAxp8FhXOBVnojiDSEhM1RFFdAhR0tNy3TNPO K/aWkOQq6WWJEIJZP+oPnFgs+xOmgY2hPdPGNxGGkYYUTlqqsYIUOM9M9Ljj3M2/TrTWntjtkzF 4hIYp32yNnJZZA6y8bvhU5xzJPMF1OyxGKztiS+Af0hZy0OySZuIO/Wpb6CwJAOdT5rd7vG08ls /QSh1VhF9lvhrnfc6vplG21Bdtpao8pl2+lzesxzHzFq9r0feiOayMbo3UKe4fUgeRycj0l7mva 0RoKKAFjq X-Google-Smtp-Source: AGHT+IEg0aiS5noLIRDg+rKuQa9u51D5rhO6Xp1pmI0aVoJyRXN30U4HUdzegx/c95DuroiLq7MVYOV+DUNX X-Received: by 2002:a05:6e02:1c29:b0:433:311f:d36a with SMTP id e9e14a558f8ab-4335f4a48d9mr27125235ab.29.1762487361397; Thu, 06 Nov 2025 19:49:21 -0800 (PST) Received: from postal.iol.unh.edu (postal.iol.unh.edu. [2606:4100:3880:1234::84]) by smtp-relay.gmail.com with ESMTPS id e9e14a558f8ab-4334f4cf4bfsm3518095ab.34.2025.11.06.19.49.21 (version=TLS1_2 cipher=ECDHE-ECDSA-AES128-GCM-SHA256 bits=128/128); Thu, 06 Nov 2025 19:49:21 -0800 (PST) X-Relaying-Domain: iol.unh.edu Date: Thu, 06 Nov 2025 19:49:21 -0800 (PST) Message-ID: <690d6c41.050a0220.36ce4.2761SMTPIN_ADDED_MISSING@mx.google.com> Received: from [172.21.0.2] (unknown [172.18.0.240]) by postal.iol.unh.edu (Postfix) with ESMTP id E85AA6051830; Thu, 6 Nov 2025 22:49:20 -0500 (EST) Subject: |SUCCESS| pw158490-158491 [PATCH] [2/2] app/testpmd: fix wrong Rx qu From: dpdklab@iol.unh.edu To: Test Report Cc: dpdk-test-reports@iol.unh.edu, Stephen Hemminger In-Reply-To: <20251106002920.6162-3-fengchengwen@huawei.com> References: <20251106002920.6162-3-fengchengwen@huawei.com> Content-Type: text/plain X-BeenThere: test-report@dpdk.org X-Mailman-Version: 2.1.29 Precedence: list List-Id: automatic DPDK test reports List-Unsubscribe: , List-Archive: List-Post: List-Help: List-Subscribe: , Errors-To: test-report-bounces@dpdk.org Test-Label: iol-compile-amd64-testing Test-Status: SUCCESS http://dpdk.org/patch/158491 _Testing PASS_ Submitter: fengchengwen Date: Thursday, November 06 2025 00:29:20 DPDK git baseline: Repo:dpdk-next-net Branch: master CommitID:591ee7f468aebec30d68d30afa8d5e4dcfc897dc 158490-158491 --> testing pass Upstream job id: Windows-Compile-DPDK-Native#32189 Test environment and result as below: +-------------------------------+--------------------+------------------+-------------------+-------------------------+ | Environment | dpdk_meson_compile | dpdk_compile_ovs | dpdk_msvc_compile | dpdk_llvm_clang_compile | +===============================+====================+==================+===================+=========================+ | Ubuntu 20.04 | PASS | SKIPPED | SKIPPED | SKIPPED | +-------------------------------+--------------------+------------------+-------------------+-------------------------+ | FreeBSD 14.2 | PASS | SKIPPED | SKIPPED | SKIPPED | +-------------------------------+--------------------+------------------+-------------------+-------------------------+ | CentOS Stream 9 | PASS | SKIPPED | SKIPPED | SKIPPED | +-------------------------------+--------------------+------------------+-------------------+-------------------------+ | CentOS Stream 10 | PASS | SKIPPED | SKIPPED | SKIPPED | +-------------------------------+--------------------+------------------+-------------------+-------------------------+ | Debian GNU/Linux 12 | PASS | SKIPPED | SKIPPED | SKIPPED | +-------------------------------+--------------------+------------------+-------------------+-------------------------+ | Fedora Linux 42 | PASS | PASS | SKIPPED | SKIPPED | +-------------------------------+--------------------+------------------+-------------------+-------------------------+ | Red Hat Enterprise Linux 8.10 | PASS | SKIPPED | SKIPPED | SKIPPED | +-------------------------------+--------------------+------------------+-------------------+-------------------------+ | openSUSE Leap 15.6 | PASS | SKIPPED | SKIPPED | SKIPPED | +-------------------------------+--------------------+------------------+-------------------+-------------------------+ | Red Hat Enterprise Linux 9.5 | PASS | SKIPPED | SKIPPED | SKIPPED | +-------------------------------+--------------------+------------------+-------------------+-------------------------+ | Ubuntu 22.04 | PASS | SKIPPED | SKIPPED | SKIPPED | +-------------------------------+--------------------+------------------+-------------------+-------------------------+ | Ubuntu 24.04 | PASS | PASS | SKIPPED | SKIPPED | +-------------------------------+--------------------+------------------+-------------------+-------------------------+ | Alpine Linux 3.22.0 | PASS | SKIPPED | SKIPPED | SKIPPED | +-------------------------------+--------------------+------------------+-------------------+-------------------------+ | Windows Server 2022 | SKIPPED | SKIPPED | PASS | PASS | +-------------------------------+--------------------+------------------+-------------------+-------------------------+ Ubuntu 20.04 Kernel: 4.19 Compiler: gcc gcc (Ubuntu 9.4.0-1ubuntu1~20.04.2) 9.4.0 FreeBSD 14.2 Kernel: 14.2-RELEASE Compiler: clang 18.1.6 CentOS Stream 9 Kernel: 5.15 Compiler: gcc gcc (GCC) 11.5.0 20240719 (Red Hat 11.5.0-11) CentOS Stream 10 Kernel: 5.15 Compiler: gcc gcc (GCC) 14.2.1 20250110 (Red Hat 14.2.1-8) Debian GNU/Linux 12 Kernel: 5.15 Compiler: gcc gcc (Debian 12.2.0-14+deb12u1) 12.2.0 Fedora Linux 42 Kernel: 5.15 Compiler: clang gcc (GCC) 15.2.1 20250808 (Red Hat 15.2.1-1) Red Hat Enterprise Linux 8.10 Kernel: 5.15 Compiler: gcc gcc (GCC) 8.5.0 20210514 (Red Hat 8.5.0-22) openSUSE Leap 15.6 Kernel: 5.15 Compiler: gcc gcc (SUSE Linux) 7.5.0 Red Hat Enterprise Linux 9.5 Kernel: 5.15 Compiler: gcc gcc (GCC) 11.5.0 20240719 (Red Hat 11.5.0-2) Ubuntu 22.04 Kernel: 5.15 Compiler: gcc gcc (Ubuntu 11.4.0-1ubuntu1~22.04) 11.4.0 Ubuntu 24.04 Kernel: 5.15 Compiler: gcc gcc (Ubuntu 13.3.0-6ubuntu2~24.04) 13.3.0 Alpine Linux 3.22.0 Kernel: 5.15 Compiler: gcc gcc (Alpine 14.2.0) 14.2.0 Windows Server 2022 Kernel: 10.0.20348.2031 Compiler: clang 15.0.7, gcc 14.1.0 (MinGW), and MSVC VS 19.39.33521 To view detailed results, visit: https://lab.dpdk.org/results/dashboard/patchsets/34496/ UNH-IOL DPDK Community Lab To manage your email subscriptions, visit: https://lab.dpdk.org/results/dashboard/preferences/subscriptions/