From mboxrd@z Thu Jan 1 00:00:00 1970 Return-Path: Received: from mails.dpdk.org (mails.dpdk.org [217.70.189.124]) by inbox.dpdk.org (Postfix) with ESMTP id 2358D48A8D for ; Fri, 7 Nov 2025 06:51:48 +0100 (CET) Received: from mails.dpdk.org (localhost [127.0.0.1]) by mails.dpdk.org (Postfix) with ESMTP id EE71A4021F; Fri, 7 Nov 2025 06:51:47 +0100 (CET) Received: from mail-vk1-f226.google.com (mail-vk1-f226.google.com [209.85.221.226]) by mails.dpdk.org (Postfix) with ESMTP id 8D7464021F for ; Fri, 7 Nov 2025 06:51:46 +0100 (CET) Received: by mail-vk1-f226.google.com with SMTP id 71dfb90a1353d-559748bcf99so390011e0c.3 for ; Thu, 06 Nov 2025 21:51:46 -0800 (PST) DKIM-Signature: v=1; a=rsa-sha256; c=relaxed/relaxed; d=iol.unh.edu; s=unh-iol; t=1762494706; x=1763099506; darn=dpdk.org; h=references:in-reply-to:cc:to:from:subject:message-id:date:from:to :cc:subject:date:message-id:reply-to; bh=t+r305UUBTc+xtBjfAe3dMtx4EcScnF5A7Zi99ntpLg=; b=Tzlf3q6SEuIs/zFYutML+viwSK/FOrH2M7XWiZWjSDF3H6F5jonfFS5HDi/fRNDYwM IGFR/n23EvzoTvBB+rqps7rPjJqTrzAusmwaPKjCxVjenEwb+IdAY5ykS83K2fS1XPlJ aljE9XQzYXo20z9i5ERKV4GQihFK3637fVlpc= X-Google-DKIM-Signature: v=1; a=rsa-sha256; c=relaxed/relaxed; d=1e100.net; s=20230601; t=1762494706; x=1763099506; h=references:in-reply-to:cc:to:from:subject:message-id:date:x-gm-gg :x-gm-message-state:from:to:cc:subject:date:message-id:reply-to; bh=t+r305UUBTc+xtBjfAe3dMtx4EcScnF5A7Zi99ntpLg=; b=lY9FV66VEgU0gxWSb1QMHeIYaL7tlfUzIbaszPnjycywV5pmCexQIy8GoSR/HAkCzu O4MNqzNhilhuL1oiTRCf2pyo+zgNZrApCF3YjJV/D6vHkSK052ffxMkgGyWE4wLqyNhx Za6WkiBPU1GIfBkw536E7D/R9joRqB4TrCGFRfc3VttGBnI3T3omPOEKplKvSMy3zKg1 9uVitlfrKNwoUjA9ySvHr+eg1xIR5xqw38+zK2MUEv2OwbldWI6NJVvHFGbybdWxyUed BSbzKEyh+HiMhXrWusFi6FL8ITZljOUmZdFL8swu0+/PwPWseDfcKpjggSQZWmqNUCcX 6Wqw== X-Gm-Message-State: AOJu0YwGs9BUyj88j0NHGIf0A3wZAph8gCcKbKRcYUGJZLH8oKCmRGD/ /La6B+AXsqHtVpXBLNVynWC6NhI9qKId9w0S0Z6j1imUov8opjW9IsCZplnqEDIfnSG69PoTZkB 9TWzTrp5B+9szSLqrWCSn1D0NqvMpEejE14SYMH3N4VZdza0ObQCNDqem83nz X-Gm-Gg: ASbGncv+qeWfk0bn0Fi410/nI6kbuyhP+1PO0yoJxNldPAqmDQh4KzAwYjXkA/O9WjJ NK11zuq7pLEBLxt9Yl8BUCmkojWtKAB027nerNUdgokhcny96k8uvXCAX0qOiMnotfNsjkqWmzI bZjQ+5/u9MrtGeW7ES+bj5tS6s9rqi/MHTJ/0KUrmzD+jvs3VRnRS8CvO4DH9aNwm1xfEj8B+ep ynWvan5Y4q6hMflCzmnfKfT5ytm8w3G03Xf18EOG7xzfKy6kb6lLS8niaIym2E2kS0qhqDO3sGD 3RxruWin+Ic1rYNRpagQeyqso92wuxwJMJRGxTfsMkEqhIp1UL6WNCQdFskWEhX5EY7w5B33oVS DZpTP4sSi X-Google-Smtp-Source: AGHT+IEMmSA2rWvwEwyLe4vHONmEUUz0xw/Qp5XWr+yrsLzO9crMp/1223Y83rJkZdmd2fbHYeSgnRpKyq6K X-Received: by 2002:a05:6122:1822:b0:559:85d5:bfbe with SMTP id 71dfb90a1353d-559a3cf61dcmr777704e0c.15.1762494705851; Thu, 06 Nov 2025 21:51:45 -0800 (PST) Received: from postal.iol.unh.edu (postal.iol.unh.edu. [2606:4100:3880:1234::84]) by smtp-relay.gmail.com with ESMTPS id 71dfb90a1353d-559957c042fsm400542e0c.5.2025.11.06.21.51.45 (version=TLS1_2 cipher=ECDHE-ECDSA-AES128-GCM-SHA256 bits=128/128); Thu, 06 Nov 2025 21:51:45 -0800 (PST) X-Relaying-Domain: iol.unh.edu Date: Thu, 06 Nov 2025 21:51:45 -0800 (PST) Message-ID: <690d88f1.050a0220.262512.4cdaSMTPIN_ADDED_MISSING@mx.google.com> Received: from [172.21.0.2] (unknown [172.18.0.240]) by postal.iol.unh.edu (Postfix) with ESMTP id 7D5226051830; Fri, 7 Nov 2025 00:51:45 -0500 (EST) Subject: |SUCCESS| pw158535 [PATCH] [v1,1/1] net/e1000: use device timestamp From: dpdklab@iol.unh.edu To: Test Report Cc: dpdk-test-reports@iol.unh.edu, Bruce Richardson In-Reply-To: <20251107031507.3890366-1-yoong.siang.song@intel.com> References: <20251107031507.3890366-1-yoong.siang.song@intel.com> Content-Type: text/plain X-BeenThere: test-report@dpdk.org X-Mailman-Version: 2.1.29 Precedence: list List-Id: automatic DPDK test reports List-Unsubscribe: , List-Archive: List-Post: List-Help: List-Subscribe: , Errors-To: test-report-bounces@dpdk.org Test-Label: iol-compile-amd64-testing Test-Status: SUCCESS http://dpdk.org/patch/158535 _Testing PASS_ Submitter: Song Yoong Siang Date: Friday, November 07 2025 03:15:07 DPDK git baseline: Repo:dpdk-next-net-intel Branch: master CommitID:1655dc989bc95fa85fc76d32912d2e46c0851148 158535 --> testing pass Upstream job id: Windows-Compile-DPDK-VS#7461 Test environment and result as below: +-------------------------------+--------------------+------------------+-------------------+ | Environment | dpdk_meson_compile | dpdk_compile_ovs | dpdk_msvc_compile | +===============================+====================+==================+===================+ | Ubuntu 20.04 | PASS | SKIPPED | SKIPPED | +-------------------------------+--------------------+------------------+-------------------+ | CentOS Stream 9 | PASS | SKIPPED | SKIPPED | +-------------------------------+--------------------+------------------+-------------------+ | CentOS Stream 10 | PASS | SKIPPED | SKIPPED | +-------------------------------+--------------------+------------------+-------------------+ | Debian GNU/Linux 12 | PASS | SKIPPED | SKIPPED | +-------------------------------+--------------------+------------------+-------------------+ | Fedora Linux 42 | PASS | PASS | SKIPPED | +-------------------------------+--------------------+------------------+-------------------+ | openSUSE Leap 15.6 | PASS | SKIPPED | SKIPPED | +-------------------------------+--------------------+------------------+-------------------+ | Red Hat Enterprise Linux 8.10 | PASS | SKIPPED | SKIPPED | +-------------------------------+--------------------+------------------+-------------------+ | Red Hat Enterprise Linux 9.5 | PASS | SKIPPED | SKIPPED | +-------------------------------+--------------------+------------------+-------------------+ | Ubuntu 22.04 | PASS | SKIPPED | SKIPPED | +-------------------------------+--------------------+------------------+-------------------+ | Ubuntu 24.04 | PASS | PASS | SKIPPED | +-------------------------------+--------------------+------------------+-------------------+ | FreeBSD 14.2 | PASS | SKIPPED | SKIPPED | +-------------------------------+--------------------+------------------+-------------------+ | Alpine Linux 3.22.0 | PASS | SKIPPED | SKIPPED | +-------------------------------+--------------------+------------------+-------------------+ | Windows Server 2022 | SKIPPED | SKIPPED | PASS | +-------------------------------+--------------------+------------------+-------------------+ Ubuntu 20.04 Kernel: 4.19 Compiler: gcc gcc (Ubuntu 9.4.0-1ubuntu1~20.04.2) 9.4.0 CentOS Stream 9 Kernel: 5.15 Compiler: gcc gcc (GCC) 11.5.0 20240719 (Red Hat 11.5.0-11) CentOS Stream 10 Kernel: 5.15 Compiler: gcc gcc (GCC) 14.2.1 20250110 (Red Hat 14.2.1-8) Debian GNU/Linux 12 Kernel: 5.15 Compiler: gcc gcc (Debian 12.2.0-14+deb12u1) 12.2.0 Fedora Linux 42 Kernel: 5.15 Compiler: clang gcc (GCC) 15.2.1 20250808 (Red Hat 15.2.1-1) openSUSE Leap 15.6 Kernel: 5.15 Compiler: gcc gcc (SUSE Linux) 7.5.0 Red Hat Enterprise Linux 8.10 Kernel: 5.15 Compiler: gcc gcc (GCC) 8.5.0 20210514 (Red Hat 8.5.0-22) Red Hat Enterprise Linux 9.5 Kernel: 5.15 Compiler: gcc gcc (GCC) 11.5.0 20240719 (Red Hat 11.5.0-2) Ubuntu 22.04 Kernel: 5.15 Compiler: gcc gcc (Ubuntu 11.4.0-1ubuntu1~22.04) 11.4.0 Ubuntu 24.04 Kernel: 5.15 Compiler: gcc gcc (Ubuntu 13.3.0-6ubuntu2~24.04) 13.3.0 FreeBSD 14.2 Kernel: 14.2-RELEASE Compiler: clang 18.1.6 Alpine Linux 3.22.0 Kernel: 5.15 Compiler: gcc gcc (Alpine 14.2.0) 14.2.0 Windows Server 2022 Kernel: 10.0.20348.2031 Compiler: clang 15.0.7, gcc 14.1.0 (MinGW), and MSVC VS 19.39.33521 To view detailed results, visit: https://lab.dpdk.org/results/dashboard/patchsets/34503/ UNH-IOL DPDK Community Lab To manage your email subscriptions, visit: https://lab.dpdk.org/results/dashboard/preferences/subscriptions/