From mboxrd@z Thu Jan 1 00:00:00 1970 Return-Path: Received: from mails.dpdk.org (mails.dpdk.org [217.70.189.124]) by inbox.dpdk.org (Postfix) with ESMTP id 5AD3048A8D for ; Fri, 7 Nov 2025 07:07:01 +0100 (CET) Received: from mails.dpdk.org (localhost [127.0.0.1]) by mails.dpdk.org (Postfix) with ESMTP id 54F834021F; Fri, 7 Nov 2025 07:07:01 +0100 (CET) Received: from mail-il1-f228.google.com (mail-il1-f228.google.com [209.85.166.228]) by mails.dpdk.org (Postfix) with ESMTP id C9A684021F for ; Fri, 7 Nov 2025 07:06:59 +0100 (CET) Received: by mail-il1-f228.google.com with SMTP id e9e14a558f8ab-4334f0f9c6cso3876975ab.0 for ; Thu, 06 Nov 2025 22:06:59 -0800 (PST) DKIM-Signature: v=1; a=rsa-sha256; c=relaxed/relaxed; d=iol.unh.edu; s=unh-iol; t=1762495619; x=1763100419; darn=dpdk.org; h=references:in-reply-to:cc:to:from:subject:message-id:date:from:to :cc:subject:date:message-id:reply-to; bh=q3x8AFWMYVO2PlzJMoPmSkiede/cM1CyAAvpUNevWBo=; b=TzLtUX5TAOheCV0Daom2kxZinXPdEffOrEn+3cQ8J6IRCosbentmwWYQVSWhoJIItS IHTNuuvQv7gwVnMlsoYrJ6Ck4EY6jxnRiKEXKt3k00yQ+incqQanmobFItrwp2A8Cnp9 zdTQs/1/XGkqa1YY7tNf96DoePk6eI6GGB4sM= X-Google-DKIM-Signature: v=1; a=rsa-sha256; c=relaxed/relaxed; d=1e100.net; s=20230601; t=1762495619; x=1763100419; h=references:in-reply-to:cc:to:from:subject:message-id:date:x-gm-gg :x-gm-message-state:from:to:cc:subject:date:message-id:reply-to; bh=q3x8AFWMYVO2PlzJMoPmSkiede/cM1CyAAvpUNevWBo=; b=df3yzFMZOc8WuUrmUOczmC8OOi0chG+75S4HA+O8YWJBLXlDZS4VX6Q0UiJmir7Mbh b85wfO/8CaWrWYwTbG5XM1SNNIEn9BJHDg19VWM6t4v+LTe2UHjCawVNSNXJppsW8OZn C7WNdwR8870ck2kRwEZ58SSNLdaaC9ZNlis8fy7pmp/Hx69qq1CGg+htFi8AX0Tz7oiK I7vI1S54ZaVObzHLSt6suG5+D7p4f7UKwZwVi7eMtg1hF4Wo9eez37cM+Fx6uAn6yokD bx3HY9DnNAABSpwfnrgZBzRk1s1gCJ2BTNF6QOHlbtgInG3jspMwaXAymS3hyxAhHng+ XqBQ== X-Gm-Message-State: AOJu0YyYXcsuQTsyxT7W8kXhnyCi2bmFrlwuHlHg9E6KwCtDQnZAfO42 QnNB5DL240oqCsfblfNylhSGOfvszboPWPtZwQA9W9cir7wjc+uX81CW4sDY+t1CBUna35d6pBo pS2/RKvVelrIhKTHF4FMaAsF1Fku5bOJK/4L+XmPHS68OwVOWJHV9mtRg2hFj X-Gm-Gg: ASbGncsRNBR+o06sQjnxo6sRth3xmRYJaYpZfq1JjitImH/uyfU7JRfV1j6+sj7NrrQ POvwO9WApFMURXT8dKojreoqriGUv+OgjoIIlXchGnqp5gipAhI+62oyaPyaf6FORpXG/wgBa7/ LqMLDiZ1nceqSpMyJJg1j1UUvdpYSJ52KTMqJTikR6BJTGaiHnXKcWSCJ+iGAZlemF0mpbLrM3D pdKokPtkrvJOqbczgMnnXZyiX9qs2zHHn8+CXafdi5OqWIrGt3i9AnfE1bWGugIutIatUDrz+/Q 24XdyByld3Be/CX1v5s3tYOIo1viD21a768Rqvw8n7HLBrSQOVs+gWm5Big2PRmY+e22AC4HmqX mQC7U9Clt X-Google-Smtp-Source: AGHT+IF3hzmQJLIqoNjDxhQjS1wppBIgluN2fLL49m6iBt800EZVuvx4uMplMV2RFvT0vy/UqTY7qG7cjoLt X-Received: by 2002:a05:6e02:b:b0:433:24d7:309b with SMTP id e9e14a558f8ab-4335f3e1a6amr38034315ab.14.1762495610857; Thu, 06 Nov 2025 22:06:50 -0800 (PST) Received: from postal.iol.unh.edu (postal.iol.unh.edu. [2606:4100:3880:1234::84]) by smtp-relay.gmail.com with ESMTPS id 8926c6da1cb9f-5b746739b36sm440370173.5.2025.11.06.22.06.50 (version=TLS1_2 cipher=ECDHE-ECDSA-AES128-GCM-SHA256 bits=128/128); Thu, 06 Nov 2025 22:06:50 -0800 (PST) X-Relaying-Domain: iol.unh.edu Date: Thu, 06 Nov 2025 22:06:50 -0800 (PST) Message-ID: <690d8c7a.050a0220.32194d.6d06SMTPIN_ADDED_MISSING@mx.google.com> Received: from [172.21.0.2] (unknown [172.18.0.240]) by postal.iol.unh.edu (Postfix) with ESMTP id 6294E6051830; Fri, 7 Nov 2025 01:06:50 -0500 (EST) Subject: |SUCCESS| pw158535 [PATCH] [v1,1/1] net/e1000: use device timestamp From: dpdklab@iol.unh.edu To: Test Report Cc: dpdk-test-reports@iol.unh.edu, Bruce Richardson In-Reply-To: <20251107031507.3890366-1-yoong.siang.song@intel.com> References: <20251107031507.3890366-1-yoong.siang.song@intel.com> Content-Type: text/plain X-BeenThere: test-report@dpdk.org X-Mailman-Version: 2.1.29 Precedence: list List-Id: automatic DPDK test reports List-Unsubscribe: , List-Archive: List-Post: List-Help: List-Subscribe: , Errors-To: test-report-bounces@dpdk.org Test-Label: iol-unit-amd64-testing Test-Status: SUCCESS http://dpdk.org/patch/158535 _Testing PASS_ Submitter: Song Yoong Siang Date: Friday, November 07 2025 03:15:07 DPDK git baseline: Repo:dpdk-next-net-intel Branch: master CommitID:1655dc989bc95fa85fc76d32912d2e46c0851148 158535 --> testing pass Upstream job id: Generic-VM-Unit-Test-DPDK#32373 Test environment and result as below: +-------------------------------+----------------+ | Environment | dpdk_unit_test | +===============================+================+ | CentOS Stream 9 | PASS | +-------------------------------+----------------+ | Debian GNU/Linux 12 | PASS | +-------------------------------+----------------+ | Fedora Linux 40 | PASS | +-------------------------------+----------------+ | Fedora Linux 41 | PASS | +-------------------------------+----------------+ | Fedora Linux 42 | PASS | +-------------------------------+----------------+ | Red Hat Enterprise Linux 9.5 | PASS | +-------------------------------+----------------+ | Red Hat Enterprise Linux 8.10 | PASS | +-------------------------------+----------------+ | CentOS Stream 10 | PASS | +-------------------------------+----------------+ | Ubuntu 20.04 | PASS | +-------------------------------+----------------+ | Ubuntu 24.04 | PASS | +-------------------------------+----------------+ | Ubuntu 22.04 | PASS | +-------------------------------+----------------+ | Windows Server 2022 | PASS | +-------------------------------+----------------+ CentOS Stream 9 Kernel: 5.15 Compiler: gcc gcc (GCC) 11.5.0 20240719 (Red Hat 11.5.0-11) Debian GNU/Linux 12 Kernel: 5.15 Compiler: gcc gcc (Debian 12.2.0-14+deb12u1) 12.2.0 Fedora Linux 40 Kernel: 5.15 Compiler: clang gcc (GCC) 14.2.1 20240912 (Red Hat 14.2.1-3) Fedora Linux 41 Kernel: 5.15 Compiler: clang gcc (GCC) 14.3.1 20250523 (Red Hat 14.3.1-1) Fedora Linux 42 Kernel: 5.15 Compiler: gcc gcc (GCC) 15.2.1 20250808 (Red Hat 15.2.1-1) Red Hat Enterprise Linux 9.5 Kernel: 5.15 Compiler: gcc gcc (GCC) 11.5.0 20240719 (Red Hat 11.5.0-2) Red Hat Enterprise Linux 8.10 Kernel: 5.15 Compiler: gcc gcc (GCC) 8.5.0 20210514 (Red Hat 8.5.0-22) CentOS Stream 10 Kernel: 5.15 Compiler: gcc gcc (GCC) 14.2.1 20250110 (Red Hat 14.2.1-8) Ubuntu 20.04 Kernel: 5.15 Compiler: gcc gcc (Ubuntu 9.4.0-1ubuntu1~20.04.2) 9.4.0 Ubuntu 24.04 Kernel: 5.15 Compiler: gcc gcc (Ubuntu 13.3.0-6ubuntu2~24.04) 13.3.0 Ubuntu 22.04 Kernel: 5.15 Compiler: gcc gcc (Ubuntu 11.4.0-1ubuntu1~22.04) 11.4.0 Windows Server 2022 Kernel: 10.0.20348.2031 Compiler: clang 15.0.7, gcc 14.1.0 (MinGW), and MSVC VS 19.39.33521 To view detailed results, visit: https://lab.dpdk.org/results/dashboard/patchsets/34503/ UNH-IOL DPDK Community Lab To manage your email subscriptions, visit: https://lab.dpdk.org/results/dashboard/preferences/subscriptions/