From mboxrd@z Thu Jan 1 00:00:00 1970 Return-Path: Received: from mails.dpdk.org (mails.dpdk.org [217.70.189.124]) by inbox.dpdk.org (Postfix) with ESMTP id 315F648A8D for ; Fri, 7 Nov 2025 07:25:39 +0100 (CET) Received: from mails.dpdk.org (localhost [127.0.0.1]) by mails.dpdk.org (Postfix) with ESMTP id 0DEA340264; Fri, 7 Nov 2025 07:25:39 +0100 (CET) Received: from mail-pl1-f227.google.com (mail-pl1-f227.google.com [209.85.214.227]) by mails.dpdk.org (Postfix) with ESMTP id E934340264 for ; Fri, 7 Nov 2025 07:25:37 +0100 (CET) Received: by mail-pl1-f227.google.com with SMTP id d9443c01a7336-29586626fbeso3755245ad.0 for ; Thu, 06 Nov 2025 22:25:37 -0800 (PST) DKIM-Signature: v=1; a=rsa-sha256; c=relaxed/relaxed; d=iol.unh.edu; s=unh-iol; t=1762496737; x=1763101537; darn=dpdk.org; h=references:in-reply-to:cc:to:from:subject:message-id:date:from:to :cc:subject:date:message-id:reply-to; bh=EqP3FfGFd5as6EZaiKy2Kg5kqWvD5W2JpONH38LgBc8=; b=WlDpyEVT4U2vkerL7aLx1i7WcMc4weXgsfRiRPpTvjInO9rlcyNg+jAWuV55gj0hCO grkZIW/p0ov5MyJC0T1/qge2mH4fvwr9mn3zxVca53uYaqVDCsJAlThlh+wBQFxrcGOm 44NevqcOMp6BEMchS6OJUP5iEw3yKbzCJxPDU= X-Google-DKIM-Signature: v=1; a=rsa-sha256; c=relaxed/relaxed; d=1e100.net; s=20230601; t=1762496737; x=1763101537; h=references:in-reply-to:cc:to:from:subject:message-id:date:x-gm-gg :x-gm-message-state:from:to:cc:subject:date:message-id:reply-to; bh=EqP3FfGFd5as6EZaiKy2Kg5kqWvD5W2JpONH38LgBc8=; b=DnDxIcCLgnuailD6aFVmHMP1Qt/SDcYmJ1qrZkKccvxDW6NmvsLX/fU7Cssn6QsFH5 LFBRxCTCcoJ9LOFIlM1ui8g350xMAT8Vh66JqWNEeQRxAdR5TrIi8R3DLzTUtedbOtck CE8TofmRodOcJGZqQ0f4+QIpGIJiUQ/MvefWraQOjaqD0TQ8IlvSvDkcGEphL+1mgoHS jiEJ0ZYfzkbOJvwn4bsmRCibfnS7S8RG8g8QUIcwjiidY79WfVARYhjzjqNMR3GAoBuP cjoadR9sc+RTXl02ahnTOQu4SrT82rClSXjEvIF/GPhgSLMxmMG5JW4WnyE0OW1iGN19 9tmQ== X-Gm-Message-State: AOJu0Yyw/IlmTMOMJK3wc+EYgvx7zarIFD5G23yAWqiJPHtoll7lo+R0 tt2fs7tWrQ9o1GeUoq+9GEh5r5crDb5qNvy+U1lq2mm7YlOeyTRMMbPW66kIjbgtHJscFCEr+Fs vhTyc9m8Ij1SKt5Zpe9eiCIWVNPQzFDtvHh+xXDoXWDa0sISlCp7QvlR9frzQ X-Gm-Gg: ASbGncvi9ICXVbCFv5GPk0mYumScm7TH4cA/rAESgRpQXgAkPuxPRjDhDJSvMjxSvbN /6cYdcdSPrALtZYWQIiMHj129hpJ4CKXSQ5WK+BQo5/r+CvDSxmJWtaQQuK38nJWLM0hcRFRHPg cWYTBn/kTH5sF0WwN8Fz+d5BXKeH7uiy/GatgJ90XrQa0Szj5suA3DIftgf5RAN90Txyfl4SLwH rYzLGDMziKNMZtzOCm7WwdO3CTr5xLgtHYZHwOfLGNpjZHlayJhwuwArYoT8axtsGpg0ZIQXMsA B/Xdj5f4smvmcFjLIBCnA3+WOxAimE1Jn3Lc4AYv/U5ToFp4A/+ME6T79wpFLTb0MJqctRyN1Ze zvAVVGz/G X-Google-Smtp-Source: AGHT+IFwBWfG3TjHewN4yJMulfYaPJBoDVebv3MQuNtXHHXVoVgbOZU/A8e3Ix3sTT7V6FVzK16PQSn1Alhm X-Received: by 2002:a17:902:ecc3:b0:295:9db1:ff4b with SMTP id d9443c01a7336-297c03b71c5mr25281505ad.4.1762496737005; Thu, 06 Nov 2025 22:25:37 -0800 (PST) Received: from postal.iol.unh.edu (postal.iol.unh.edu. [2606:4100:3880:1234::84]) by smtp-relay.gmail.com with ESMTPS id d9443c01a7336-29651c6af55sm3960635ad.41.2025.11.06.22.25.36 (version=TLS1_2 cipher=ECDHE-ECDSA-AES128-GCM-SHA256 bits=128/128); Thu, 06 Nov 2025 22:25:36 -0800 (PST) X-Relaying-Domain: iol.unh.edu Date: Thu, 06 Nov 2025 22:25:36 -0800 (PST) Message-ID: <690d90e0.170a0220.2956e9.52f4SMTPIN_ADDED_MISSING@mx.google.com> Received: from [172.21.0.6] (unknown [172.18.0.240]) by postal.iol.unh.edu (Postfix) with ESMTP id B67FA6051830; Fri, 7 Nov 2025 01:25:35 -0500 (EST) Subject: |SUCCESS| pw158483 [PATCH] [v2] dts: testpmd link check on port star From: dpdklab@iol.unh.edu To: Test Report Cc: dpdk-test-reports@iol.unh.edu In-Reply-To: <20251105194925.1507334-1-probb@iol.unh.edu> References: <20251105194925.1507334-1-probb@iol.unh.edu> Content-Type: text/plain X-BeenThere: test-report@dpdk.org X-Mailman-Version: 2.1.29 Precedence: list List-Id: automatic DPDK test reports List-Unsubscribe: , List-Archive: List-Post: List-Help: List-Subscribe: , Errors-To: test-report-bounces@dpdk.org Test-Label: iol-compile-amd64-testing Test-Status: SUCCESS http://dpdk.org/patch/158483 _Testing PASS_ Submitter: Patrick Robb Date: Wednesday, November 05 2025 19:49:25 DPDK git baseline: Repo:dpdk-next-dts Branch: master CommitID:4f35a61a6a5a31f822c3d7519e8a1de1b7cbd9c4 158483 --> testing pass Upstream job id: Windows-Compile-DPDK-Native#32195 Test environment and result as below: +-------------------------------+--------------------+------------------+-------------------+-------------------------+ | Environment | dpdk_meson_compile | dpdk_compile_ovs | dpdk_msvc_compile | dpdk_llvm_clang_compile | +===============================+====================+==================+===================+=========================+ | Ubuntu 20.04 | PASS | SKIPPED | SKIPPED | SKIPPED | +-------------------------------+--------------------+------------------+-------------------+-------------------------+ | FreeBSD 14.2 | PASS | SKIPPED | SKIPPED | SKIPPED | +-------------------------------+--------------------+------------------+-------------------+-------------------------+ | Red Hat Enterprise Linux 9.5 | PASS | SKIPPED | SKIPPED | SKIPPED | +-------------------------------+--------------------+------------------+-------------------+-------------------------+ | CentOS Stream 9 | PASS | SKIPPED | SKIPPED | SKIPPED | +-------------------------------+--------------------+------------------+-------------------+-------------------------+ | CentOS Stream 10 | PASS | SKIPPED | SKIPPED | SKIPPED | +-------------------------------+--------------------+------------------+-------------------+-------------------------+ | Debian GNU/Linux 12 | PASS | SKIPPED | SKIPPED | SKIPPED | +-------------------------------+--------------------+------------------+-------------------+-------------------------+ | Fedora Linux 42 | PASS | PASS | SKIPPED | SKIPPED | +-------------------------------+--------------------+------------------+-------------------+-------------------------+ | openSUSE Leap 15.6 | PASS | SKIPPED | SKIPPED | SKIPPED | +-------------------------------+--------------------+------------------+-------------------+-------------------------+ | Red Hat Enterprise Linux 8.10 | PASS | SKIPPED | SKIPPED | SKIPPED | +-------------------------------+--------------------+------------------+-------------------+-------------------------+ | Ubuntu 22.04 | PASS | SKIPPED | SKIPPED | SKIPPED | +-------------------------------+--------------------+------------------+-------------------+-------------------------+ | Ubuntu 24.04 | PASS | PASS | SKIPPED | SKIPPED | +-------------------------------+--------------------+------------------+-------------------+-------------------------+ | Alpine Linux 3.22.0 | PASS | SKIPPED | SKIPPED | SKIPPED | +-------------------------------+--------------------+------------------+-------------------+-------------------------+ | Windows Server 2022 | SKIPPED | SKIPPED | PASS | PASS | +-------------------------------+--------------------+------------------+-------------------+-------------------------+ Ubuntu 20.04 Kernel: 4.19 Compiler: gcc gcc (Ubuntu 9.4.0-1ubuntu1~20.04.2) 9.4.0 FreeBSD 14.2 Kernel: 14.2-RELEASE Compiler: clang 18.1.6 Red Hat Enterprise Linux 9.5 Kernel: 5.15 Compiler: gcc gcc (GCC) 11.5.0 20240719 (Red Hat 11.5.0-2) CentOS Stream 9 Kernel: 5.15 Compiler: gcc gcc (GCC) 11.5.0 20240719 (Red Hat 11.5.0-11) CentOS Stream 10 Kernel: 5.15 Compiler: gcc gcc (GCC) 14.2.1 20250110 (Red Hat 14.2.1-8) Debian GNU/Linux 12 Kernel: 5.15 Compiler: gcc gcc (Debian 12.2.0-14+deb12u1) 12.2.0 Fedora Linux 42 Kernel: 5.15 Compiler: clang gcc (GCC) 15.2.1 20250808 (Red Hat 15.2.1-1) openSUSE Leap 15.6 Kernel: 5.15 Compiler: gcc gcc (SUSE Linux) 7.5.0 Red Hat Enterprise Linux 8.10 Kernel: 5.15 Compiler: gcc gcc (GCC) 8.5.0 20210514 (Red Hat 8.5.0-22) Ubuntu 22.04 Kernel: 5.15 Compiler: gcc gcc (Ubuntu 11.4.0-1ubuntu1~22.04) 11.4.0 Ubuntu 24.04 Kernel: 5.15 Compiler: gcc gcc (Ubuntu 13.3.0-6ubuntu2~24.04) 13.3.0 Alpine Linux 3.22.0 Kernel: 5.15 Compiler: gcc gcc (Alpine 14.2.0) 14.2.0 Windows Server 2022 Kernel: 10.0.20348.2031 Compiler: clang 15.0.7, gcc 14.1.0 (MinGW), and MSVC VS 19.39.33521 To view detailed results, visit: https://lab.dpdk.org/results/dashboard/patchsets/34500/ UNH-IOL DPDK Community Lab To manage your email subscriptions, visit: https://lab.dpdk.org/results/dashboard/preferences/subscriptions/