From mboxrd@z Thu Jan 1 00:00:00 1970 Return-Path: Received: from mails.dpdk.org (mails.dpdk.org [217.70.189.124]) by inbox.dpdk.org (Postfix) with ESMTP id 39FE248A8D for ; Fri, 7 Nov 2025 07:27:10 +0100 (CET) Received: from mails.dpdk.org (localhost [127.0.0.1]) by mails.dpdk.org (Postfix) with ESMTP id 322EC40264; Fri, 7 Nov 2025 07:27:10 +0100 (CET) Received: from mail-il1-f228.google.com (mail-il1-f228.google.com [209.85.166.228]) by mails.dpdk.org (Postfix) with ESMTP id 574FD40264 for ; Fri, 7 Nov 2025 07:27:09 +0100 (CET) Received: by mail-il1-f228.google.com with SMTP id e9e14a558f8ab-43325758260so3929875ab.3 for ; Thu, 06 Nov 2025 22:27:09 -0800 (PST) DKIM-Signature: v=1; a=rsa-sha256; c=relaxed/relaxed; d=iol.unh.edu; s=unh-iol; t=1762496828; x=1763101628; darn=dpdk.org; h=references:in-reply-to:cc:to:from:subject:message-id:date:from:to :cc:subject:date:message-id:reply-to; bh=OyHyXgg6bB2GqrZDyf5E0Ir5YWSDT1f6pBUpyPMXl08=; b=Ukxtowr/7r1ceqCfbJDevimurWMUEu8OxoqpouzpWtmPdnpGKvrwEjMbkUNntGDYZx NStdaSccFYioMlvnL1E00Ukzfe86cXwKnRhiXUE4BEd+B+fFQ20JBbqGQhRrafWJCaDM 2AisnKV3fJ/HQweBLhvKNkgoXGbh2r2u/daHg= X-Google-DKIM-Signature: v=1; a=rsa-sha256; c=relaxed/relaxed; d=1e100.net; s=20230601; t=1762496828; x=1763101628; h=references:in-reply-to:cc:to:from:subject:message-id:date:x-gm-gg :x-gm-message-state:from:to:cc:subject:date:message-id:reply-to; bh=OyHyXgg6bB2GqrZDyf5E0Ir5YWSDT1f6pBUpyPMXl08=; b=fZ8FMip4VzZbRKEf45fE1udbUt9tVsWuBRvPPcmt0WAOlNrRrYsDG3izxYWe6njext MY60Tmyi7+KORCgkNWm778maKABIh/hr/FO3wMPgoExzZ21O1TB2yBgOWH1QgVAAwmgD JqXXE0f8vfh/ehfuxBvL3cPnRqCAoNoZKM+y2DHlbxNF1PnIWir1vDdIajO97FFGSKR0 fuqbtN89IZdBhGSNDbNjLOs+YjR+AMRAHvnHpVaDDMYR4cdWwEWfExqJhnsxF0gzWhY3 VOiTso3w1Ha/qLCiw4oeLi2XauEV+4YHskHpPf9mFUTmX/T0qEr11mLaKN5Vlc806bUL cctA== X-Gm-Message-State: AOJu0YxtdPYrGABEPPZqc2rTTts64q8nkDlN2Y2qf0E5jYTv7yE3Bm9A 0j1cBY7LF5fV5/AsbsGlszYtYHxPPaDbK/7/Hh5i5lgFDpsEtLVlIRRUKaI0pDHZfgsHKoe6/PG xc7VS2ISRGHaYW4miYjdXHyRY2KHYDCZz/sOWeRbOwKnWNjlc7meQ8tkiG6XF X-Gm-Gg: ASbGncs6Cpxqb8blyU0qehylSM+qr7Ghvko461jlz4VkdoLhgB/b7bgJIo+Yu0dbaKg QpE7GF3cgQpIgOFUSCoOt61SU39SggUakVVLBa9IR4WTVaqSEYkOcVTWJnbW5229upi3NXcu0JO lg0+UA2/VKGFObz1NTLe9sVsagrKsj3n1Nmwj+maVdMj3PP46v3pqNOJRM7rMbGnp/8WfrNaWGd +J3zSYq2v3QMCc92r1GTgxL96Aq3EUFLM3tTfQ0f0BvVEu8vr/p+McymYDT2jiDx5FyyLT4Ku/C znJtAQptN1JquIldPRAAqzUeA1JmJmXiNRJIm4RUM4PGQXXocp/xRx2plli3J1nE9nyGVXzxcCY +ssfL1Eaq X-Google-Smtp-Source: AGHT+IG1kW0UAGZlWahNhI0E/6baZOaNi7xswID/m6LyqIcjpwYP4MfrKSe/ZURTxEiZKHQh5qrG9n5TPiC+ X-Received: by 2002:a05:6e02:2194:b0:433:5e43:da5a with SMTP id e9e14a558f8ab-4335f56f041mr28631815ab.25.1762496828684; Thu, 06 Nov 2025 22:27:08 -0800 (PST) Received: from postal.iol.unh.edu (postal.iol.unh.edu. [2606:4100:3880:1234::84]) by smtp-relay.gmail.com with ESMTPS id e9e14a558f8ab-4335c0904d8sm2366755ab.24.2025.11.06.22.27.08 (version=TLS1_2 cipher=ECDHE-ECDSA-AES128-GCM-SHA256 bits=128/128); Thu, 06 Nov 2025 22:27:08 -0800 (PST) X-Relaying-Domain: iol.unh.edu Date: Thu, 06 Nov 2025 22:27:08 -0800 (PST) Message-ID: <690d913c.050a0220.10a019.c33bSMTPIN_ADDED_MISSING@mx.google.com> Received: from [172.21.0.3] (unknown [172.18.0.240]) by postal.iol.unh.edu (Postfix) with ESMTP id 4AA586051830; Fri, 7 Nov 2025 01:27:08 -0500 (EST) Subject: |SUCCESS| pw158535 [PATCH] [v1,1/1] net/e1000: use device timestamp From: dpdklab@iol.unh.edu To: Test Report Cc: dpdk-test-reports@iol.unh.edu, Bruce Richardson In-Reply-To: <20251107031507.3890366-1-yoong.siang.song@intel.com> References: <20251107031507.3890366-1-yoong.siang.song@intel.com> Content-Type: text/plain X-BeenThere: test-report@dpdk.org X-Mailman-Version: 2.1.29 Precedence: list List-Id: automatic DPDK test reports List-Unsubscribe: , List-Archive: List-Post: List-Help: List-Subscribe: , Errors-To: test-report-bounces@dpdk.org Test-Label: iol-unit-amd64-testing Test-Status: SUCCESS http://dpdk.org/patch/158535 _Testing PASS_ Submitter: Song Yoong Siang Date: Friday, November 07 2025 03:15:07 DPDK git baseline: Repo:dpdk-next-net-intel Branch: master CommitID:1655dc989bc95fa85fc76d32912d2e46c0851148 158535 --> testing pass Upstream job id: Generic-VM-Unit-Test-DPDK#32374 Test environment and result as below: +-------------------------------+----------------+ | Environment | dpdk_unit_test | +===============================+================+ | CentOS Stream 9 | PASS | +-------------------------------+----------------+ | Debian GNU/Linux 12 | PASS | +-------------------------------+----------------+ | Fedora Linux 40 | PASS | +-------------------------------+----------------+ | Fedora Linux 41 | PASS | +-------------------------------+----------------+ | Fedora Linux 42 | PASS | +-------------------------------+----------------+ | Red Hat Enterprise Linux 9.5 | PASS | +-------------------------------+----------------+ | Red Hat Enterprise Linux 8.10 | PASS | +-------------------------------+----------------+ | CentOS Stream 10 | PASS | +-------------------------------+----------------+ | Ubuntu 20.04 | PASS | +-------------------------------+----------------+ | Ubuntu 24.04 | PASS | +-------------------------------+----------------+ | Ubuntu 22.04 | PASS | +-------------------------------+----------------+ | Windows Server 2022 | PASS | +-------------------------------+----------------+ CentOS Stream 9 Kernel: 5.15 Compiler: gcc gcc (GCC) 11.5.0 20240719 (Red Hat 11.5.0-11) Debian GNU/Linux 12 Kernel: 5.15 Compiler: gcc gcc (Debian 12.2.0-14+deb12u1) 12.2.0 Fedora Linux 40 Kernel: 5.15 Compiler: clang gcc (GCC) 14.2.1 20240912 (Red Hat 14.2.1-3) Fedora Linux 41 Kernel: 5.15 Compiler: clang gcc (GCC) 14.3.1 20250523 (Red Hat 14.3.1-1) Fedora Linux 42 Kernel: 5.15 Compiler: gcc gcc (GCC) 15.2.1 20250808 (Red Hat 15.2.1-1) Red Hat Enterprise Linux 9.5 Kernel: 5.15 Compiler: gcc gcc (GCC) 11.5.0 20240719 (Red Hat 11.5.0-2) Red Hat Enterprise Linux 8.10 Kernel: 5.15 Compiler: gcc gcc (GCC) 8.5.0 20210514 (Red Hat 8.5.0-22) CentOS Stream 10 Kernel: 5.15 Compiler: gcc gcc (GCC) 14.2.1 20250110 (Red Hat 14.2.1-8) Ubuntu 20.04 Kernel: 5.15 Compiler: gcc gcc (Ubuntu 9.4.0-1ubuntu1~20.04.2) 9.4.0 Ubuntu 24.04 Kernel: 5.15 Compiler: gcc gcc (Ubuntu 13.3.0-6ubuntu2~24.04) 13.3.0 Ubuntu 22.04 Kernel: 5.15 Compiler: gcc gcc (Ubuntu 11.4.0-1ubuntu1~22.04) 11.4.0 Windows Server 2022 Kernel: 10.0.20348.2031 Compiler: clang 15.0.7, gcc 14.1.0 (MinGW), and MSVC VS 19.39.33521 To view detailed results, visit: https://lab.dpdk.org/results/dashboard/patchsets/34503/ UNH-IOL DPDK Community Lab To manage your email subscriptions, visit: https://lab.dpdk.org/results/dashboard/preferences/subscriptions/