From mboxrd@z Thu Jan 1 00:00:00 1970 Return-Path: Received: from mails.dpdk.org (mails.dpdk.org [217.70.189.124]) by inbox.dpdk.org (Postfix) with ESMTP id A1A3E48A8D for ; Fri, 7 Nov 2025 07:28:19 +0100 (CET) Received: from mails.dpdk.org (localhost [127.0.0.1]) by mails.dpdk.org (Postfix) with ESMTP id 9C3FD40264; Fri, 7 Nov 2025 07:28:19 +0100 (CET) Received: from mail-pg1-f228.google.com (mail-pg1-f228.google.com [209.85.215.228]) by mails.dpdk.org (Postfix) with ESMTP id 7CB4D40264 for ; Fri, 7 Nov 2025 07:28:18 +0100 (CET) Received: by mail-pg1-f228.google.com with SMTP id 41be03b00d2f7-b553412a19bso233733a12.1 for ; Thu, 06 Nov 2025 22:28:18 -0800 (PST) DKIM-Signature: v=1; a=rsa-sha256; c=relaxed/relaxed; d=iol.unh.edu; s=unh-iol; t=1762496898; x=1763101698; darn=dpdk.org; h=references:in-reply-to:cc:to:from:subject:message-id:date:from:to :cc:subject:date:message-id:reply-to; bh=MkVlfRtA+I9ogkbCTNAKUbJI+N1+019MaTt/4FbsXa4=; b=MnywuLkbc/tOHqFxKfbyEaHqjoZwnmbPJD/w7ArQA0ZO6WQdpZNDDeNT1vJXuiCy0T KRf+IdTHrnMvlYMygtazxOCafcC50RZuYWg3pBZBAw1XUdHgdtWq3v1v86BR2ZqPzMWg GoxdJM/QuRywqWXfRGdc8trM52cHZOtR91quI= X-Google-DKIM-Signature: v=1; a=rsa-sha256; c=relaxed/relaxed; d=1e100.net; s=20230601; t=1762496898; x=1763101698; h=references:in-reply-to:cc:to:from:subject:message-id:date:x-gm-gg :x-gm-message-state:from:to:cc:subject:date:message-id:reply-to; bh=MkVlfRtA+I9ogkbCTNAKUbJI+N1+019MaTt/4FbsXa4=; b=Vpe2FD9EhG5gQwJyBc5Rcu69vIgFG/KkNHsJabv1gIzjtXl6x3X4OpKKmi3XCqJulc 7Jdx2UnMXfrlgSWy5vga077sg4d9K/ol9j9rH+Muj2kEpQesx1hbi/8PZEQsbr1cSsJ6 5dZFJc/UiXLlXrsqkqheb45sLAJtG5l4YuVjJk00PNVVXe8EwHwIIyiPNGe4cW7bNMBa tM9lyZxVUtncFpoWWUwSAKWed+Lo+FPSTXnbNbJG7xbrZx+G1sDV3dyEOLubYkiyZE1S 3lFanZ0z97d5gAdp+JT2ATi2P/EeFNpMvp1t3IH4K7XVhZbrNnVgmu548pf5xRNDnvRf 5S0A== X-Gm-Message-State: AOJu0YxG0rpMSTOfGpBw3fpA3fM9xcwpTzflkKDqh36/at9z4q9hcz4Q Miyk9zYEz/GijLfTsbxSSBofFLjjrFzDny7uLBt8IgJLJ7SA4JIO7frIBQfmoSFqUagB42RfhzY BSMIN0qXdwj01HzVm04YY1rwXhiru8CQy5AwXqzLfv8L1XFig5ZOsb/HOG5w8 X-Gm-Gg: ASbGncsPQiu/i+GL87xKhx9/4ndtYFmx3BWRxQoc7BDzXJL/yY58qU0Di4RSMRyEvr1 ckMpJD0qVUXziQl2M9mgUC8PcQ83lODBuwiJOBK/IwQzomRfGegofwQlbXwWOB4iCTVKEBU6A9W Ww4GKTRLpr0H8zlq55W/G6tNm4FkrlgOA8D4CjNQPb9Ed041BTV1R9V1vShxnxe66VEtivkMDkA 6hwkYAk5SWjIQ5mF00stLfE3m9aXBEu6tCAmm2azCuUtqtfLo++7yloPc1yJnp0n9JxGusm14OW vWWTz8G5ySA8FrBeUUTKeHtQUTG9kTuajt/b6T213KKNxrfeYa2dBWqTUY+0OtvTVeW3X6Bv8Ny o+U5bTqTP X-Google-Smtp-Source: AGHT+IGZ0DWbY/ZVSPoobooQy6L74iIAUiu3qeHtbUv/3Q6aQAeSQiDrwaw4+NfKsHyn7CcS7AwZ+WW8avdD X-Received: by 2002:a17:902:ea0e:b0:295:98a1:7ddb with SMTP id d9443c01a7336-297c04b1282mr29534065ad.61.1762496897625; Thu, 06 Nov 2025 22:28:17 -0800 (PST) Received: from postal.iol.unh.edu (postal.iol.unh.edu. [2606:4100:3880:1234::84]) by smtp-relay.gmail.com with ESMTPS id d9443c01a7336-29651c8ace6sm3755495ad.47.2025.11.06.22.28.17 (version=TLS1_2 cipher=ECDHE-ECDSA-AES128-GCM-SHA256 bits=128/128); Thu, 06 Nov 2025 22:28:17 -0800 (PST) X-Relaying-Domain: iol.unh.edu Date: Thu, 06 Nov 2025 22:28:17 -0800 (PST) Message-ID: <690d9181.170a0220.32b44b.3566SMTPIN_ADDED_MISSING@mx.google.com> Received: from [172.21.0.2] (unknown [172.18.0.240]) by postal.iol.unh.edu (Postfix) with ESMTP id 0FD2C6051830; Fri, 7 Nov 2025 01:28:17 -0500 (EST) Subject: |SUCCESS| pw158483 [PATCH] [v2] dts: testpmd link check on port star From: dpdklab@iol.unh.edu To: Test Report Cc: dpdk-test-reports@iol.unh.edu In-Reply-To: <20251105194925.1507334-1-probb@iol.unh.edu> References: <20251105194925.1507334-1-probb@iol.unh.edu> Content-Type: text/plain X-BeenThere: test-report@dpdk.org X-Mailman-Version: 2.1.29 Precedence: list List-Id: automatic DPDK test reports List-Unsubscribe: , List-Archive: List-Post: List-Help: List-Subscribe: , Errors-To: test-report-bounces@dpdk.org Test-Label: iol-compile-amd64-testing Test-Status: SUCCESS http://dpdk.org/patch/158483 _Testing PASS_ Submitter: Patrick Robb Date: Wednesday, November 05 2025 19:49:25 DPDK git baseline: Repo:dpdk-next-dts Branch: master CommitID:4f35a61a6a5a31f822c3d7519e8a1de1b7cbd9c4 158483 --> testing pass Upstream job id: Windows-Compile-DPDK-Native#32196 Test environment and result as below: +-------------------------------+--------------------+------------------+-------------------+-------------------------+----------------------+ | Environment | dpdk_meson_compile | dpdk_compile_ovs | dpdk_msvc_compile | dpdk_llvm_clang_compile | dpdk_mingw64_compile | +===============================+====================+==================+===================+=========================+======================+ | Ubuntu 20.04 | PASS | SKIPPED | SKIPPED | SKIPPED | SKIPPED | +-------------------------------+--------------------+------------------+-------------------+-------------------------+----------------------+ | FreeBSD 14.2 | PASS | SKIPPED | SKIPPED | SKIPPED | SKIPPED | +-------------------------------+--------------------+------------------+-------------------+-------------------------+----------------------+ | Red Hat Enterprise Linux 9.5 | PASS | SKIPPED | SKIPPED | SKIPPED | SKIPPED | +-------------------------------+--------------------+------------------+-------------------+-------------------------+----------------------+ | CentOS Stream 9 | PASS | SKIPPED | SKIPPED | SKIPPED | SKIPPED | +-------------------------------+--------------------+------------------+-------------------+-------------------------+----------------------+ | CentOS Stream 10 | PASS | SKIPPED | SKIPPED | SKIPPED | SKIPPED | +-------------------------------+--------------------+------------------+-------------------+-------------------------+----------------------+ | Debian GNU/Linux 12 | PASS | SKIPPED | SKIPPED | SKIPPED | SKIPPED | +-------------------------------+--------------------+------------------+-------------------+-------------------------+----------------------+ | Fedora Linux 42 | PASS | PASS | SKIPPED | SKIPPED | SKIPPED | +-------------------------------+--------------------+------------------+-------------------+-------------------------+----------------------+ | openSUSE Leap 15.6 | PASS | SKIPPED | SKIPPED | SKIPPED | SKIPPED | +-------------------------------+--------------------+------------------+-------------------+-------------------------+----------------------+ | Red Hat Enterprise Linux 8.10 | PASS | SKIPPED | SKIPPED | SKIPPED | SKIPPED | +-------------------------------+--------------------+------------------+-------------------+-------------------------+----------------------+ | Ubuntu 22.04 | PASS | SKIPPED | SKIPPED | SKIPPED | SKIPPED | +-------------------------------+--------------------+------------------+-------------------+-------------------------+----------------------+ | Ubuntu 24.04 | PASS | PASS | SKIPPED | SKIPPED | SKIPPED | +-------------------------------+--------------------+------------------+-------------------+-------------------------+----------------------+ | Alpine Linux 3.22.0 | PASS | SKIPPED | SKIPPED | SKIPPED | SKIPPED | +-------------------------------+--------------------+------------------+-------------------+-------------------------+----------------------+ | Windows Server 2022 | SKIPPED | SKIPPED | PASS | PASS | PASS | +-------------------------------+--------------------+------------------+-------------------+-------------------------+----------------------+ Ubuntu 20.04 Kernel: 4.19 Compiler: gcc gcc (Ubuntu 9.4.0-1ubuntu1~20.04.2) 9.4.0 FreeBSD 14.2 Kernel: 14.2-RELEASE Compiler: clang 18.1.6 Red Hat Enterprise Linux 9.5 Kernel: 5.15 Compiler: gcc gcc (GCC) 11.5.0 20240719 (Red Hat 11.5.0-2) CentOS Stream 9 Kernel: 5.15 Compiler: gcc gcc (GCC) 11.5.0 20240719 (Red Hat 11.5.0-11) CentOS Stream 10 Kernel: 5.15 Compiler: gcc gcc (GCC) 14.2.1 20250110 (Red Hat 14.2.1-8) Debian GNU/Linux 12 Kernel: 5.15 Compiler: gcc gcc (Debian 12.2.0-14+deb12u1) 12.2.0 Fedora Linux 42 Kernel: 5.15 Compiler: clang gcc (GCC) 15.2.1 20250808 (Red Hat 15.2.1-1) openSUSE Leap 15.6 Kernel: 5.15 Compiler: gcc gcc (SUSE Linux) 7.5.0 Red Hat Enterprise Linux 8.10 Kernel: 5.15 Compiler: gcc gcc (GCC) 8.5.0 20210514 (Red Hat 8.5.0-22) Ubuntu 22.04 Kernel: 5.15 Compiler: gcc gcc (Ubuntu 11.4.0-1ubuntu1~22.04) 11.4.0 Ubuntu 24.04 Kernel: 5.15 Compiler: gcc gcc (Ubuntu 13.3.0-6ubuntu2~24.04) 13.3.0 Alpine Linux 3.22.0 Kernel: 5.15 Compiler: gcc gcc (Alpine 14.2.0) 14.2.0 Windows Server 2022 Kernel: 10.0.20348.2031 Compiler: clang 15.0.7, gcc 14.1.0 (MinGW), and MSVC VS 19.39.33521 To view detailed results, visit: https://lab.dpdk.org/results/dashboard/patchsets/34500/ UNH-IOL DPDK Community Lab To manage your email subscriptions, visit: https://lab.dpdk.org/results/dashboard/preferences/subscriptions/