From mboxrd@z Thu Jan 1 00:00:00 1970 Return-Path: Received: from mails.dpdk.org (mails.dpdk.org [217.70.189.124]) by inbox.dpdk.org (Postfix) with ESMTP id 0F9A448A8D for ; Fri, 7 Nov 2025 07:31:32 +0100 (CET) Received: from mails.dpdk.org (localhost [127.0.0.1]) by mails.dpdk.org (Postfix) with ESMTP id E7CDA40264; Fri, 7 Nov 2025 07:31:31 +0100 (CET) Received: from mail-yx1-f97.google.com (mail-yx1-f97.google.com [74.125.224.97]) by mails.dpdk.org (Postfix) with ESMTP id DAE3440264 for ; Fri, 7 Nov 2025 07:31:29 +0100 (CET) Received: by mail-yx1-f97.google.com with SMTP id 956f58d0204a3-63f96d5038dso402268d50.1 for ; Thu, 06 Nov 2025 22:31:29 -0800 (PST) DKIM-Signature: v=1; a=rsa-sha256; c=relaxed/relaxed; d=iol.unh.edu; s=unh-iol; t=1762497089; x=1763101889; darn=dpdk.org; h=cc:to:from:subject:message-id:date:from:to:cc:subject:date :message-id:reply-to; bh=Es0UkZHI8bKMBOTxy9lZb6NZ76JKagVmgNOqo0BnQMw=; b=RRkg1d7/F7ZglpcAI5mRpwUgy40j/Vcsh0gZOeBb+JErwEGvQLSqzdtaxClQrModPb Wg/xPpwXujTI/WqbCyFd0pXPT8BUEkrAZ0TcL3I6dUmOMqMs0UIhvJiBg75FCXYmV1NH maxJWz+/BVXyUH7/CzXufio6uxIn5N6EFJskc= X-Google-DKIM-Signature: v=1; a=rsa-sha256; c=relaxed/relaxed; d=1e100.net; s=20230601; t=1762497089; x=1763101889; h=cc:to:from:subject:message-id:date:x-gm-gg:x-gm-message-state:from :to:cc:subject:date:message-id:reply-to; bh=Es0UkZHI8bKMBOTxy9lZb6NZ76JKagVmgNOqo0BnQMw=; b=wAzCWdRzhi8mPVEbfP9wcnY6OGKNAXbNFvFOWkG1l9DGLyW+fyIIqNBMI/kZiilC0p rWl+bo44oHjEjTydxOCstLrVVGaVo0zoHXs5Te/62gSKejHln87Ma6o/2ZxYC7T78EvV z1l1OEX57AXv/b73cYsmaOwnwguhITCnqhBGIKQPY6yWCp+xIa5JlYXcbGMJmJ0H3L0+ GikT3wKe+7gF0zek2rAweWTLFV/H+mPw6s+MWw5kDzAqeweYlLhZza2O1P50G+6fD6M/ zro4EnR1gq41oydGjnzahXV9X60q1FXhNp9Vb5QbixtCw0Z9XPgWx2iFSvqsrXKTwnTN LQOg== X-Gm-Message-State: AOJu0YzbtcmrGfQZpZQXsao9jYtu1UzyDJwYKQ6lN5/HwwH8JWprhEw/ X2GgXdvYcPDHBEw51fjPPsbwDXEagDKUmXRaMoD0IlPKQekSQISjAz2dtq/qhOE6ZMREcW4jdsD qGXKJ9lriR1M0us9lOuJvrBhPng3gqGt3jIGvNQWnyu6k0l7PLLxo X-Gm-Gg: ASbGncvjPRAB6fdzcS0pe7cDykFP+XmHq8ylq/tmuhq85AZz+tum1iKSpttXXBWZO9L Fip7q/fVLoIe4CRxlB61EdlDGbBnwqcrCB4n/6fGsCuYblNh5nE5zhwkj+1sDlyLzFq/QohorGE PkMjRqpuEfAo6i06bWxNc3KZgw2meEQhJs9UhCHolJToC0gfqjb1tgT70o0Sgaxs+wQ+DTyC0WR YlyBBS3uMZ4XcwKEoHUkxwb8IPQzVRonQJVGDgDXnWT4z64ONq3B/ukXxS4OtI/b7+voDPH4tQm 2Vm8QmxvGZW0jlcIJt5IEnvvyTYFiGp+mhWJiCJh2WtycIzzr6ldkAXQ4WB30j4+xHwQY8qg/xj S50Fah3HC X-Google-Smtp-Source: AGHT+IERFNIpULo/Cxk/MX2k+DgoehPz2nVr0UCRNXIxRFxopLuNCpwrSWE1SfLBCpA3bq/pwqsbjB2kbAgq X-Received: by 2002:a05:690e:155a:20b0:633:a96a:fdd3 with SMTP id 956f58d0204a3-640c4176dbdmr1585473d50.16.1762497089248; Thu, 06 Nov 2025 22:31:29 -0800 (PST) Received: from postal.iol.unh.edu (postal.iol.unh.edu. [2606:4100:3880:1234::84]) by smtp-relay.gmail.com with ESMTPS id 956f58d0204a3-640b5bb9706sm254354d50.0.2025.11.06.22.31.29 (version=TLS1_2 cipher=ECDHE-ECDSA-AES128-GCM-SHA256 bits=128/128); Thu, 06 Nov 2025 22:31:29 -0800 (PST) X-Relaying-Domain: iol.unh.edu Date: Thu, 06 Nov 2025 22:31:29 -0800 (PST) Message-ID: <690d9241.050a0220.1e532b.d63eSMTPIN_ADDED_MISSING@mx.google.com> Received: from [172.21.0.2] (unknown [172.18.0.240]) by postal.iol.unh.edu (Postfix) with ESMTP id D308C6051830; Fri, 7 Nov 2025 01:31:28 -0500 (EST) Subject: |SUCCESS| [GIT MASTER] 0bd935abcb823f581ce53986986aa54eaf6f8140 From: dpdklab@iol.unh.edu To: Test Report Cc: dpdk-test-reports@iol.unh.edu, Xueming Li , Christian Ehrhardt , Kevin Traynor , Luca Boccassi Content-Type: text/plain X-BeenThere: test-report@dpdk.org X-Mailman-Version: 2.1.29 Precedence: list List-Id: automatic DPDK test reports List-Unsubscribe: , List-Archive: List-Post: List-Help: List-Subscribe: , Errors-To: test-report-bounces@dpdk.org _Testing PASS_ Branch: tags/v24.11 0bd935abcb823f581ce53986986aa54eaf6f8140 --> testing pass Upstream job id: Generic-DPDK-Compile-Meson#441911 Test environment and result as below: +-------------------------------+--------------------+------------------+-------------------+ | Environment | dpdk_meson_compile | dpdk_compile_ovs | dpdk_msvc_compile | +===============================+====================+==================+===================+ | Ubuntu 20.04 | PASS | SKIPPED | SKIPPED | +-------------------------------+--------------------+------------------+-------------------+ | CentOS Stream 9 | PASS | SKIPPED | SKIPPED | +-------------------------------+--------------------+------------------+-------------------+ | CentOS Stream 10 | PASS | SKIPPED | SKIPPED | +-------------------------------+--------------------+------------------+-------------------+ | Debian GNU/Linux 12 | PASS | SKIPPED | SKIPPED | +-------------------------------+--------------------+------------------+-------------------+ | Fedora Linux 42 | PASS | PASS | SKIPPED | +-------------------------------+--------------------+------------------+-------------------+ | openSUSE Leap 15.6 | PASS | SKIPPED | SKIPPED | +-------------------------------+--------------------+------------------+-------------------+ | Red Hat Enterprise Linux 8.10 | PASS | SKIPPED | SKIPPED | +-------------------------------+--------------------+------------------+-------------------+ | Red Hat Enterprise Linux 9.5 | PASS | SKIPPED | SKIPPED | +-------------------------------+--------------------+------------------+-------------------+ | Ubuntu 22.04 | PASS | SKIPPED | SKIPPED | +-------------------------------+--------------------+------------------+-------------------+ | Ubuntu 24.04 | PASS | PASS | SKIPPED | +-------------------------------+--------------------+------------------+-------------------+ | FreeBSD 14.2 | PASS | SKIPPED | SKIPPED | +-------------------------------+--------------------+------------------+-------------------+ | Alpine Linux 3.22.0 | PASS | SKIPPED | SKIPPED | +-------------------------------+--------------------+------------------+-------------------+ | Windows Server 2022 | SKIPPED | SKIPPED | PASS | +-------------------------------+--------------------+------------------+-------------------+ Ubuntu 20.04 Kernel: 4.19 Compiler: gcc gcc (Ubuntu 9.4.0-1ubuntu1~20.04.2) 9.4.0 CentOS Stream 9 Kernel: 5.15 Compiler: gcc gcc (GCC) 11.5.0 20240719 (Red Hat 11.5.0-11) CentOS Stream 10 Kernel: 5.15 Compiler: gcc gcc (GCC) 14.2.1 20250110 (Red Hat 14.2.1-8) Debian GNU/Linux 12 Kernel: 5.15 Compiler: gcc gcc (Debian 12.2.0-14+deb12u1) 12.2.0 Fedora Linux 42 Kernel: 5.15 Compiler: clang gcc (GCC) 15.2.1 20250808 (Red Hat 15.2.1-1) openSUSE Leap 15.6 Kernel: 5.15 Compiler: gcc gcc (SUSE Linux) 7.5.0 Red Hat Enterprise Linux 8.10 Kernel: 5.15 Compiler: gcc gcc (GCC) 8.5.0 20210514 (Red Hat 8.5.0-22) Red Hat Enterprise Linux 9.5 Kernel: 5.15 Compiler: gcc gcc (GCC) 11.5.0 20240719 (Red Hat 11.5.0-2) Ubuntu 22.04 Kernel: 5.15 Compiler: gcc gcc (Ubuntu 11.4.0-1ubuntu1~22.04) 11.4.0 Ubuntu 24.04 Kernel: 5.15 Compiler: gcc gcc (Ubuntu 13.3.0-6ubuntu2~24.04) 13.3.0 FreeBSD 14.2 Kernel: 14.2-RELEASE Compiler: clang 18.1.6 Alpine Linux 3.22.0 Kernel: 5.15 Compiler: gcc gcc (Alpine 14.2.0) 14.2.0 Windows Server 2022 Kernel: 10.0.20348.2031 Compiler: clang 15.0.7, gcc 14.1.0 (MinGW), and MSVC VS 19.39.33521 To view detailed results, visit: https://lab.dpdk.org/results/dashboard/tarballs/35498/ UNH-IOL DPDK Community Lab To manage your email subscriptions, visit: https://lab.dpdk.org/results/dashboard/preferences/subscriptions/