From mboxrd@z Thu Jan 1 00:00:00 1970 Return-Path: Received: from mails.dpdk.org (mails.dpdk.org [217.70.189.124]) by inbox.dpdk.org (Postfix) with ESMTP id 74B7448A92 for ; Fri, 7 Nov 2025 08:18:53 +0100 (CET) Received: from mails.dpdk.org (localhost [127.0.0.1]) by mails.dpdk.org (Postfix) with ESMTP id 6EAA240264; Fri, 7 Nov 2025 08:18:53 +0100 (CET) Received: from mail-pg1-f225.google.com (mail-pg1-f225.google.com [209.85.215.225]) by mails.dpdk.org (Postfix) with ESMTP id 5A4B540264 for ; Fri, 7 Nov 2025 08:18:52 +0100 (CET) Received: by mail-pg1-f225.google.com with SMTP id 41be03b00d2f7-ba599137cf8so283895a12.0 for ; Thu, 06 Nov 2025 23:18:52 -0800 (PST) DKIM-Signature: v=1; a=rsa-sha256; c=relaxed/relaxed; d=iol.unh.edu; s=unh-iol; t=1762499931; x=1763104731; darn=dpdk.org; h=cc:to:from:subject:message-id:date:from:to:cc:subject:date :message-id:reply-to; bh=/4g6dUW935AiTItqZP8ckLuCU8z0YUfwEi3+pPYivhE=; b=ICpiCtAQC8YqkSHtKRMoAWxGd1HxqdpJ+tKmMyiWp+Cp3e/80nj/4qDm6D5unccQt4 uJSl13foTYfiS/Zjm07Z+ZUHLtaB6rPpXi2L4Sx38THqt+D8V6YYHpYDLUTAR0azzscE sN1CpDZpyUw6xLvdHfcj3BVx5cKS/GVlU4sE0= X-Google-DKIM-Signature: v=1; a=rsa-sha256; c=relaxed/relaxed; d=1e100.net; s=20230601; t=1762499931; x=1763104731; h=cc:to:from:subject:message-id:date:x-gm-gg:x-gm-message-state:from :to:cc:subject:date:message-id:reply-to; bh=/4g6dUW935AiTItqZP8ckLuCU8z0YUfwEi3+pPYivhE=; b=xITl1ypNwnJoDTKvfMWh7iVavN7M9oSYlm9l5Vle1TfuJ2E2Pi4CTnV7A2lbF0vnO7 kDXiFkXNDKzLTs5YE0hgqs8EIYmOZ+9108bKROA+mgnwsc7ulkTGitppKedaGONIplNl X6hdp2gKPiwgKczbdmJgpj7whyGHoFpa2XULWb/YzhWPVbtHG2FPyr6P8UtBPFWooR7E YrdM1nJm7wadGsengBEMbB98q12PS5QQhdHl5ptYPOib/4r43/w4rw8lRs6HWCl2cmdI d3Shofl/mUVT2MEH4Mmzi7chcKXqUOWoq4qxvt0PuESvKEU0F3kOzpb5jT1AicYHeDEG Ukxg== X-Gm-Message-State: AOJu0YzGu2Uen4/rIxrBRAS25gfceSNNEDXDTkx5y+f1tTS5EnD8aM6E B59PSqYFt9a0QT5spAjFl/jC6ZDrGGlzsJmC4S7az6RSlmxVZbThhrc0Uj2K0UEclH0usFQNHSr YR74fjhA2Lx9pxwc0PonGkA0m8JrKFSDUtHHpsWLjy4em+vwEeNiK X-Gm-Gg: ASbGncubqSPAHe0e2z8OrFaIosGD26pa809qyQWzjjeKKdMOWDlmZpfNhssBPEC3wS3 Zsyf2nHu9hxgIcXIu+odM0+Evsx6kAsupAIaZ93ggiOhq5j3gBdKi23IwxDJNrF/nRvqUUn2/c+ KIAng6vy68zlXNtMLzsww6kMY4AgkuWR1GgfoitBINpQWZr1/Kzv65NeaKfNZsn4GPAiV6EK1to WjnpTK+4NZlLbjGrnipeNaMGwb50wtfrfg5C/VM0rVk+Z1cTNmC9lxXPc3K1Oob0CDvYNSixpKW P7kC9BQMJRUUvITUYKB3iG54lmMDACC/jTWarYtnlUaacMAZnIBkz7X3aXJb56TBe7xiIV+AUrP x7wATXNpx X-Google-Smtp-Source: AGHT+IFbq3aA99VhYfLwuLUHi38GLD4OAnJaGM0cYXO/X/ulzEvzXDpdBargS5k91sKrgDbk38ZaepycS6lH X-Received: by 2002:a17:903:4b4b:b0:266:57f7:25f5 with SMTP id d9443c01a7336-297c94b307fmr10761875ad.7.1762499930931; Thu, 06 Nov 2025 23:18:50 -0800 (PST) Received: from postal.iol.unh.edu (postal.iol.unh.edu. [2606:4100:3880:1234::84]) by smtp-relay.gmail.com with ESMTPS id d9443c01a7336-29650c61a25sm3965315ad.23.2025.11.06.23.18.50 (version=TLS1_2 cipher=ECDHE-ECDSA-AES128-GCM-SHA256 bits=128/128); Thu, 06 Nov 2025 23:18:50 -0800 (PST) X-Relaying-Domain: iol.unh.edu Date: Thu, 06 Nov 2025 23:18:50 -0800 (PST) Message-ID: <690d9d5a.170a0220.7ee73.47b7SMTPIN_ADDED_MISSING@mx.google.com> Received: from [172.21.0.2] (unknown [172.18.0.240]) by postal.iol.unh.edu (Postfix) with ESMTP id 2FC5D6051830; Fri, 7 Nov 2025 02:18:50 -0500 (EST) Subject: |SUCCESS| [GIT MASTER] 0bd935abcb823f581ce53986986aa54eaf6f8140 From: dpdklab@iol.unh.edu To: Test Report Cc: dpdk-test-reports@iol.unh.edu, Xueming Li , Christian Ehrhardt , Kevin Traynor , Luca Boccassi Content-Type: text/plain X-BeenThere: test-report@dpdk.org X-Mailman-Version: 2.1.29 Precedence: list List-Id: automatic DPDK test reports List-Unsubscribe: , List-Archive: List-Post: List-Help: List-Subscribe: , Errors-To: test-report-bounces@dpdk.org _Testing PASS_ Branch: tags/v24.11 0bd935abcb823f581ce53986986aa54eaf6f8140 --> testing pass Upstream job id: Windows-Compile-DPDK-Native#32203 Test environment and result as below: +-------------------------------+--------------------+------------------+-------------------+-------------------------+ | Environment | dpdk_meson_compile | dpdk_compile_ovs | dpdk_msvc_compile | dpdk_llvm_clang_compile | +===============================+====================+==================+===================+=========================+ | Ubuntu 20.04 | PASS | SKIPPED | SKIPPED | SKIPPED | +-------------------------------+--------------------+------------------+-------------------+-------------------------+ | CentOS Stream 9 | PASS | SKIPPED | SKIPPED | SKIPPED | +-------------------------------+--------------------+------------------+-------------------+-------------------------+ | CentOS Stream 10 | PASS | SKIPPED | SKIPPED | SKIPPED | +-------------------------------+--------------------+------------------+-------------------+-------------------------+ | Debian GNU/Linux 12 | PASS | SKIPPED | SKIPPED | SKIPPED | +-------------------------------+--------------------+------------------+-------------------+-------------------------+ | Fedora Linux 42 | PASS | PASS | SKIPPED | SKIPPED | +-------------------------------+--------------------+------------------+-------------------+-------------------------+ | openSUSE Leap 15.6 | PASS | SKIPPED | SKIPPED | SKIPPED | +-------------------------------+--------------------+------------------+-------------------+-------------------------+ | Red Hat Enterprise Linux 8.10 | PASS | SKIPPED | SKIPPED | SKIPPED | +-------------------------------+--------------------+------------------+-------------------+-------------------------+ | Red Hat Enterprise Linux 9.5 | PASS | SKIPPED | SKIPPED | SKIPPED | +-------------------------------+--------------------+------------------+-------------------+-------------------------+ | Ubuntu 22.04 | PASS | SKIPPED | SKIPPED | SKIPPED | +-------------------------------+--------------------+------------------+-------------------+-------------------------+ | Ubuntu 24.04 | PASS | PASS | SKIPPED | SKIPPED | +-------------------------------+--------------------+------------------+-------------------+-------------------------+ | FreeBSD 14.2 | PASS | SKIPPED | SKIPPED | SKIPPED | +-------------------------------+--------------------+------------------+-------------------+-------------------------+ | Alpine Linux 3.22.0 | PASS | SKIPPED | SKIPPED | SKIPPED | +-------------------------------+--------------------+------------------+-------------------+-------------------------+ | Windows Server 2022 | SKIPPED | SKIPPED | PASS | PASS | +-------------------------------+--------------------+------------------+-------------------+-------------------------+ Ubuntu 20.04 Kernel: 4.19 Compiler: gcc gcc (Ubuntu 9.4.0-1ubuntu1~20.04.2) 9.4.0 CentOS Stream 9 Kernel: 5.15 Compiler: gcc gcc (GCC) 11.5.0 20240719 (Red Hat 11.5.0-11) CentOS Stream 10 Kernel: 5.15 Compiler: gcc gcc (GCC) 14.2.1 20250110 (Red Hat 14.2.1-8) Debian GNU/Linux 12 Kernel: 5.15 Compiler: gcc gcc (Debian 12.2.0-14+deb12u1) 12.2.0 Fedora Linux 42 Kernel: 5.15 Compiler: clang gcc (GCC) 15.2.1 20250808 (Red Hat 15.2.1-1) openSUSE Leap 15.6 Kernel: 5.15 Compiler: gcc gcc (SUSE Linux) 7.5.0 Red Hat Enterprise Linux 8.10 Kernel: 5.15 Compiler: gcc gcc (GCC) 8.5.0 20210514 (Red Hat 8.5.0-22) Red Hat Enterprise Linux 9.5 Kernel: 5.15 Compiler: gcc gcc (GCC) 11.5.0 20240719 (Red Hat 11.5.0-2) Ubuntu 22.04 Kernel: 5.15 Compiler: gcc gcc (Ubuntu 11.4.0-1ubuntu1~22.04) 11.4.0 Ubuntu 24.04 Kernel: 5.15 Compiler: gcc gcc (Ubuntu 13.3.0-6ubuntu2~24.04) 13.3.0 FreeBSD 14.2 Kernel: 14.2-RELEASE Compiler: clang 18.1.6 Alpine Linux 3.22.0 Kernel: 5.15 Compiler: gcc gcc (Alpine 14.2.0) 14.2.0 Windows Server 2022 Kernel: 10.0.20348.2031 Compiler: clang 15.0.7, gcc 14.1.0 (MinGW), and MSVC VS 19.39.33521 To view detailed results, visit: https://lab.dpdk.org/results/dashboard/tarballs/35498/ UNH-IOL DPDK Community Lab To manage your email subscriptions, visit: https://lab.dpdk.org/results/dashboard/preferences/subscriptions/