From mboxrd@z Thu Jan 1 00:00:00 1970 Return-Path: Received: from mails.dpdk.org (mails.dpdk.org [217.70.189.124]) by inbox.dpdk.org (Postfix) with ESMTP id BA5B148A92 for ; Fri, 7 Nov 2025 08:21:37 +0100 (CET) Received: from mails.dpdk.org (localhost [127.0.0.1]) by mails.dpdk.org (Postfix) with ESMTP id B396440264; Fri, 7 Nov 2025 08:21:37 +0100 (CET) Received: from mail-qk1-f228.google.com (mail-qk1-f228.google.com [209.85.222.228]) by mails.dpdk.org (Postfix) with ESMTP id 4368D40264 for ; Fri, 7 Nov 2025 08:21:36 +0100 (CET) Received: by mail-qk1-f228.google.com with SMTP id af79cd13be357-8b23b68a41bso47967285a.2 for ; Thu, 06 Nov 2025 23:21:36 -0800 (PST) DKIM-Signature: v=1; a=rsa-sha256; c=relaxed/relaxed; d=iol.unh.edu; s=unh-iol; t=1762500095; x=1763104895; darn=dpdk.org; h=cc:to:from:subject:message-id:date:from:to:cc:subject:date :message-id:reply-to; bh=fjVO/SxMCubZAlWuyE5ckpP408ujsvLlZu6ZljLAV8U=; b=SOK36K8LJRRV+AX/GUCDOq7uWD0WG1O4/BDHsqiZYZJjlDAuxwcJ1sL4vyZSAxKjOI gV3yaksIniXUOHbnRWJbJHZ35RlTmGB087yq8fW+O0GKG7A0a9QMFBmw8Av8qoKG8jYG hUACPwGJpoNLSGZWEbUKDBOKrVhGq8VHYFXNo= X-Google-DKIM-Signature: v=1; a=rsa-sha256; c=relaxed/relaxed; d=1e100.net; s=20230601; t=1762500095; x=1763104895; h=cc:to:from:subject:message-id:date:x-gm-gg:x-gm-message-state:from :to:cc:subject:date:message-id:reply-to; bh=fjVO/SxMCubZAlWuyE5ckpP408ujsvLlZu6ZljLAV8U=; b=oyH58f7nfxqeSC2aEya591AVOkwD9J5v9zvI4uKuZoBKdoE2al1xa+sGQ7m66GpyTD iyrApnAG4S3Dd49eL1o07SclKB37+TbQv986ldJ2o7nlP0Y+iu2ufytFryA6C8ZlmwiS 2TaIbo+bGOYEiFchpodKR+JpPedzFZLjWPO8/evsrgTPWY9lNnap1NdlCw/bivV+KXLx Q+8NNEf3mc0GutK6KM+/vwl1y9aQ7GxfNE+cEBdcWd/e+jQUbYOgHSJt+KzeHNJqmWmi lz8oSTLBWY0H8WNABxAaHNUA9HZWCEedg7mdIoIvGZX8SOCC1eXXnol8xbbft/UmCihu 2L6g== X-Gm-Message-State: AOJu0YwrAkZZcIYAjlpdEdL7aEpSCvrdVVKavM1pZUP9raX28KsUlmmn L5G+eBBrdb0gX+n7MVcX06SV6TtZyMFAvj/6uis425IAFYiS4yt6j2y27OFBFUhiNXgVm9vvrfl ANyjoYJHGQo3CSnx6EuvX5OTkleOBVKSOkwEN X-Gm-Gg: ASbGncv486nyAcxQij8PUNN5ItmQVtGveqr3tjxkPVKXGJ+PSgSzzQo4ml4SwnfBFkS PN7OH4UD4OLOQVnKU3JJRMkEKwDOSBvJ5FUcwEme4kJaW6ZTaGmEp6lI+hmGijr6tksbqEq3/pX +WbQpCOwZ+f2XfFwwzemydVSTyQuB8fLitfOiX/z/F7wtJziYyGxZEdzSB5lkrBPG5gHgmfIBRo beQJirwu9eOHpZOqbypLpZEyZmcmGK1ynoPy6xmrCob7cQsuZHWhAscIk+UbFmbIHRa0j5Y+0cg dldO98FaKfJEp8tPG0+tcbzp1OqkxAwhhvBiqlvXQnzFtHd98CtEDidMSdV/VxZX+DTLygc/qnc xxgCMZGT8ixE49Bkbr3vigwYtZmY0tq8= X-Google-Smtp-Source: AGHT+IHObRP2dBd4ZjX1SdcgWsfSmZsGVtxkUT9HP5oq2kGaKFsk0fIKy4th1hL33HkwgcH00luLsgrMsBqW X-Received: by 2002:a05:620a:4807:b0:892:25d5:2ec with SMTP id af79cd13be357-8b24528c1f1mr315995085a.27.1762500095675; Thu, 06 Nov 2025 23:21:35 -0800 (PST) Received: from postal.iol.unh.edu (postal.iol.unh.edu. [132.177.123.84]) by smtp-relay.gmail.com with ESMTPS id af79cd13be357-8b2357cc72csm42031385a.8.2025.11.06.23.21.35 (version=TLS1_2 cipher=ECDHE-ECDSA-AES128-GCM-SHA256 bits=128/128); Thu, 06 Nov 2025 23:21:35 -0800 (PST) X-Relaying-Domain: iol.unh.edu Date: Thu, 06 Nov 2025 23:21:35 -0800 (PST) Message-ID: <690d9dff.050a0220.5f10b.60ceSMTPIN_ADDED_MISSING@mx.google.com> Received: from [172.21.0.2] (unknown [172.18.0.240]) by postal.iol.unh.edu (Postfix) with ESMTP id 6B2D46051830; Fri, 7 Nov 2025 02:21:35 -0500 (EST) Subject: |SUCCESS| [GIT MASTER] 0bd935abcb823f581ce53986986aa54eaf6f8140 From: dpdklab@iol.unh.edu To: Test Report Cc: dpdk-test-reports@iol.unh.edu, Xueming Li , Christian Ehrhardt , Kevin Traynor , Luca Boccassi Content-Type: text/plain X-BeenThere: test-report@dpdk.org X-Mailman-Version: 2.1.29 Precedence: list List-Id: automatic DPDK test reports List-Unsubscribe: , List-Archive: List-Post: List-Help: List-Subscribe: , Errors-To: test-report-bounces@dpdk.org _Testing PASS_ Branch: tags/v24.11 0bd935abcb823f581ce53986986aa54eaf6f8140 --> testing pass Upstream job id: Windows-Compile-DPDK-Native#32204 Test environment and result as below: +-------------------------------+--------------------+------------------+-------------------+-------------------------+----------------------+ | Environment | dpdk_meson_compile | dpdk_compile_ovs | dpdk_msvc_compile | dpdk_llvm_clang_compile | dpdk_mingw64_compile | +===============================+====================+==================+===================+=========================+======================+ | Ubuntu 20.04 | PASS | SKIPPED | SKIPPED | SKIPPED | SKIPPED | +-------------------------------+--------------------+------------------+-------------------+-------------------------+----------------------+ | CentOS Stream 9 | PASS | SKIPPED | SKIPPED | SKIPPED | SKIPPED | +-------------------------------+--------------------+------------------+-------------------+-------------------------+----------------------+ | CentOS Stream 10 | PASS | SKIPPED | SKIPPED | SKIPPED | SKIPPED | +-------------------------------+--------------------+------------------+-------------------+-------------------------+----------------------+ | Debian GNU/Linux 12 | PASS | SKIPPED | SKIPPED | SKIPPED | SKIPPED | +-------------------------------+--------------------+------------------+-------------------+-------------------------+----------------------+ | Fedora Linux 42 | PASS | PASS | SKIPPED | SKIPPED | SKIPPED | +-------------------------------+--------------------+------------------+-------------------+-------------------------+----------------------+ | openSUSE Leap 15.6 | PASS | SKIPPED | SKIPPED | SKIPPED | SKIPPED | +-------------------------------+--------------------+------------------+-------------------+-------------------------+----------------------+ | Red Hat Enterprise Linux 8.10 | PASS | SKIPPED | SKIPPED | SKIPPED | SKIPPED | +-------------------------------+--------------------+------------------+-------------------+-------------------------+----------------------+ | Red Hat Enterprise Linux 9.5 | PASS | SKIPPED | SKIPPED | SKIPPED | SKIPPED | +-------------------------------+--------------------+------------------+-------------------+-------------------------+----------------------+ | Ubuntu 22.04 | PASS | SKIPPED | SKIPPED | SKIPPED | SKIPPED | +-------------------------------+--------------------+------------------+-------------------+-------------------------+----------------------+ | Ubuntu 24.04 | PASS | PASS | SKIPPED | SKIPPED | SKIPPED | +-------------------------------+--------------------+------------------+-------------------+-------------------------+----------------------+ | FreeBSD 14.2 | PASS | SKIPPED | SKIPPED | SKIPPED | SKIPPED | +-------------------------------+--------------------+------------------+-------------------+-------------------------+----------------------+ | Alpine Linux 3.22.0 | PASS | SKIPPED | SKIPPED | SKIPPED | SKIPPED | +-------------------------------+--------------------+------------------+-------------------+-------------------------+----------------------+ | Windows Server 2022 | SKIPPED | SKIPPED | PASS | PASS | PASS | +-------------------------------+--------------------+------------------+-------------------+-------------------------+----------------------+ Ubuntu 20.04 Kernel: 4.19 Compiler: gcc gcc (Ubuntu 9.4.0-1ubuntu1~20.04.2) 9.4.0 CentOS Stream 9 Kernel: 5.15 Compiler: gcc gcc (GCC) 11.5.0 20240719 (Red Hat 11.5.0-11) CentOS Stream 10 Kernel: 5.15 Compiler: gcc gcc (GCC) 14.2.1 20250110 (Red Hat 14.2.1-8) Debian GNU/Linux 12 Kernel: 5.15 Compiler: gcc gcc (Debian 12.2.0-14+deb12u1) 12.2.0 Fedora Linux 42 Kernel: 5.15 Compiler: clang gcc (GCC) 15.2.1 20250808 (Red Hat 15.2.1-1) openSUSE Leap 15.6 Kernel: 5.15 Compiler: gcc gcc (SUSE Linux) 7.5.0 Red Hat Enterprise Linux 8.10 Kernel: 5.15 Compiler: gcc gcc (GCC) 8.5.0 20210514 (Red Hat 8.5.0-22) Red Hat Enterprise Linux 9.5 Kernel: 5.15 Compiler: gcc gcc (GCC) 11.5.0 20240719 (Red Hat 11.5.0-2) Ubuntu 22.04 Kernel: 5.15 Compiler: gcc gcc (Ubuntu 11.4.0-1ubuntu1~22.04) 11.4.0 Ubuntu 24.04 Kernel: 5.15 Compiler: gcc gcc (Ubuntu 13.3.0-6ubuntu2~24.04) 13.3.0 FreeBSD 14.2 Kernel: 14.2-RELEASE Compiler: clang 18.1.6 Alpine Linux 3.22.0 Kernel: 5.15 Compiler: gcc gcc (Alpine 14.2.0) 14.2.0 Windows Server 2022 Kernel: 10.0.20348.2031 Compiler: clang 15.0.7, gcc 14.1.0 (MinGW), and MSVC VS 19.39.33521 To view detailed results, visit: https://lab.dpdk.org/results/dashboard/tarballs/35498/ UNH-IOL DPDK Community Lab To manage your email subscriptions, visit: https://lab.dpdk.org/results/dashboard/preferences/subscriptions/