From mboxrd@z Thu Jan 1 00:00:00 1970 Return-Path: Received: from mails.dpdk.org (mails.dpdk.org [217.70.189.124]) by inbox.dpdk.org (Postfix) with ESMTP id 22C6948A92 for ; Fri, 7 Nov 2025 08:32:56 +0100 (CET) Received: from mails.dpdk.org (localhost [127.0.0.1]) by mails.dpdk.org (Postfix) with ESMTP id 03B934021F; Fri, 7 Nov 2025 08:32:56 +0100 (CET) Received: from mail-oa1-f100.google.com (mail-oa1-f100.google.com [209.85.160.100]) by mails.dpdk.org (Postfix) with ESMTP id 5A2A84021F for ; Fri, 7 Nov 2025 08:32:54 +0100 (CET) Received: by mail-oa1-f100.google.com with SMTP id 586e51a60fabf-3c97813e788so282956fac.0 for ; Thu, 06 Nov 2025 23:32:54 -0800 (PST) DKIM-Signature: v=1; a=rsa-sha256; c=relaxed/relaxed; d=iol.unh.edu; s=unh-iol; t=1762500773; x=1763105573; darn=dpdk.org; h=cc:to:from:subject:message-id:date:from:to:cc:subject:date :message-id:reply-to; bh=mguNDXN0PSgvve+8B1SZZqG6ItEhNBbj8ZVUyCti+TI=; b=WqV51E6JWZwGCxoEx+b4pv4m3xHHgSE9HOF816i+6H9FB2pEvL61mB5QUAf483bUjO 3Vsm5tW7WKEkLAMJhWt+Uh65a2NLr3HrmwYKL6k4G9j6AL82Dq9TC6GWz666IW++Lt3N 60i6Q+N1MQPb2Ai7niNx2HucJ8vCm+Yyz2hYw= X-Google-DKIM-Signature: v=1; a=rsa-sha256; c=relaxed/relaxed; d=1e100.net; s=20230601; t=1762500773; x=1763105573; h=cc:to:from:subject:message-id:date:x-gm-gg:x-gm-message-state:from :to:cc:subject:date:message-id:reply-to; bh=mguNDXN0PSgvve+8B1SZZqG6ItEhNBbj8ZVUyCti+TI=; b=SVUw1s+2XD7vWFghFGjZ2ug54LFB9CtZl+DedddBenKvwxu1HuEdfWbH4XGTQirt8X T76Kt2JFsy2cjGrR4ozUB5dfVBjSDlf1/ooOarOZIvvx0XaTLrDMObFSYRGuQy053Zob sUQmGwr8LZfOu4zyT0ZTQ8Gb5WhU0XAcO82syau9qovUbvXiU+S/zuzVbS1tP5JtYuAB 9slcx28GQLaL6OZtHFHpVZZbJhNWcO5mkdKrEizUSHuvrNElO1aRFGZ8dRgVqp/WsFuX 1RWweu0ZTAh7oKOZQz1gP6lfWMUy0etFUguQm0qo9soB1mGyLBWA8mWvSAD/3xMr2Ahb trFw== X-Gm-Message-State: AOJu0YxiSEnExOZKJ6J8SJDMuNHNLDUb+Z4druPfqUSGtaoe+Hw3g4ef jZaiMf7Tdq/cHbANRedAH6UGXpYlZPPIGemFLv+Kwulnu8kbC6D7fpt2i7F1j+JurcNaebHDOzp 0eUIjGN7OJ8CqZe7vwR5Doe8kaKwPwdm8YAmqZ7IGQ7AhB/56NhgS X-Gm-Gg: ASbGncuFZSO6ooLOi7zRVrWMacM5Gh99WRS3R101SS8xPBZzG9nnTA6kxvsqG7POOoY y4E6INJysg44kOrA9kqfE8z8Jh+Nr3Zofc7NIsStQbBCxTYM+qbGft6c8nlYEGxEDdie9T3vMJ/ 0oxvAyoo6VaQcoPOth6/l+oZys2O3LFc62MNEdWUt1U2IXNVJEjzUGD7Pa/+TvNyDIJ2ozgDk3g r8Lalvx02t+H9cPbUI7itOOm7DufCnYsreTjuNAbLfBGsi6dZz1TPByggo1SV/bECev0nxWRFts a4BDUAHiI5PkojYR39osKJCAwQci4EbNaPlEyMQXuBq/Nsn+Nq50xgqhTsqw3akzXdWX1iTwRPy IqpcCrUm9 X-Google-Smtp-Source: AGHT+IHX3K6LBZ/1vTFy2hQIGJkoD32S5X2TFiCcYQ1eh18ON0TAvKjVrjGA/KcPbcnQENE44s8zAGiqwLGJ X-Received: by 2002:a05:6870:960d:b0:3d2:a9e:f03c with SMTP id 586e51a60fabf-3e41e5b51c9mr1467010fac.26.1762500773542; Thu, 06 Nov 2025 23:32:53 -0800 (PST) Received: from postal.iol.unh.edu (postal.iol.unh.edu. [2606:4100:3880:1234::84]) by smtp-relay.gmail.com with ESMTPS id 586e51a60fabf-3e41ed52aa7sm157797fac.6.2025.11.06.23.32.53 (version=TLS1_2 cipher=ECDHE-ECDSA-AES128-GCM-SHA256 bits=128/128); Thu, 06 Nov 2025 23:32:53 -0800 (PST) X-Relaying-Domain: iol.unh.edu Date: Thu, 06 Nov 2025 23:32:53 -0800 (PST) Message-ID: <690da0a5.050a0220.1d44b9.8ae6SMTPIN_ADDED_MISSING@mx.google.com> Received: from [172.21.0.2] (unknown [172.18.0.240]) by postal.iol.unh.edu (Postfix) with ESMTP id 12D476051830; Fri, 7 Nov 2025 02:32:53 -0500 (EST) Subject: |SUCCESS| [GIT MASTER] 0bd935abcb823f581ce53986986aa54eaf6f8140 From: dpdklab@iol.unh.edu To: Test Report Cc: dpdk-test-reports@iol.unh.edu, Xueming Li , Christian Ehrhardt , Kevin Traynor , Luca Boccassi Content-Type: text/plain X-BeenThere: test-report@dpdk.org X-Mailman-Version: 2.1.29 Precedence: list List-Id: automatic DPDK test reports List-Unsubscribe: , List-Archive: List-Post: List-Help: List-Subscribe: , Errors-To: test-report-bounces@dpdk.org _Testing PASS_ Branch: tags/v24.11 0bd935abcb823f581ce53986986aa54eaf6f8140 --> testing pass Upstream job id: Generic-Unit-Test-DPDK#389872 Test environment and result as below: +-------------------------------+----------------+ | Environment | dpdk_unit_test | +===============================+================+ | CentOS Stream 9 | PASS | +-------------------------------+----------------+ | CentOS Stream 10 | PASS | +-------------------------------+----------------+ | Fedora Linux 40 | PASS | +-------------------------------+----------------+ | Fedora Linux 41 | PASS | +-------------------------------+----------------+ | Debian GNU/Linux 12 | PASS | +-------------------------------+----------------+ | Red Hat Enterprise Linux 9.5 | PASS | +-------------------------------+----------------+ | Fedora Linux 42 | PASS | +-------------------------------+----------------+ | Ubuntu 24.04 | PASS | +-------------------------------+----------------+ | Red Hat Enterprise Linux 8.10 | PASS | +-------------------------------+----------------+ | Ubuntu 20.04 | PASS | +-------------------------------+----------------+ | Ubuntu 22.04 | PASS | +-------------------------------+----------------+ | Windows Server 2022 | PASS | +-------------------------------+----------------+ CentOS Stream 9 Kernel: 5.15 Compiler: gcc gcc (GCC) 11.5.0 20240719 (Red Hat 11.5.0-11) CentOS Stream 10 Kernel: 5.15 Compiler: gcc gcc (GCC) 14.2.1 20250110 (Red Hat 14.2.1-8) Fedora Linux 40 Kernel: 5.15 Compiler: gcc gcc (GCC) 14.2.1 20240912 (Red Hat 14.2.1-3) Fedora Linux 41 Kernel: 5.15 Compiler: gcc gcc (GCC) 14.3.1 20250523 (Red Hat 14.3.1-1) Debian GNU/Linux 12 Kernel: 5.15 Compiler: gcc gcc (Debian 12.2.0-14+deb12u1) 12.2.0 Red Hat Enterprise Linux 9.5 Kernel: 5.15 Compiler: gcc gcc (GCC) 11.5.0 20240719 (Red Hat 11.5.0-2) Fedora Linux 42 Kernel: 5.15 Compiler: gcc gcc (GCC) 15.2.1 20250808 (Red Hat 15.2.1-1) Ubuntu 24.04 Kernel: 5.15 Compiler: gcc gcc (Ubuntu 13.3.0-6ubuntu2~24.04) 13.3.0 Red Hat Enterprise Linux 8.10 Kernel: 5.15 Compiler: gcc gcc (GCC) 8.5.0 20210514 (Red Hat 8.5.0-22) Ubuntu 20.04 Kernel: 5.15 Compiler: gcc gcc (Ubuntu 9.4.0-1ubuntu1~20.04.2) 9.4.0 Ubuntu 22.04 Kernel: 5.15 Compiler: gcc gcc (Ubuntu 11.4.0-1ubuntu1~22.04) 11.4.0 Windows Server 2022 Kernel: 10.0.20348.2031 Compiler: clang 15.0.7, gcc 14.1.0 (MinGW), and MSVC VS 19.39.33521 To view detailed results, visit: https://lab.dpdk.org/results/dashboard/tarballs/35498/ UNH-IOL DPDK Community Lab To manage your email subscriptions, visit: https://lab.dpdk.org/results/dashboard/preferences/subscriptions/