From mboxrd@z Thu Jan 1 00:00:00 1970 Return-Path: Received: from mails.dpdk.org (mails.dpdk.org [217.70.189.124]) by inbox.dpdk.org (Postfix) with ESMTP id E50A648A96 for ; Fri, 7 Nov 2025 11:31:23 +0100 (CET) Received: from mails.dpdk.org (localhost [127.0.0.1]) by mails.dpdk.org (Postfix) with ESMTP id CD48740280; Fri, 7 Nov 2025 11:31:23 +0100 (CET) Received: from mail-il1-f226.google.com (mail-il1-f226.google.com [209.85.166.226]) by mails.dpdk.org (Postfix) with ESMTP id E607E40280 for ; Fri, 7 Nov 2025 11:31:22 +0100 (CET) Received: by mail-il1-f226.google.com with SMTP id e9e14a558f8ab-4332381ba9bso6950005ab.1 for ; Fri, 07 Nov 2025 02:31:22 -0800 (PST) DKIM-Signature: v=1; a=rsa-sha256; c=relaxed/relaxed; d=iol.unh.edu; s=unh-iol; t=1762511482; x=1763116282; darn=dpdk.org; h=references:in-reply-to:cc:to:from:subject:message-id:date:from:to :cc:subject:date:message-id:reply-to; bh=FtqmFxhEjATZ704VUDcypVbCfOG6iR2ZE0iHSL+KbeQ=; b=JrURDKGC3IganyZmN5BkaCX2f3jf+/BATfyYlagI97g3broqi9KVLbZ4KCVgu86sEX COBPEWYgiAXd69Mp5xIXez7hJJwKf5i+gWsrUOE8nA8m5s225f0Eu9TSOf0P89p4K7RS /7kZxA2jF5I1IqS1OlQLDvQX7ocWANXjtWg/Q= X-Google-DKIM-Signature: v=1; a=rsa-sha256; c=relaxed/relaxed; d=1e100.net; s=20230601; t=1762511482; x=1763116282; h=references:in-reply-to:cc:to:from:subject:message-id:date:x-gm-gg :x-gm-message-state:from:to:cc:subject:date:message-id:reply-to; bh=FtqmFxhEjATZ704VUDcypVbCfOG6iR2ZE0iHSL+KbeQ=; b=J8cbcqvO0X8WshwzFjWhic0iZ3J3fTvZInwLorPWNcHgawP+Kb6NIRFBU2DcFwU930 0NuWt0k/CjpUqz+OEbEqoKHeTowlrhaNlyDRYIs9nGaRDhcw+/Y6nyPan1hEYFsR61t0 FDA1pMAkse0wvSG0NSq+zq9rWHZyPhBoVoeNLZKNLebzsldnBeMwwElit9MM0F86+apT 4oFY1HgsyI13teWaSnrA2Kf4VL9YBrkwX/qWA49s9EULKd4ZRnNpxgihLFTw8iQq7g8H Lp8sR/1qmKWfgKpHc1kkigta3NC+jQaHa5OHPLx+pDlIWCCqySKMpHf+HqiZcI6IVQFM G0qg== X-Gm-Message-State: AOJu0YzfFwmzYIf2T99P4GOf6XyALdLf8ovAXKYBlp9ylI+ZLK5zUA/6 nHMoGjH6RD3h5RIw8s7iRM+j7FpOdQKD3spUkkMkfR+BVwRz1vW80+dSOdYEk9g2d4X1YzWOIqm zgxr+by6NPRQvxhN17Dumn7UvDP9JXA0+vEOlzT2Soh2X X-Gm-Gg: ASbGncvLmPxyycxzjiK6EtW0yeHWuUinFsR6XmgdBPMGkf126DXy49kx1EpDZD4bkTd FUCcnpqSUM6SisvJuOnPMvbemPUxv5hRWY+t0o51mXd4V/Vy3LTlwjfdma+SwL2DBQEd5gwDSF2 QChskaUmht1xt6s6dIBlTX3TKBCEK+q9xTUKQg3A5VLzclpxLtD+KLlkODi7tP3Bo3de9pL77fy B0ERsI2K+HKmDNvvuVE5HpT3F7v2jVcWikI9LP9zFtWBFSNXNoPC4IR7el0oL2lLlM4O/RojoNv P749zeNm5romosLlFiwgBhOo2goI2oI/fVUOQv7uo81F+/9YihvJ2qIQzUxwAWPOuEZpc652u0R SkvvNf60a0JmKg1k/+gIPjhZo1fWVovw= X-Google-Smtp-Source: AGHT+IEAACfjIl0+f67RVo8a5fyXwDJ/PAfhOBGb/7cXfxe3TSJTU4EodvdVPGKF+zj/vgBETm5T56LPYL0k X-Received: by 2002:a92:ca08:0:b0:433:3034:e88 with SMTP id e9e14a558f8ab-4335f45dd01mr36177925ab.21.1762511482265; Fri, 07 Nov 2025 02:31:22 -0800 (PST) Received: from postal.iol.unh.edu (postal.iol.unh.edu. [132.177.123.84]) by smtp-relay.gmail.com with ESMTPS id e9e14a558f8ab-4334f45706asm4321185ab.9.2025.11.07.02.31.22 (version=TLS1_2 cipher=ECDHE-ECDSA-AES128-GCM-SHA256 bits=128/128); Fri, 07 Nov 2025 02:31:22 -0800 (PST) X-Relaying-Domain: iol.unh.edu Date: Fri, 07 Nov 2025 02:31:22 -0800 (PST) Message-ID: <690dca7a.050a0220.2ca913.61b3SMTPIN_ADDED_MISSING@mx.google.com> Received: from [172.21.0.2] (unknown [172.18.0.240]) by postal.iol.unh.edu (Postfix) with ESMTP id CFED16051830; Fri, 7 Nov 2025 05:31:21 -0500 (EST) Subject: |SUCCESS| pw158533 [PATCH] [v3] dts: add test case docstring checks From: dpdklab@iol.unh.edu To: Test Report Cc: dpdk-test-reports@iol.unh.edu In-Reply-To: <20251106181355.209706-1-dmarx@iol.unh.edu> References: <20251106181355.209706-1-dmarx@iol.unh.edu> Content-Type: text/plain X-BeenThere: test-report@dpdk.org X-Mailman-Version: 2.1.29 Precedence: list List-Id: automatic DPDK test reports List-Unsubscribe: , List-Archive: List-Post: List-Help: List-Subscribe: , Errors-To: test-report-bounces@dpdk.org Test-Label: iol-unit-arm64-testing Test-Status: SUCCESS http://dpdk.org/patch/158533 _Testing PASS_ Submitter: Dean Marx Date: Thursday, November 06 2025 18:13:55 DPDK git baseline: Repo:dpdk-next-dts Branch: master CommitID:4f35a61a6a5a31f822c3d7519e8a1de1b7cbd9c4 158533 --> testing pass Upstream job id: Generic-Unit-Test-DPDK#389544 Test environment and result as below: +------------------------------+----------------+---------------------------+------------------------------+--------------+ | Environment | dpdk_unit_test | cryptodev_sw_zuc_autotest | cryptodev_sw_snow3g_autotest | lpm_autotest | +==============================+================+===========================+==============================+==============+ | CentOS Stream 9 | PASS | SKIPPED | SKIPPED | SKIPPED | +------------------------------+----------------+---------------------------+------------------------------+--------------+ | Ubuntu 22.04 | PASS | SKIPPED | SKIPPED | SKIPPED | +------------------------------+----------------+---------------------------+------------------------------+--------------+ | Fedora Linux 42 | PASS | SKIPPED | SKIPPED | SKIPPED | +------------------------------+----------------+---------------------------+------------------------------+--------------+ | Debian GNU/Linux 12 | PASS | SKIPPED | SKIPPED | SKIPPED | +------------------------------+----------------+---------------------------+------------------------------+--------------+ | CentOS Stream 10 | PASS | SKIPPED | SKIPPED | SKIPPED | +------------------------------+----------------+---------------------------+------------------------------+--------------+ | Fedora Linux 40 | PASS | SKIPPED | SKIPPED | SKIPPED | +------------------------------+----------------+---------------------------+------------------------------+--------------+ | Fedora Linux 41 | PASS | SKIPPED | SKIPPED | SKIPPED | +------------------------------+----------------+---------------------------+------------------------------+--------------+ | Red Hat Enterprise Linux 9.5 | PASS | SKIPPED | SKIPPED | SKIPPED | +------------------------------+----------------+---------------------------+------------------------------+--------------+ | Ubuntu 20.04 | PASS | SKIPPED | SKIPPED | PASS | +------------------------------+----------------+---------------------------+------------------------------+--------------+ | Ubuntu 24.04 | PASS | SKIPPED | SKIPPED | SKIPPED | +------------------------------+----------------+---------------------------+------------------------------+--------------+ | Debian 12 (arm) | SKIPPED | PASS | PASS | SKIPPED | +------------------------------+----------------+---------------------------+------------------------------+--------------+ CentOS Stream 9 Kernel: 5.4 Compiler: gcc gcc (GCC) 11.5.0 20240719 (Red Hat 11.5.0-11) Ubuntu 22.04 Kernel: 5.15 Compiler: gcc gcc (Ubuntu 11.4.0-1ubuntu1~22.04.2) 11.4.0 Fedora Linux 42 Kernel: 5.4 Compiler: clang gcc (GCC) 15.2.1 20250808 (Red Hat 15.2.1-1) Debian GNU/Linux 12 Kernel: 5.4 Compiler: gcc gcc (Debian 12.2.0-14+deb12u1) 12.2.0 CentOS Stream 10 Kernel: 5.4 Compiler: gcc gcc (GCC) 14.2.1 20250110 (Red Hat 14.2.1-8) Fedora Linux 40 Kernel: 5.4 Compiler: clang gcc (GCC) 14.2.1 20240912 (Red Hat 14.2.1-3) Fedora Linux 41 Kernel: 5.4 Compiler: clang gcc (GCC) 14.3.1 20250523 (Red Hat 14.3.1-1) Red Hat Enterprise Linux 9.5 Kernel: 5.4 Compiler: gcc gcc (GCC) 11.5.0 20240719 (Red Hat 11.5.0-2) Ubuntu 20.04 Kernel: 5.4 Compiler: gcc gcc (Ubuntu 9.4.0-1ubuntu1~20.04.2) 9.4.0 Ubuntu 24.04 Kernel: 5.4 Compiler: gcc gcc (Ubuntu 13.3.0-6ubuntu2~24.04) 13.3.0 Debian 12 (arm) Kernel: Depends on container host Compiler: gcc (Debian 12.2.0-14) 12.2.0 To view detailed results, visit: https://lab.dpdk.org/results/dashboard/patchsets/34492/ UNH-IOL DPDK Community Lab To manage your email subscriptions, visit: https://lab.dpdk.org/results/dashboard/preferences/subscriptions/