From mboxrd@z Thu Jan 1 00:00:00 1970 Return-Path: Received: from mails.dpdk.org (mails.dpdk.org [217.70.189.124]) by inbox.dpdk.org (Postfix) with ESMTP id 93DE248A98 for ; Fri, 7 Nov 2025 12:42:59 +0100 (CET) Received: from mails.dpdk.org (localhost [127.0.0.1]) by mails.dpdk.org (Postfix) with ESMTP id 5F9A040264; Fri, 7 Nov 2025 12:42:59 +0100 (CET) Received: from mail-pl1-f228.google.com (mail-pl1-f228.google.com [209.85.214.228]) by mails.dpdk.org (Postfix) with ESMTP id F328040280 for ; Fri, 7 Nov 2025 12:42:57 +0100 (CET) Received: by mail-pl1-f228.google.com with SMTP id d9443c01a7336-29633fdb2bcso6835765ad.3 for ; Fri, 07 Nov 2025 03:42:57 -0800 (PST) DKIM-Signature: v=1; a=rsa-sha256; c=relaxed/relaxed; d=iol.unh.edu; s=unh-iol; t=1762515777; x=1763120577; darn=dpdk.org; h=references:in-reply-to:cc:to:from:subject:message-id:date:from:to :cc:subject:date:message-id:reply-to; bh=2DHfZuAc+K0/o+DzHnF0P6s0pkxHu/I95dDAHi2G3LA=; b=PEAOq1OLfbK5et0LE8vebCmqfN8OY8i4l8586ZWHbURBsBlF3xKDbxp61fOHv+jjC9 KUwXmUhrHeSyvyNuhBiANFAaNPeWYCZ6tC7m0Xt4cYWpLvcQUXGmIN3JrKp60I6LxjKv +jjpphae05M6/7Z1Mi916J/CpEflZOLTCQ1+4= X-Google-DKIM-Signature: v=1; a=rsa-sha256; c=relaxed/relaxed; d=1e100.net; s=20230601; t=1762515777; x=1763120577; h=references:in-reply-to:cc:to:from:subject:message-id:date:x-gm-gg :x-gm-message-state:from:to:cc:subject:date:message-id:reply-to; bh=2DHfZuAc+K0/o+DzHnF0P6s0pkxHu/I95dDAHi2G3LA=; b=hMJ0F/cyVAzQKBhZWHx6EV1r2ed/zy0ymcE7MyCPq7XKKzQ8w/fje+V/G9fyptpsq6 Q8dCykGPiv1EhoNRvEOsqPZGJKqrPNkebrYdJz8tZDHvZuH4PMFCiuMS3BLv2uzO5gkj 0LF8XEvrf5gJLPCdhHIoZYpkJuz6TKEJ4bpZrpFEERcqPEnrh+okqLSWqj6kFfnJFq3O bxUa1jWDDYjIa72CcPj3hbsh/qz8lIt8+3B+FSH9EYg3u+BXVFcP28BnARe9FHVHvQNY Tm+heFYFvVy2DXeCH42gmJJMoSJtpIlxCs5hTUC1rBjBQ7z5F2Uuc27d1a6H6FEGLld9 OWRw== X-Gm-Message-State: AOJu0YzbFvgoy2MIv/GbjcAolJmzpcPytCyLZg1Ws0UdoJwKtGSV8ySW VRMkYWmbBcQ1pn+c7/pxlTzAlrGAyYXvh/ncxjhjpahLdEWlRwm98l0MNKLXWsELV22T8Ko/uNF dJR5/I94T24mpQBKe6a0WiBo5/M8KHgAj4fzEEOjToJrf2xzv3m6TmUOcK3NJ X-Gm-Gg: ASbGncsEL7ZpHxqup8c360GD3nrc+X1BavlVXCbibwd9omLJBlAtVAPOm0AoNTWJfiy hyuST+BL5cZMx0YvOKSdX0kefMXQMdo02Q2ZZnkTIiiTNi1HNIyVBvu75Fg+rTNcXIhRgQogjKz B4a/OmViCKEOyMBJ2A1AFDXcsarar5ik6afBH6VAt5ejcgagp0YD10j/M+et8kK0skiRu2vSmT5 nuvvxAqj9GD+P0P30lnDYKVN+AumV+KZRYVW8Ow4V15mVeXVZaCs8PhNNvgJBfgYEXKRtTRatU8 7aRcIzxU8/x4JLlPfcN1oBAM4pIsFiW3bE3UJdvSDu/jyTSMOtJj3pWjRFWtT38k1SrdMramRvM +EY2ZC9aI X-Google-Smtp-Source: AGHT+IESUwpf6IZFUQ+CDjSwF2H5ZJXURLWIvya0QnKgroBj6ZMvKk2bqdaI/BTvm4EgBVodPlTasRfwh7n6 X-Received: by 2002:a17:902:e748:b0:295:8a09:bcf2 with SMTP id d9443c01a7336-297c03b6f32mr33199555ad.8.1762515777046; Fri, 07 Nov 2025 03:42:57 -0800 (PST) Received: from postal.iol.unh.edu (postal.iol.unh.edu. [2606:4100:3880:1234::84]) by smtp-relay.gmail.com with ESMTPS id d9443c01a7336-29650c672e0sm4799875ad.26.2025.11.07.03.42.56 (version=TLS1_2 cipher=ECDHE-ECDSA-AES128-GCM-SHA256 bits=128/128); Fri, 07 Nov 2025 03:42:57 -0800 (PST) X-Relaying-Domain: iol.unh.edu Date: Fri, 07 Nov 2025 03:42:57 -0800 (PST) Message-ID: <690ddb41.170a0220.14a9e2.9653SMTPIN_ADDED_MISSING@mx.google.com> Received: from [172.21.0.2] (unknown [172.18.0.240]) by postal.iol.unh.edu (Postfix) with ESMTP id DFEC96051830; Fri, 7 Nov 2025 06:42:55 -0500 (EST) Subject: |SUCCESS| pw158496 [PATCH] [v1] net/intel: changes to avoid comma op From: dpdklab@iol.unh.edu To: Test Report Cc: dpdk-test-reports@iol.unh.edu In-Reply-To: <20251106082354.1534181-1-venkatesh.vemula@intel.com> References: <20251106082354.1534181-1-venkatesh.vemula@intel.com> Content-Type: text/plain X-BeenThere: test-report@dpdk.org X-Mailman-Version: 2.1.29 Precedence: list List-Id: automatic DPDK test reports List-Unsubscribe: , List-Archive: List-Post: List-Help: List-Subscribe: , Errors-To: test-report-bounces@dpdk.org Test-Label: iol-unit-arm64-testing Test-Status: SUCCESS http://dpdk.org/patch/158496 _Testing PASS_ Submitter: Venkatesh Vemula Date: Thursday, November 06 2025 08:23:54 DPDK git baseline: Repo:dpdk Branch: master CommitID:87f7895e470c13e13efd6762d701139d0987294a 158496 --> testing pass Upstream job id: Generic-Unit-Test-DPDK#389577 Test environment and result as below: +------------------------------+----------------+------------------------------+--------------+---------------------------+ | Environment | dpdk_unit_test | cryptodev_sw_snow3g_autotest | lpm_autotest | cryptodev_sw_zuc_autotest | +==============================+================+==============================+==============+===========================+ | CentOS Stream 9 | PASS | SKIPPED | SKIPPED | SKIPPED | +------------------------------+----------------+------------------------------+--------------+---------------------------+ | CentOS Stream 10 | PASS | SKIPPED | SKIPPED | SKIPPED | +------------------------------+----------------+------------------------------+--------------+---------------------------+ | Debian GNU/Linux 12 | PASS | SKIPPED | SKIPPED | SKIPPED | +------------------------------+----------------+------------------------------+--------------+---------------------------+ | Fedora Linux 40 | PASS | SKIPPED | SKIPPED | SKIPPED | +------------------------------+----------------+------------------------------+--------------+---------------------------+ | Fedora Linux 41 | PASS | SKIPPED | SKIPPED | SKIPPED | +------------------------------+----------------+------------------------------+--------------+---------------------------+ | Fedora Linux 42 | PASS | SKIPPED | SKIPPED | SKIPPED | +------------------------------+----------------+------------------------------+--------------+---------------------------+ | Red Hat Enterprise Linux 9.5 | PASS | SKIPPED | SKIPPED | SKIPPED | +------------------------------+----------------+------------------------------+--------------+---------------------------+ | Ubuntu 20.04 | PASS | SKIPPED | PASS | SKIPPED | +------------------------------+----------------+------------------------------+--------------+---------------------------+ | Ubuntu 22.04 | PASS | SKIPPED | SKIPPED | SKIPPED | +------------------------------+----------------+------------------------------+--------------+---------------------------+ | Ubuntu 24.04 | PASS | SKIPPED | SKIPPED | SKIPPED | +------------------------------+----------------+------------------------------+--------------+---------------------------+ | Debian 12 (arm) | SKIPPED | PASS | SKIPPED | PASS | +------------------------------+----------------+------------------------------+--------------+---------------------------+ CentOS Stream 9 Kernel: 5.4 Compiler: gcc gcc (GCC) 11.5.0 20240719 (Red Hat 11.5.0-11) CentOS Stream 10 Kernel: 5.4 Compiler: gcc gcc (GCC) 14.2.1 20250110 (Red Hat 14.2.1-8) Debian GNU/Linux 12 Kernel: 5.4 Compiler: gcc gcc (Debian 12.2.0-14+deb12u1) 12.2.0 Fedora Linux 40 Kernel: 5.4 Compiler: gcc gcc (GCC) 14.2.1 20240912 (Red Hat 14.2.1-3) Fedora Linux 41 Kernel: 5.4 Compiler: gcc gcc (GCC) 14.3.1 20250523 (Red Hat 14.3.1-1) Fedora Linux 42 Kernel: 5.4 Compiler: gcc gcc (GCC) 15.2.1 20250808 (Red Hat 15.2.1-1) Red Hat Enterprise Linux 9.5 Kernel: 5.4 Compiler: gcc gcc (GCC) 11.5.0 20240719 (Red Hat 11.5.0-2) Ubuntu 20.04 Kernel: 5.4 Compiler: gcc gcc (Ubuntu 9.4.0-1ubuntu1~20.04.2) 9.4.0 Ubuntu 22.04 Kernel: 5.4 Compiler: gcc gcc (Ubuntu 11.4.0-1ubuntu1~22.04) 11.4.0 Ubuntu 24.04 Kernel: 5.4 Compiler: gcc gcc (Ubuntu 13.3.0-6ubuntu2~24.04) 13.3.0 Debian 12 (arm) Kernel: Depends on container host Compiler: gcc (Debian 12.2.0-14) 12.2.0 To view detailed results, visit: https://lab.dpdk.org/results/dashboard/patchsets/34493/ UNH-IOL DPDK Community Lab To manage your email subscriptions, visit: https://lab.dpdk.org/results/dashboard/preferences/subscriptions/