From mboxrd@z Thu Jan 1 00:00:00 1970 Return-Path: Received: from mails.dpdk.org (mails.dpdk.org [217.70.189.124]) by inbox.dpdk.org (Postfix) with ESMTP id 6060548A98 for ; Fri, 7 Nov 2025 13:06:35 +0100 (CET) Received: from mails.dpdk.org (localhost [127.0.0.1]) by mails.dpdk.org (Postfix) with ESMTP id 3DF074021F; Fri, 7 Nov 2025 13:06:35 +0100 (CET) Received: from mail-yw1-f226.google.com (mail-yw1-f226.google.com [209.85.128.226]) by mails.dpdk.org (Postfix) with ESMTP id C88ED4021F for ; Fri, 7 Nov 2025 13:06:33 +0100 (CET) Received: by mail-yw1-f226.google.com with SMTP id 00721157ae682-7866aca9e25so5634067b3.3 for ; Fri, 07 Nov 2025 04:06:33 -0800 (PST) DKIM-Signature: v=1; a=rsa-sha256; c=relaxed/relaxed; d=iol.unh.edu; s=unh-iol; t=1762517193; x=1763121993; darn=dpdk.org; h=cc:to:from:subject:message-id:date:from:to:cc:subject:date :message-id:reply-to; bh=gxWtVQoM+RXUt+U47jk1p1wnAN2XCxKUJC9MW2Vcu48=; b=CJxLoIqD8p84k8Gp6UQy20zDDcsH/oJc6Gfzxljnu9eo59iuY9NrB5PK4COTi7vatt v4oS6JlxYuG5boNtXTFWk015MjIA4ZHVAITPPCkRuDWK5CqMpt6UkaClJsR1BN38cZEh /rvx038oCk5WWW6O8n6ZIKLAI5MKYbY3mf97w= X-Google-DKIM-Signature: v=1; a=rsa-sha256; c=relaxed/relaxed; d=1e100.net; s=20230601; t=1762517193; x=1763121993; h=cc:to:from:subject:message-id:date:x-gm-gg:x-gm-message-state:from :to:cc:subject:date:message-id:reply-to; bh=gxWtVQoM+RXUt+U47jk1p1wnAN2XCxKUJC9MW2Vcu48=; b=JsZFlf25CeIfS/fOaG9QMpRueFRGu1yYHmhbdDbRoPiXplVyQjOYodp2nGbOIGRD2j Z0z7zUIZtUuQHkw7KeWQ44S+m6E2Z5Ncy+ocZ4OmwdX6aUWeDUI4D0VuHabopkTXiBuN Zg0Ea1wlI2VNpDZxBfpD94Zo1GBHAOptSDxEeOMBs/jN+MWU9uSbBQqrSkmuUgTHLvAX bXvCIEHlkcFB+LTgA2YOCR6uW/agZTjKjpAxABTFvTtpo996rduLYxjyAaZERj/TSvj3 89D+x9pwyIvVU3swVNmrAs28qiKOt+66QDcW/53QD++T2k1aBBK/A0sYHiXfi5qawwl6 KfVg== X-Gm-Message-State: AOJu0YwAXYtAiQFiQ4h+UKBT4PW8HtXS5PXPvPXHJ4M3l1+vBWCkiytf B0qZq2IOVIhIXuCph85gjdzbcYtwGjrlTxdCkrZckEMChuKrPMGrJP3V+YpA0VLE2gC/dQBKnSF KiVUPTeB1EelvZ6+PIgNAizaWb4FMc8c8+K3CJF6EaYak+ibpiErZ X-Gm-Gg: ASbGnctNwsZsKB8L6yAfHUvafFShhOrAQaht5XBO4+PsuwZHISCVTVXRzKLJa3FOl05 +1XoMHSOS4toesjgwch/fXKhtkLZK3Wtu4WOzTh/TyrudInOCAxfXgtR9dwMDufaE8CNtI+oyHm FV0GNpYtgVcfgOPulBGlZS1wPtJYQGw1wmCIH8DDi8CCxZp2vU1mM8gvQyb2UtQ4K+opePdpXan MkiX6LHf/724rZ66e6ieUbF87g2ucHc6ll/CzQIWWCLVkc1eJWfTltAVqbnWzIXStsWu4dLYS/3 YNZicHlJ+tn7Q8YxmmXLXhj/IZ2pekLdyaj5fKBzV9tQmI/FSckn3CBZy5Lt97Mc1cI8F8NeiXD XlHmSpykT X-Google-Smtp-Source: AGHT+IGrIpMwChhYqx9xrKIL+nKpL3Kun6joaqNUOZ3VvqUNbF1B15/bQ/1Ftv2JxF2vAh9sedUg51oHbjQu X-Received: by 2002:a05:690c:d92:b0:786:3ee8:66e3 with SMTP id 00721157ae682-787c53ceb80mr28613487b3.32.1762517192971; Fri, 07 Nov 2025 04:06:32 -0800 (PST) Received: from postal.iol.unh.edu (postal.iol.unh.edu. [2606:4100:3880:1234::84]) by smtp-relay.gmail.com with ESMTPS id 00721157ae682-787b16101ccsm3335857b3.5.2025.11.07.04.06.32 (version=TLS1_2 cipher=ECDHE-ECDSA-AES128-GCM-SHA256 bits=128/128); Fri, 07 Nov 2025 04:06:32 -0800 (PST) X-Relaying-Domain: iol.unh.edu Date: Fri, 07 Nov 2025 04:06:32 -0800 (PST) Message-ID: <690de0c8.050a0220.32cbea.172dSMTPIN_ADDED_MISSING@mx.google.com> Received: from [172.21.0.2] (unknown [172.18.0.240]) by postal.iol.unh.edu (Postfix) with ESMTP id 934DA60003E8; Fri, 7 Nov 2025 07:06:32 -0500 (EST) Subject: |SUCCESS| [GIT MASTER] 0bd935abcb823f581ce53986986aa54eaf6f8140 From: dpdklab@iol.unh.edu To: Test Report Cc: dpdk-test-reports@iol.unh.edu, Xueming Li , Christian Ehrhardt , Kevin Traynor , Luca Boccassi Content-Type: text/plain X-BeenThere: test-report@dpdk.org X-Mailman-Version: 2.1.29 Precedence: list List-Id: automatic DPDK test reports List-Unsubscribe: , List-Archive: List-Post: List-Help: List-Subscribe: , Errors-To: test-report-bounces@dpdk.org _Testing PASS_ Branch: tags/v24.11 0bd935abcb823f581ce53986986aa54eaf6f8140 --> testing pass Upstream job id: Generic-DPDK-Compile-Meson#441927 Test environment and result as below: +------------------------------+--------------------+ | Environment | dpdk_meson_compile | +==============================+====================+ | Red Hat Enterprise Linux 9.5 | PASS | +------------------------------+--------------------+ | Ubuntu 20.04 | PASS | +------------------------------+--------------------+ | Debian GNU/Linux 12 | PASS | +------------------------------+--------------------+ | Fedora Linux 42 | PASS | +------------------------------+--------------------+ | Ubuntu 22.04 | PASS | +------------------------------+--------------------+ | Ubuntu 24.04 | PASS | +------------------------------+--------------------+ | CentOS Stream 9 | PASS | +------------------------------+--------------------+ | CentOS Stream 10 | PASS | +------------------------------+--------------------+ Red Hat Enterprise Linux 9.5 Kernel: 5.4 Compiler: gcc gcc (GCC) 11.5.0 20240719 (Red Hat 11.5.0-2) Ubuntu 20.04 Kernel: 5.15 Compiler: aarch64-linux-gnu-gcc gcc (Ubuntu 9.4.0-1ubuntu1~20.04.2) 9.4.0 Debian GNU/Linux 12 Kernel: 5.4 Compiler: gcc gcc (Debian 12.2.0-14+deb12u1) 12.2.0 Fedora Linux 42 Kernel: 5.4 Compiler: gcc gcc (GCC) 15.2.1 20250808 (Red Hat 15.2.1-1) Ubuntu 22.04 Kernel: 5.4 Compiler: gcc gcc (Ubuntu 11.4.0-1ubuntu1~22.04) 11.4.0 Ubuntu 24.04 Kernel: 5.4 Compiler: gcc gcc (Ubuntu 13.3.0-6ubuntu2~24.04) 13.3.0 CentOS Stream 9 Kernel: 5.4 Compiler: gcc gcc (GCC) 11.5.0 20240719 (Red Hat 11.5.0-11) CentOS Stream 10 Kernel: 5.4 Compiler: gcc gcc (GCC) 14.2.1 20250110 (Red Hat 14.2.1-8) To view detailed results, visit: https://lab.dpdk.org/results/dashboard/tarballs/35498/ UNH-IOL DPDK Community Lab To manage your email subscriptions, visit: https://lab.dpdk.org/results/dashboard/preferences/subscriptions/