From mboxrd@z Thu Jan 1 00:00:00 1970 Return-Path: Received: from mails.dpdk.org (mails.dpdk.org [217.70.189.124]) by inbox.dpdk.org (Postfix) with ESMTP id D489748AA3 for ; Fri, 7 Nov 2025 22:22:55 +0100 (CET) Received: from mails.dpdk.org (localhost [127.0.0.1]) by mails.dpdk.org (Postfix) with ESMTP id CC9DD40261; Fri, 7 Nov 2025 22:22:55 +0100 (CET) Received: from mail-qv1-f99.google.com (mail-qv1-f99.google.com [209.85.219.99]) by mails.dpdk.org (Postfix) with ESMTP id 627F940261 for ; Fri, 7 Nov 2025 22:22:54 +0100 (CET) Received: by mail-qv1-f99.google.com with SMTP id 6a1803df08f44-8804d05dfcaso14451206d6.0 for ; Fri, 07 Nov 2025 13:22:54 -0800 (PST) DKIM-Signature: v=1; a=rsa-sha256; c=relaxed/relaxed; d=iol.unh.edu; s=unh-iol; t=1762550574; x=1763155374; darn=dpdk.org; h=references:in-reply-to:cc:to:from:subject:message-id:date:from:to :cc:subject:date:message-id:reply-to; bh=ZXR/Wl9V7cKawXZdzNjfkS2JRh5mJqwG+H8dNeC/NnU=; b=C/qt2anNpEkVzO1nwvnHrZ9Ida2Vij3AiMKGLEKXsWz9B5PGZVX1+yWpozh/2FkYIP ktz9TbeXpjWglQPPQaLa04OfK4tCJNGrAu308ciUbCCgKd3nQxHIT5Ogde14cIG7V/I4 34VN5Mo4ISh4kDyMm9MuHGMNeTLw+7dzY1XtA= X-Google-DKIM-Signature: v=1; a=rsa-sha256; c=relaxed/relaxed; d=1e100.net; s=20230601; t=1762550574; x=1763155374; h=references:in-reply-to:cc:to:from:subject:message-id:date:x-gm-gg :x-gm-message-state:from:to:cc:subject:date:message-id:reply-to; bh=ZXR/Wl9V7cKawXZdzNjfkS2JRh5mJqwG+H8dNeC/NnU=; b=Ig90uBPuuNQLwNWV+v3I6X0g9lUD2rFV84Dg0R9S0n9TeHeVonY/iFBKeyraasYKNT 7FfLxkEddRcmcPoCuJZ5nx80RH4eKGUo9Kh6mGsfHiuhSvErqUAn5popECwlSqcV6KPQ XWPtQrDE4CHyNFt4TLYIOYwOph7JpgFc3ftgt/y3/C+VUVxWlbplQjHHHoaZO97Kdr9+ 7cwAh7MH65330iIem8lONUApq9gOIiPEWGFL4T5LFo6MTR3XQCmCSqarve2qRfbHdwoS hFR4Nax5zylYA2eTEqAJTI+96j/yXXveld18eU7ZuRq4x9onLEkogWbC1T5BYyBLCCux Br5g== X-Gm-Message-State: AOJu0Yy+CDIQi2jprKpImiUtnx4Uj9ZLqdB8E4dPlhkxPC/mD4gbyXj4 nrl3k+ODTuY0/lf+FWlc219BP2426TpXq8xJ6iH+V4BxQ1O0S03NidTYXTp+lbXDP01yvNty9HP 5ZalCt5t96fjFLD1rywKP7cbaMBG8GyIZCpKFzYjqYmuROrjth14VODDsKRyA X-Gm-Gg: ASbGncu4tM+4irETvwyl2SHNa60aby9RgEKj6TQPd0o8j7o7DWzPLikBdMfxi1vj3T8 /j+/isRidFV1bcuD5kSSMWcBFB4yh2ejwDJIcvRmVoXT0mTUickKf4q8OfVjdSfH2nZAM+X8Uo3 uL4kYFszAODb0xQ8qkWlk6a+HP9MwGDOFGFjujmExshHLK8DqbwS2USN1XVxyLj95WJFJGr6iB/ nON7gD7yIfXVyzKeoF/LtoxSLzKcNXZcg2fCnjhKRWqbMyE/oHJ/nofrNJu0yvUAfEZWrK7qxF3 m5lVxMOmos1hA8tqF7AG7fzd8UttVgJ7/tBUpz+8Q5pKO5u4P+AFxJGO4Qk/KF+B4re846cIiub /p546sMpj X-Google-Smtp-Source: AGHT+IGDgBMwWWdSMvo9wRMnG0dxRlR3nDhkrMB7qcXbnCm2a+TcSTJwPsdnjz8yrYMcqkx+XMtT6qOJpODd X-Received: by 2002:a05:6214:2504:b0:880:5025:98d7 with SMTP id 6a1803df08f44-882386f9110mr8902426d6.40.1762550573737; Fri, 07 Nov 2025 13:22:53 -0800 (PST) Received: from postal.iol.unh.edu (postal.iol.unh.edu. [2606:4100:3880:1234::84]) by smtp-relay.gmail.com with ESMTPS id 6a1803df08f44-88238b21a93sm284346d6.16.2025.11.07.13.22.53 (version=TLS1_2 cipher=ECDHE-ECDSA-AES128-GCM-SHA256 bits=128/128); Fri, 07 Nov 2025 13:22:53 -0800 (PST) X-Relaying-Domain: iol.unh.edu Date: Fri, 07 Nov 2025 13:22:53 -0800 (PST) Message-ID: <690e632d.050a0220.32d68b.186eSMTPIN_ADDED_MISSING@mx.google.com> Received: from [172.21.0.2] (unknown [172.18.0.240]) by postal.iol.unh.edu (Postfix) with ESMTP id 470496051830; Fri, 7 Nov 2025 16:22:52 -0500 (EST) Subject: |SUCCESS| pw158572 [PATCH] [v2] mbuf: improve mbuf comments From: dpdklab@iol.unh.edu To: Test Report Cc: dpdk-test-reports@iol.unh.edu In-Reply-To: <20251107143629.612723-1-mb@smartsharesystems.com> References: <20251107143629.612723-1-mb@smartsharesystems.com> Content-Type: text/plain X-BeenThere: test-report@dpdk.org X-Mailman-Version: 2.1.29 Precedence: list List-Id: automatic DPDK test reports List-Unsubscribe: , List-Archive: List-Post: List-Help: List-Subscribe: , Errors-To: test-report-bounces@dpdk.org Test-Label: iol-compile-arm64-testing Test-Status: SUCCESS http://dpdk.org/patch/158572 _Testing PASS_ Submitter: Morten Brorup Date: Friday, November 07 2025 14:36:29 DPDK git baseline: Repo:dpdk Branch: master CommitID:87f7895e470c13e13efd6762d701139d0987294a 158572 --> testing pass Upstream job id: Generic-DPDK-Compile-Meson#442004 Test environment and result as below: +------------------------------+--------------------+ | Environment | dpdk_meson_compile | +==============================+====================+ | Red Hat Enterprise Linux 9.5 | PASS | +------------------------------+--------------------+ | Ubuntu 20.04 | PASS | +------------------------------+--------------------+ | Debian GNU/Linux 12 | PASS | +------------------------------+--------------------+ | Fedora Linux 42 | PASS | +------------------------------+--------------------+ | Ubuntu 22.04 | PASS | +------------------------------+--------------------+ | Ubuntu 24.04 | PASS | +------------------------------+--------------------+ | CentOS Stream 10 | PASS | +------------------------------+--------------------+ | CentOS Stream 9 | PASS | +------------------------------+--------------------+ Red Hat Enterprise Linux 9.5 Kernel: 5.4 Compiler: gcc gcc (GCC) 11.5.0 20240719 (Red Hat 11.5.0-2) Ubuntu 20.04 Kernel: 5.15 Compiler: aarch64-linux-gnu-gcc gcc (Ubuntu 9.4.0-1ubuntu1~20.04.2) 9.4.0 Debian GNU/Linux 12 Kernel: 5.4 Compiler: gcc gcc (Debian 12.2.0-14+deb12u1) 12.2.0 Fedora Linux 42 Kernel: 5.4 Compiler: clang gcc (GCC) 15.2.1 20250808 (Red Hat 15.2.1-1) Ubuntu 22.04 Kernel: 5.4 Compiler: gcc gcc (Ubuntu 11.4.0-1ubuntu1~22.04) 11.4.0 Ubuntu 24.04 Kernel: 5.4 Compiler: gcc gcc (Ubuntu 13.3.0-6ubuntu2~24.04) 13.3.0 CentOS Stream 10 Kernel: 5.4 Compiler: gcc gcc (GCC) 14.2.1 20250110 (Red Hat 14.2.1-8) CentOS Stream 9 Kernel: 5.4 Compiler: gcc gcc (GCC) 11.5.0 20240719 (Red Hat 11.5.0-11) To view detailed results, visit: https://lab.dpdk.org/results/dashboard/patchsets/34506/ UNH-IOL DPDK Community Lab To manage your email subscriptions, visit: https://lab.dpdk.org/results/dashboard/preferences/subscriptions/