From mboxrd@z Thu Jan 1 00:00:00 1970 Return-Path: Received: from mails.dpdk.org (mails.dpdk.org [217.70.189.124]) by inbox.dpdk.org (Postfix) with ESMTP id 04B3848AA4 for ; Sat, 8 Nov 2025 03:57:36 +0100 (CET) Received: from mails.dpdk.org (localhost [127.0.0.1]) by mails.dpdk.org (Postfix) with ESMTP id BEE5240261; Sat, 8 Nov 2025 03:57:36 +0100 (CET) Received: from mail-yw1-f228.google.com (mail-yw1-f228.google.com [209.85.128.228]) by mails.dpdk.org (Postfix) with ESMTP id 3DD3F40261 for ; Sat, 8 Nov 2025 03:57:35 +0100 (CET) Received: by mail-yw1-f228.google.com with SMTP id 00721157ae682-7869deffb47so14192017b3.1 for ; Fri, 07 Nov 2025 18:57:35 -0800 (PST) DKIM-Signature: v=1; a=rsa-sha256; c=relaxed/relaxed; d=iol.unh.edu; s=unh-iol; t=1762570654; x=1763175454; darn=dpdk.org; h=references:in-reply-to:cc:to:from:subject:message-id:date:from:to :cc:subject:date:message-id:reply-to; bh=GYw7vER7Sqj7kShxLNhGy1l8kQRrJ0AGavsCOOmOWew=; b=GxgeeplkNj+r4Sux3leBWm2IeWqfmS3XnSQd07WhjUSTUj34KBQEuodps93Ck77sxj e6V/rMx359Ljw9ZCLYuF4ctAHtNYANJk4Sn9jSxLCsVum+XRwr1gaBRTaCB6u88yEo2V WegDI/pVUniPheNRa8ynSR33voycChE2Wm99U= X-Google-DKIM-Signature: v=1; a=rsa-sha256; c=relaxed/relaxed; d=1e100.net; s=20230601; t=1762570654; x=1763175454; h=references:in-reply-to:cc:to:from:subject:message-id:date:x-gm-gg :x-gm-message-state:from:to:cc:subject:date:message-id:reply-to; bh=GYw7vER7Sqj7kShxLNhGy1l8kQRrJ0AGavsCOOmOWew=; b=Mx9mQ/fMAGSmPceD4xaXOOfZoDzr3Qay6glYb8hYaDbajfDs+EnvMAoGih8fzmRStn w+dFdedu+JlzJV7KDgTpYJcdMjJFzT3kEe7y3SV8tSpoDJWGI5MKmY91nSK4a3i0Py/N hwGq3AbcHmc3qaWoOKDVNj6WfRTm2oJzcs6hjXtCpfpMWr1iYwD7Y9DlozRI1BkWzAFu dscCa1SiJD4w5r6T/wWFdnGlzE27uhZAYjj3AGL0bVaJ7N4+puIhalpKzSzuaAvRPtsH 0fFCwrOqjJI3PQsKowY6CAK2eYPE6m8Q8OfTzBSRtjLP8jKgdO1ZZj58kbxG5613WqxO 1Hww== X-Gm-Message-State: AOJu0YwsuRluhyXFDbiEHnUyF+OdR7Oa1LpGBNk6JtC0O/bnWDNCzODc VKDjfejbC2ZnnD3WSa8ZF8xmIooFB6BIvXmAUeWZ+GcVgFMvAS7JV69toWZaawgvUoI3LQ1TQAz QYdKUgL5+wjE7KcZLGrtZY09cI45rNk3tyyuPFNblNSMT X-Gm-Gg: ASbGncv5drH0eKYLDQwfKB+gvDraLwiN6noYD7u4ous/PeYtz0LJmyiPcZLVS6qTV7T BHKUAhn1bxB1WLgc8WwQ6EzT9u0iKxuiGrXe6BFizQyH6hEA63RGnNDnHdD2Cxav5EU4E45nK6j Qt8DtRzSuR36FGqssocNdH4YnMBDcKeN360BuzlPSnI54f7UnZ2KOPbqx27An2tqgXooyIr1c3Z bq1w7VX5mGZUbPhDujXJgBzRbTVZYzuVC1laHLsw9O7+hEfegwMTestmTrRz5MmYhOVEF9Xdp+m SuBF8Osv3DqwHxonB4jMD1Aj8rQRVgo8R01G8+27SHlW17WxWGZ+1lcWuR3X0KbFIB32hXQ4i2d aGKELKFXA9AWscfJqA3XztJ1qmIRT2ws= X-Google-Smtp-Source: AGHT+IH0+u16Tcgpbh0fcRNjaqbU0fetAyvaM9wEnnh0WcY+X44V7qwG1HC7zyofXW6wIZ3n6R//QaBh85ZO X-Received: by 2002:a05:690c:402d:b0:786:383f:5b72 with SMTP id 00721157ae682-787d541b36amr12004477b3.40.1762570654477; Fri, 07 Nov 2025 18:57:34 -0800 (PST) Received: from postal.iol.unh.edu (postal.iol.unh.edu. [132.177.123.84]) by smtp-relay.gmail.com with ESMTPS id 00721157ae682-787d69f0384sm440997b3.34.2025.11.07.18.57.34 (version=TLS1_2 cipher=ECDHE-ECDSA-AES128-GCM-SHA256 bits=128/128); Fri, 07 Nov 2025 18:57:34 -0800 (PST) X-Relaying-Domain: iol.unh.edu Date: Fri, 07 Nov 2025 18:57:34 -0800 (PST) Message-ID: <690eb19e.050a0220.35dbce.281eSMTPIN_ADDED_MISSING@mx.google.com> Received: from [172.21.0.2] (unknown [172.18.0.240]) by postal.iol.unh.edu (Postfix) with ESMTP id 1947660003E8; Fri, 7 Nov 2025 21:57:34 -0500 (EST) Subject: |SUCCESS| pw158542 [PATCH] net/ice: fix statistics read error From: dpdklab@iol.unh.edu To: Test Report Cc: dpdk-test-reports@iol.unh.edu, Bruce Richardson In-Reply-To: <20251107074338.957352-1-zhichaox.zeng@intel.com> References: <20251107074338.957352-1-zhichaox.zeng@intel.com> Content-Type: text/plain X-BeenThere: test-report@dpdk.org X-Mailman-Version: 2.1.29 Precedence: list List-Id: automatic DPDK test reports List-Unsubscribe: , List-Archive: List-Post: List-Help: List-Subscribe: , Errors-To: test-report-bounces@dpdk.org Test-Label: iol-unit-arm64-testing Test-Status: SUCCESS http://dpdk.org/patch/158542 _Testing PASS_ Submitter: Zhichao Zeng Date: Friday, November 07 2025 07:43:38 DPDK git baseline: Repo:dpdk-next-net-intel Branch: master CommitID:1655dc989bc95fa85fc76d32912d2e46c0851148 158542 --> testing pass Upstream job id: Generic-Unit-Test-DPDK#389911 Test environment and result as below: +------------------------------+--------------+---------------------------+------------------------------+----------------+ | Environment | lpm_autotest | cryptodev_sw_zuc_autotest | cryptodev_sw_snow3g_autotest | dpdk_unit_test | +==============================+==============+===========================+==============================+================+ | Ubuntu 20.04 | PASS | SKIPPED | SKIPPED | PASS | +------------------------------+--------------+---------------------------+------------------------------+----------------+ | Debian 12 (arm) | SKIPPED | PASS | PASS | SKIPPED | +------------------------------+--------------+---------------------------+------------------------------+----------------+ | CentOS Stream 9 | SKIPPED | SKIPPED | SKIPPED | PASS | +------------------------------+--------------+---------------------------+------------------------------+----------------+ | Fedora Linux 40 | SKIPPED | SKIPPED | SKIPPED | PASS | +------------------------------+--------------+---------------------------+------------------------------+----------------+ | Fedora Linux 41 | SKIPPED | SKIPPED | SKIPPED | PASS | +------------------------------+--------------+---------------------------+------------------------------+----------------+ | CentOS Stream 10 | SKIPPED | SKIPPED | SKIPPED | PASS | +------------------------------+--------------+---------------------------+------------------------------+----------------+ | Debian GNU/Linux 12 | SKIPPED | SKIPPED | SKIPPED | PASS | +------------------------------+--------------+---------------------------+------------------------------+----------------+ | Fedora Linux 42 | SKIPPED | SKIPPED | SKIPPED | PASS | +------------------------------+--------------+---------------------------+------------------------------+----------------+ | Red Hat Enterprise Linux 9.5 | SKIPPED | SKIPPED | SKIPPED | PASS | +------------------------------+--------------+---------------------------+------------------------------+----------------+ | Ubuntu 24.04 | SKIPPED | SKIPPED | SKIPPED | PASS | +------------------------------+--------------+---------------------------+------------------------------+----------------+ | Ubuntu 22.04 | SKIPPED | SKIPPED | SKIPPED | PASS | +------------------------------+--------------+---------------------------+------------------------------+----------------+ Ubuntu 20.04 Kernel: 5.4 Compiler: gcc gcc (Ubuntu 9.4.0-1ubuntu1~20.04.2) 9.4.0 Debian 12 (arm) Kernel: Depends on container host Compiler: gcc (Debian 12.2.0-14) 12.2.0 CentOS Stream 9 Kernel: 5.4 Compiler: gcc gcc (GCC) 11.5.0 20240719 (Red Hat 11.5.0-11) Fedora Linux 40 Kernel: 5.4 Compiler: gcc gcc (GCC) 14.2.1 20240912 (Red Hat 14.2.1-3) Fedora Linux 41 Kernel: 5.4 Compiler: gcc gcc (GCC) 14.3.1 20250523 (Red Hat 14.3.1-1) CentOS Stream 10 Kernel: 5.4 Compiler: gcc gcc (GCC) 14.2.1 20250110 (Red Hat 14.2.1-8) Debian GNU/Linux 12 Kernel: 5.4 Compiler: gcc gcc (Debian 12.2.0-14+deb12u1) 12.2.0 Fedora Linux 42 Kernel: 5.4 Compiler: gcc gcc (GCC) 15.2.1 20250808 (Red Hat 15.2.1-1) Red Hat Enterprise Linux 9.5 Kernel: 5.4 Compiler: gcc gcc (GCC) 11.5.0 20240719 (Red Hat 11.5.0-2) Ubuntu 24.04 Kernel: 5.4 Compiler: gcc gcc (Ubuntu 13.3.0-6ubuntu2~24.04) 13.3.0 Ubuntu 22.04 Kernel: 5.4 Compiler: gcc gcc (Ubuntu 11.4.0-1ubuntu1~22.04) 11.4.0 To view detailed results, visit: https://lab.dpdk.org/results/dashboard/patchsets/34504/ UNH-IOL DPDK Community Lab To manage your email subscriptions, visit: https://lab.dpdk.org/results/dashboard/preferences/subscriptions/