From mboxrd@z Thu Jan 1 00:00:00 1970 Return-Path: Received: from mails.dpdk.org (mails.dpdk.org [217.70.189.124]) by inbox.dpdk.org (Postfix) with ESMTP id 18E7B48AAC for ; Sat, 8 Nov 2025 10:52:03 +0100 (CET) Received: from mails.dpdk.org (localhost [127.0.0.1]) by mails.dpdk.org (Postfix) with ESMTP id ECDB3400D5; Sat, 8 Nov 2025 10:52:02 +0100 (CET) Received: from mail-pf1-f227.google.com (mail-pf1-f227.google.com [209.85.210.227]) by mails.dpdk.org (Postfix) with ESMTP id 14393400D5 for ; Sat, 8 Nov 2025 10:52:02 +0100 (CET) Received: by mail-pf1-f227.google.com with SMTP id d2e1a72fcca58-7a9fb6fccabso1269728b3a.0 for ; Sat, 08 Nov 2025 01:52:01 -0800 (PST) DKIM-Signature: v=1; a=rsa-sha256; c=relaxed/relaxed; d=iol.unh.edu; s=unh-iol; t=1762595521; x=1763200321; darn=dpdk.org; h=references:in-reply-to:cc:to:from:subject:message-id:date:from:to :cc:subject:date:message-id:reply-to; bh=ZxU1rRf2FKDK/RBEuhGuo6jLrolX7B747H8cXx/I86Y=; b=iJe45nUnvPX3LxtZwaZSzeuoG77Q7lxHzMMjaLXUu7epguJB4fD97Co6MCeTYw797Y YsoAVakZGam/qhWdn31h2fI5K0b4gngU7y6JvDdzJAPCFAtSI3SRM/YFCE1VzZqrFkTx fDy/fYNlPyeUEsd0dMFWz8SqFwlFfIEUSnHqQ= X-Google-DKIM-Signature: v=1; a=rsa-sha256; c=relaxed/relaxed; d=1e100.net; s=20230601; t=1762595521; x=1763200321; h=references:in-reply-to:cc:to:from:subject:message-id:date:x-gm-gg :x-gm-message-state:from:to:cc:subject:date:message-id:reply-to; bh=ZxU1rRf2FKDK/RBEuhGuo6jLrolX7B747H8cXx/I86Y=; b=TTQ9fARIvhdcgpd67k4S5i1nr8c7uS/dngI0YhmwVvn5HyKsGyQyFQQ1/EImGZotXN JFFzW2pymY1JY0Ft9wzpw9eY3FWAPfUOLKWuj6TO0610cvakZzJADQsnQ4+8Xo4Bl+v4 oNb9aFKkWh++gP+kNG5tAO+dUzmBYBifjPIZxFizklGmbItddnVIVTZmBgPOVJifB5gG roLGE8EO4ebaDXHdV0I8LAV0Xvb7LUScfDq1bHegYr4iaeS0t2M2vPj+DYaj2mRKvpM1 Y/wKg+IR/VGH+DHEbep0ROM1C9BwzOAVjumAUL/ihmmNGM4WRoRl6obpLSMNElATZQtG AQeQ== X-Gm-Message-State: AOJu0Yywe5bw7VKV45W+1id1MHbP0VneJ9LayqcakdoSjq3KO9kxSt3c 1RM94F5L3YsmeVXAN2/vsxwSqv7G6wY8hNdrQDhp17YWnaqR9UVNvJG9JO3wPL+FghJYSfss34m cjQ9vMRfEenPNWhMuPle+bLvMpEsezFNwgpcQ5cSnsCwJ3S/D6bzkI8/KH3/7 X-Gm-Gg: ASbGnctp1eKG3JlRbqiP5JrgGKbQJ3gvpWlz4h0YkzyTmTlWHT0EU3WmDqtr2pCU/lR +LyttFR1BLWLmhDpjRZg/yJt3NCzwVPekM/py3P9h/MtU34hwYsM0fBX18tt4cN54wi3lNmYTKQ RKpza9hM1hjwpdva4YM1Y3Htlz6e0QpIBebDnHrlljt3ZTtMr3ZUlYMT2jcL7vO5INTMDOFwDe8 AJgsucqiQqA4s9/E3OjalKnY5TU7TBxlTVrbenSfpyKP+utCoxqi2CwmxSQ25uH18rJD/OS/pOd Wcp5u5e7QAhVr0/BbRnAKm27Psg921tIQ0pUcOg2ZDhGguEp0DdBFu+uj5AD6UyOn6osJPquvVi ZkgnwTcsM X-Google-Smtp-Source: AGHT+IHaVUCsFZdI+rSgYJlH6nNoblLfz1wIa43VcqTmp/r0J/SZz1+uj2Hjz8QFJ7qZGVRTu3P3tM4UZCMB X-Received: by 2002:a05:6a20:748d:b0:32b:83af:317 with SMTP id adf61e73a8af0-353a16c175fmr2698803637.15.1762595521167; Sat, 08 Nov 2025 01:52:01 -0800 (PST) Received: from postal.iol.unh.edu (postal.iol.unh.edu. [2606:4100:3880:1234::84]) by smtp-relay.gmail.com with ESMTPS id 41be03b00d2f7-ba8f4ed97easm478032a12.2.2025.11.08.01.52.01 (version=TLS1_2 cipher=ECDHE-ECDSA-AES128-GCM-SHA256 bits=128/128); Sat, 08 Nov 2025 01:52:01 -0800 (PST) X-Relaying-Domain: iol.unh.edu Date: Sat, 08 Nov 2025 01:52:01 -0800 (PST) Message-ID: <690f12c1.050a0220.39024.865dSMTPIN_ADDED_MISSING@mx.google.com> Received: from [172.21.0.2] (unknown [172.18.0.240]) by postal.iol.unh.edu (Postfix) with ESMTP id 47E6A6051830; Sat, 8 Nov 2025 04:52:00 -0500 (EST) Subject: |SUCCESS| pw158608-158611 [PATCH] [v5,4/4] dts: add virtio forwardin From: dpdklab@iol.unh.edu To: Test Report Cc: dpdk-test-reports@iol.unh.edu In-Reply-To: <20251107215020.255182-4-dmarx@iol.unh.edu> References: <20251107215020.255182-4-dmarx@iol.unh.edu> Content-Type: text/plain X-BeenThere: test-report@dpdk.org X-Mailman-Version: 2.1.29 Precedence: list List-Id: automatic DPDK test reports List-Unsubscribe: , List-Archive: List-Post: List-Help: List-Subscribe: , Errors-To: test-report-bounces@dpdk.org Test-Label: iol-unit-arm64-testing Test-Status: SUCCESS http://dpdk.org/patch/158611 _Testing PASS_ Submitter: Dean Marx Date: Friday, November 07 2025 21:50:18 DPDK git baseline: Repo:dpdk-next-dts Branch: master CommitID:86938398c8d6d8b88ff8237e30d3b7024d52c7bc 158608-158611 --> testing pass Upstream job id: Generic-Unit-Test-DPDK#390044 Test environment and result as below: +------------------------------+------------------------------+--------------+---------------------------+----------------+ | Environment | cryptodev_sw_snow3g_autotest | lpm_autotest | cryptodev_sw_zuc_autotest | dpdk_unit_test | +==============================+==============================+==============+===========================+================+ | Debian 12 (arm) | PASS | SKIPPED | PASS | SKIPPED | +------------------------------+------------------------------+--------------+---------------------------+----------------+ | Ubuntu 20.04 | SKIPPED | PASS | SKIPPED | PASS | +------------------------------+------------------------------+--------------+---------------------------+----------------+ | CentOS Stream 9 | SKIPPED | SKIPPED | SKIPPED | PASS | +------------------------------+------------------------------+--------------+---------------------------+----------------+ | CentOS Stream 10 | SKIPPED | SKIPPED | SKIPPED | PASS | +------------------------------+------------------------------+--------------+---------------------------+----------------+ | Debian GNU/Linux 12 | SKIPPED | SKIPPED | SKIPPED | PASS | +------------------------------+------------------------------+--------------+---------------------------+----------------+ | Fedora Linux 40 | SKIPPED | SKIPPED | SKIPPED | PASS | +------------------------------+------------------------------+--------------+---------------------------+----------------+ | Fedora Linux 41 | SKIPPED | SKIPPED | SKIPPED | PASS | +------------------------------+------------------------------+--------------+---------------------------+----------------+ | Fedora Linux 42 | SKIPPED | SKIPPED | SKIPPED | PASS | +------------------------------+------------------------------+--------------+---------------------------+----------------+ | Ubuntu 22.04 | SKIPPED | SKIPPED | SKIPPED | PASS | +------------------------------+------------------------------+--------------+---------------------------+----------------+ | Red Hat Enterprise Linux 9.5 | SKIPPED | SKIPPED | SKIPPED | PASS | +------------------------------+------------------------------+--------------+---------------------------+----------------+ | Ubuntu 24.04 | SKIPPED | SKIPPED | SKIPPED | PASS | +------------------------------+------------------------------+--------------+---------------------------+----------------+ Debian 12 (arm) Kernel: Depends on container host Compiler: gcc (Debian 12.2.0-14) 12.2.0 Ubuntu 20.04 Kernel: 5.4 Compiler: gcc gcc (Ubuntu 9.4.0-1ubuntu1~20.04.2) 9.4.0 CentOS Stream 9 Kernel: 5.4 Compiler: gcc gcc (GCC) 11.5.0 20240719 (Red Hat 11.5.0-11) CentOS Stream 10 Kernel: 5.4 Compiler: gcc gcc (GCC) 14.2.1 20250110 (Red Hat 14.2.1-8) Debian GNU/Linux 12 Kernel: 5.4 Compiler: gcc gcc (Debian 12.2.0-14+deb12u1) 12.2.0 Fedora Linux 40 Kernel: 5.4 Compiler: gcc gcc (GCC) 14.2.1 20240912 (Red Hat 14.2.1-3) Fedora Linux 41 Kernel: 5.4 Compiler: gcc gcc (GCC) 14.3.1 20250523 (Red Hat 14.3.1-1) Fedora Linux 42 Kernel: 5.4 Compiler: gcc gcc (GCC) 15.2.1 20250808 (Red Hat 15.2.1-1) Ubuntu 22.04 Kernel: 5.15 Compiler: gcc gcc (Ubuntu 11.4.0-1ubuntu1~22.04.2) 11.4.0 Red Hat Enterprise Linux 9.5 Kernel: 5.4 Compiler: gcc gcc (GCC) 11.5.0 20240719 (Red Hat 11.5.0-2) Ubuntu 24.04 Kernel: 5.4 Compiler: gcc gcc (Ubuntu 13.3.0-6ubuntu2~24.04) 13.3.0 To view detailed results, visit: https://lab.dpdk.org/results/dashboard/patchsets/34511/ UNH-IOL DPDK Community Lab To manage your email subscriptions, visit: https://lab.dpdk.org/results/dashboard/preferences/subscriptions/