From mboxrd@z Thu Jan 1 00:00:00 1970 Return-Path: Received: from mails.dpdk.org (mails.dpdk.org [217.70.189.124]) by inbox.dpdk.org (Postfix) with ESMTP id C26D148B30 for ; Mon, 17 Nov 2025 10:53:13 +0100 (CET) Received: from mails.dpdk.org (localhost [127.0.0.1]) by mails.dpdk.org (Postfix) with ESMTP id A63EC4026A; Mon, 17 Nov 2025 10:53:13 +0100 (CET) Received: from mail-ot1-f100.google.com (mail-ot1-f100.google.com [209.85.210.100]) by mails.dpdk.org (Postfix) with ESMTP id 30D564026A for ; Mon, 17 Nov 2025 10:53:12 +0100 (CET) Received: by mail-ot1-f100.google.com with SMTP id 46e09a7af769-7c75dd36b1bso660133a34.2 for ; Mon, 17 Nov 2025 01:53:12 -0800 (PST) DKIM-Signature: v=1; a=rsa-sha256; c=relaxed/relaxed; d=iol.unh.edu; s=unh-iol; t=1763373191; x=1763977991; darn=dpdk.org; h=cc:to:from:subject:message-id:date:from:to:cc:subject:date :message-id:reply-to; bh=h4oiWzYtOvPnsSDqcIk/aI0X0DLyTr7CahvjTBuaptY=; b=idLcKV3mtf1wRABSWX6+IqBLxlb8RYgWjyMOHW11TBr0FTAprY14XpjhlF01IjNd8H gHdpFnzTdmdXg7+GP1pBDDVtUhxb8xkazb+jZMd/cnmlTB7wjINDzO7LVzCn1RoYwbB0 xiTxUch74M0Hnt+Qnz9hOrCuSTMnlvsjRFOR8= X-Google-DKIM-Signature: v=1; a=rsa-sha256; c=relaxed/relaxed; d=1e100.net; s=20230601; t=1763373191; x=1763977991; h=cc:to:from:subject:message-id:date:x-gm-gg:x-gm-message-state:from :to:cc:subject:date:message-id:reply-to; bh=h4oiWzYtOvPnsSDqcIk/aI0X0DLyTr7CahvjTBuaptY=; b=tHMQSu5LPr89dzc+ZACEyYvOt7E52zN3tjki08p4MUpgn0Oro2aqUyabBH6sz5ESJI YH2nrKBvdhLWwmn449P5AqS7px0dVLtb7U/VwtoffZmORZ2uLz8mzZR7NXIx/IqQC9CR IU6AOUDQhKgYNsNSYJAhymwCYlA9b99JdMdZbw5qhhYttK0zFpvM7tmYjLmlmvXlTee/ NWdkdtnRHJCYZ2aH9dFk4lVvf9suBOmHyzr87GVGGQQzngL3uG+7sz08A3yr2uot9RnS SRA7WeGowtEzCHRrLKs/LAWKtDJaj0sTasyzFcokarPygljtTT1g36a5VdKPvDIqFLUu TlHQ== X-Gm-Message-State: AOJu0Yyrk9hSuILf/qCETAzUdkxbRHx8vU+5ZgjszlyVspzmnEjqVwhr ZN+CHO+SAqN/7KnM8mfjNylyXYcVmLf1DSV78xLGIH/cnmiW1CBmvV2iGIbAhh027H5ZfmAc63V 9618KMmeLzBr9Jm0ruXC8c6+5UpnXQovXKF9z X-Gm-Gg: ASbGncsV7pa6zu43Dx14Gzgd4Z2UUJGyUurtxT3a4o9mepDY7u6XrwzdzRd0p7AisZ3 e89/6ZmUmKBo3lSHhblLF21xfCoNjY24uGkRxePQu3ibbhQgabdQV81XCV7LfKm4bVaWcCmFCdQ S8M7Y5ETN2LneuDFRWa68xH29QBZQWq/8v5NsnA6HWnBr9xCmULl1oCL4K1YwMpiW3vkG3PJgRV CKuVIg+kehkUrpyxJbkMMHhEAzqlsyLQNmARPGknEZ6SKE3Qjk6EwkOczikX/R/ISWc+U9i4cQi xLZjc69Rbw+LlfNv4T9SuI4H26xT9kkKW4a5DyM0e8oUaKA0bfaVtYRSPh8Xkw55Iukpebw1vw8 VYUgWogHqkALfxjvvn6Q/Bn7ebd708vo= X-Google-Smtp-Source: AGHT+IHHhta67JbjlGoSy+T1vRb/ZUMRRp7/PwAnmxgySLzeBUjZceuIzN1022LW0sHtjyLH6mKog8O6posq X-Received: by 2002:a05:6830:922:b0:790:710f:60e3 with SMTP id 46e09a7af769-7c744555edbmr8224454a34.23.1763373191346; Mon, 17 Nov 2025 01:53:11 -0800 (PST) Received: from postal.iol.unh.edu (postal.iol.unh.edu. [132.177.123.84]) by smtp-relay.gmail.com with ESMTPS id 46e09a7af769-7c7672d472fsm206914a34.2.2025.11.17.01.53.11 (version=TLS1_2 cipher=ECDHE-ECDSA-AES128-GCM-SHA256 bits=128/128); Mon, 17 Nov 2025 01:53:11 -0800 (PST) X-Relaying-Domain: iol.unh.edu Date: Mon, 17 Nov 2025 01:53:11 -0800 (PST) Message-ID: <691af087.050a0220.276d2.a133SMTPIN_ADDED_MISSING@mx.google.com> Received: from [172.21.0.3] (unknown [172.18.0.240]) by postal.iol.unh.edu (Postfix) with ESMTP id 434C86051830; Mon, 17 Nov 2025 04:53:10 -0500 (EST) Subject: |SUCCESS| [GIT MASTER] 9784db2c5af1eecd02fc21132b59b5b266039b87 From: dpdklab@iol.unh.edu To: Test Report Cc: dpdk-test-reports@iol.unh.edu, Xueming Li , Christian Ehrhardt , Kevin Traynor , Luca Boccassi Content-Type: text/plain X-BeenThere: test-report@dpdk.org X-Mailman-Version: 2.1.29 Precedence: list List-Id: automatic DPDK test reports List-Unsubscribe: , List-Archive: List-Post: List-Help: List-Subscribe: , Errors-To: test-report-bounces@dpdk.org _Testing PASS_ Branch: tags/v22.11 9784db2c5af1eecd02fc21132b59b5b266039b87 --> testing pass Upstream job id: Generic-DPDK-Compile-Meson#445237 Test environment and result as below: +------------------------------+--------------------+ | Environment | dpdk_meson_compile | +==============================+====================+ | Ubuntu 20.04 | PASS | +------------------------------+--------------------+ | Red Hat Enterprise Linux 9.5 | PASS | +------------------------------+--------------------+ | Debian GNU/Linux 12 | PASS | +------------------------------+--------------------+ | CentOS Stream 10 | PASS | +------------------------------+--------------------+ | CentOS Stream 9 | PASS | +------------------------------+--------------------+ | Ubuntu 24.04 | PASS | +------------------------------+--------------------+ | Fedora Linux 42 | PASS | +------------------------------+--------------------+ | Ubuntu 22.04 | PASS | +------------------------------+--------------------+ Ubuntu 20.04 Kernel: 5.15 Compiler: aarch64-linux-gnu-gcc gcc (Ubuntu 9.4.0-1ubuntu1~20.04.2) 9.4.0 Red Hat Enterprise Linux 9.5 Kernel: 5.4 Compiler: gcc gcc (GCC) 11.5.0 20240719 (Red Hat 11.5.0-2) Debian GNU/Linux 12 Kernel: 5.4 Compiler: gcc gcc (Debian 12.2.0-14+deb12u1) 12.2.0 CentOS Stream 10 Kernel: 5.4 Compiler: gcc gcc (GCC) 14.2.1 20250110 (Red Hat 14.2.1-8) CentOS Stream 9 Kernel: 5.4 Compiler: gcc gcc (GCC) 11.5.0 20240719 (Red Hat 11.5.0-11) Ubuntu 24.04 Kernel: 5.4 Compiler: gcc gcc (Ubuntu 13.3.0-6ubuntu2~24.04) 13.3.0 Fedora Linux 42 Kernel: 5.4 Compiler: clang gcc (GCC) 15.2.1 20250808 (Red Hat 15.2.1-1) Ubuntu 22.04 Kernel: 5.4 Compiler: gcc gcc (Ubuntu 11.4.0-1ubuntu1~22.04) 11.4.0 To view detailed results, visit: https://lab.dpdk.org/results/dashboard/tarballs/35624/ UNH-IOL DPDK Community Lab To manage your email subscriptions, visit: https://lab.dpdk.org/results/dashboard/preferences/subscriptions/