From mboxrd@z Thu Jan 1 00:00:00 1970 Return-Path: Received: from mails.dpdk.org (mails.dpdk.org [217.70.189.124]) by inbox.dpdk.org (Postfix) with ESMTP id BAFAF48B30 for ; Mon, 17 Nov 2025 10:53:26 +0100 (CET) Received: from mails.dpdk.org (localhost [127.0.0.1]) by mails.dpdk.org (Postfix) with ESMTP id B5B644026A; Mon, 17 Nov 2025 10:53:26 +0100 (CET) Received: from mail-pj1-f99.google.com (mail-pj1-f99.google.com [209.85.216.99]) by mails.dpdk.org (Postfix) with ESMTP id F13164026A for ; Mon, 17 Nov 2025 10:53:25 +0100 (CET) Received: by mail-pj1-f99.google.com with SMTP id 98e67ed59e1d1-343684a06b2so3653481a91.1 for ; Mon, 17 Nov 2025 01:53:25 -0800 (PST) DKIM-Signature: v=1; a=rsa-sha256; c=relaxed/relaxed; d=iol.unh.edu; s=unh-iol; t=1763373205; x=1763978005; darn=dpdk.org; h=cc:to:from:subject:message-id:date:from:to:cc:subject:date :message-id:reply-to; bh=rUQdFP1AHGZbfpwuhYKNIWNANYpBVI88lWQrR6wfo9A=; b=IOGjMNooWHTCv5Zi7547R4hhJoUbdSO5VE7pxgFiCqCQz2uUrcsl8JqpA90jMJFIAO NzhHRUfjBEKfCUFVH885RlpxIWWfW/0vfVhS2JIp2tFFsBPumij48JX2lmD5R4Aedt9q gk+jZsi1Ls4v00faRkQsJZUEmZSLa2z5nU69I= X-Google-DKIM-Signature: v=1; a=rsa-sha256; c=relaxed/relaxed; d=1e100.net; s=20230601; t=1763373205; x=1763978005; h=cc:to:from:subject:message-id:date:x-gm-gg:x-gm-message-state:from :to:cc:subject:date:message-id:reply-to; bh=rUQdFP1AHGZbfpwuhYKNIWNANYpBVI88lWQrR6wfo9A=; b=pBGeITaGLTPTGbThXC3eZp0Yb3W/vjiyBOTys/lHF3aZALbuZPMZ/pfjxchpNDWK3x jPxAOO7Vz8+HxHiYjcuBlmOpL8jORATpW/+9rjkt58+VNSpIhhwyEsX+WD2EGrRqsz+u DxEcKSXLN+B1XIsobhBLeD2b6iSZJfkwDVO1bBu5L+x0CcKYX2edAaJbVJ9d87QfgqfI osijv7u5DaU7V2ZiGSm9Dp9BX5QkbNmlyxSnMR9SmxaS1Tf1x6fkT81tOtZUbMt+vx4W InUbjQpMtIdGWbWVT4xVYKYf9IB/B/yrcnRiU7OxLVz024R+ea6FU8H3Xr5+StOD6SSD 6Ikg== X-Gm-Message-State: AOJu0YzCBpNxLcEF37SV5iEmOMMgq8iSAhGxppvJGRh5EQ78zBINP3OU YkUM62kHhKxk6+KbZ1HITx8BwerDDAowKOS4kNqNSYWtAwd12dQ8xgIq+seMf5490zGoxxgMeXd RQUDCJRAlSd9dp5yjb/0IxW/OQWkSzHJGRRhc X-Gm-Gg: ASbGncuXCVwFAKLq6QS7t2Uk6uc0Bbl9v13o0ozrebf36+QnuFIS2UOeylVDcYQBE3F CDTwu13f4WDU+v9VYVDsVRrmeHbXePofOPU3KvnIGKYCXuX326ouVblSYWhZNT3YCUq5Xi+1zvy tSSq0Dc3okh5a86wEIJ8TLh2scqb2lLeeLugOpuS7HAH68vmK54Hd/xYsWWdRsYAdnzu40cUGVy 5lRGesOSKvSiujaXovYmrW7X+0XZNh8d1fYQuvH1PPviokf8J8OW0nApDoFxLJnDnN5JIFzocb/ uAuvUr/EPfR76XQqYQjQtmHxI7Ztp2rcvn95C6NKhhmpt/b4LNZruuHznNDJae1/eaRryyLIATQ kgScBt1wYqUEYzeG77Ve4uuEGRR1z+Yw= X-Google-Smtp-Source: AGHT+IEvR0+SM6e6lUMauLi2oCNDfvgA37lVRik4cZ0bnuB68+LTaEJyc8fdZfC1FcULD8K9MPYH5LFf9uYr X-Received: by 2002:a17:90b:388d:b0:343:bd86:b5a6 with SMTP id 98e67ed59e1d1-343fa76c923mr11995340a91.34.1763373204929; Mon, 17 Nov 2025 01:53:24 -0800 (PST) Received: from postal.iol.unh.edu (postal.iol.unh.edu. [132.177.123.84]) by smtp-relay.gmail.com with ESMTPS id 98e67ed59e1d1-343e06fcf4asm1836246a91.2.2025.11.17.01.53.24 (version=TLS1_2 cipher=ECDHE-ECDSA-AES128-GCM-SHA256 bits=128/128); Mon, 17 Nov 2025 01:53:24 -0800 (PST) X-Relaying-Domain: iol.unh.edu Date: Mon, 17 Nov 2025 01:53:24 -0800 (PST) Message-ID: <691af094.170a0220.38e4f0.bc1dSMTPIN_ADDED_MISSING@mx.google.com> Received: from [172.21.0.5] (unknown [172.18.0.240]) by postal.iol.unh.edu (Postfix) with ESMTP id 33BDC6051830; Mon, 17 Nov 2025 04:53:24 -0500 (EST) Subject: |SUCCESS| [GIT MASTER] 9784db2c5af1eecd02fc21132b59b5b266039b87 From: dpdklab@iol.unh.edu To: Test Report Cc: dpdk-test-reports@iol.unh.edu, Xueming Li , Christian Ehrhardt , Kevin Traynor , Luca Boccassi Content-Type: text/plain X-BeenThere: test-report@dpdk.org X-Mailman-Version: 2.1.29 Precedence: list List-Id: automatic DPDK test reports List-Unsubscribe: , List-Archive: List-Post: List-Help: List-Subscribe: , Errors-To: test-report-bounces@dpdk.org _Testing PASS_ Branch: tags/v22.11 9784db2c5af1eecd02fc21132b59b5b266039b87 --> testing pass Upstream job id: Generic-DPDK-Compile-Meson#445231 Test environment and result as below: +------------------------------+--------------------+ | Environment | dpdk_meson_compile | +==============================+====================+ | Ubuntu 20.04 | PASS | +------------------------------+--------------------+ | Red Hat Enterprise Linux 9.5 | PASS | +------------------------------+--------------------+ | Debian GNU/Linux 12 | PASS | +------------------------------+--------------------+ | CentOS Stream 10 | PASS | +------------------------------+--------------------+ | CentOS Stream 9 | PASS | +------------------------------+--------------------+ | Ubuntu 24.04 | PASS | +------------------------------+--------------------+ | Fedora Linux 42 | PASS | +------------------------------+--------------------+ | Ubuntu 22.04 | PASS | +------------------------------+--------------------+ Ubuntu 20.04 Kernel: 5.15 Compiler: aarch64-linux-gnu-gcc gcc (Ubuntu 9.4.0-1ubuntu1~20.04.2) 9.4.0 Red Hat Enterprise Linux 9.5 Kernel: 5.4 Compiler: gcc gcc (GCC) 11.5.0 20240719 (Red Hat 11.5.0-2) Debian GNU/Linux 12 Kernel: 5.4 Compiler: gcc gcc (Debian 12.2.0-14+deb12u1) 12.2.0 CentOS Stream 10 Kernel: 5.4 Compiler: gcc gcc (GCC) 14.2.1 20250110 (Red Hat 14.2.1-8) CentOS Stream 9 Kernel: 5.4 Compiler: gcc gcc (GCC) 11.5.0 20240719 (Red Hat 11.5.0-11) Ubuntu 24.04 Kernel: 5.4 Compiler: gcc gcc (Ubuntu 13.3.0-6ubuntu2~24.04) 13.3.0 Fedora Linux 42 Kernel: 5.4 Compiler: clang gcc (GCC) 15.2.1 20250808 (Red Hat 15.2.1-1) Ubuntu 22.04 Kernel: 5.4 Compiler: gcc gcc (Ubuntu 11.4.0-1ubuntu1~22.04) 11.4.0 To view detailed results, visit: https://lab.dpdk.org/results/dashboard/tarballs/35624/ UNH-IOL DPDK Community Lab To manage your email subscriptions, visit: https://lab.dpdk.org/results/dashboard/preferences/subscriptions/