From mboxrd@z Thu Jan 1 00:00:00 1970 Return-Path: Received: from mails.dpdk.org (mails.dpdk.org [217.70.189.124]) by inbox.dpdk.org (Postfix) with ESMTP id D9F9F48B30 for ; Mon, 17 Nov 2025 11:04:48 +0100 (CET) Received: from mails.dpdk.org (localhost [127.0.0.1]) by mails.dpdk.org (Postfix) with ESMTP id D0B394026A; Mon, 17 Nov 2025 11:04:48 +0100 (CET) Received: from mail-il1-f227.google.com (mail-il1-f227.google.com [209.85.166.227]) by mails.dpdk.org (Postfix) with ESMTP id 587F1402EE for ; Mon, 17 Nov 2025 11:04:37 +0100 (CET) Received: by mail-il1-f227.google.com with SMTP id e9e14a558f8ab-43376624a8fso32601935ab.0 for ; Mon, 17 Nov 2025 02:04:37 -0800 (PST) DKIM-Signature: v=1; a=rsa-sha256; c=relaxed/relaxed; d=iol.unh.edu; s=unh-iol; t=1763373876; x=1763978676; darn=dpdk.org; h=references:in-reply-to:cc:to:from:subject:message-id:date:from:to :cc:subject:date:message-id:reply-to; bh=8CA0RCpts4JJYRsEdIF2l7Jz5zdY1FiFTfj+YPqZgL8=; b=CDDjeq0hIC+CZ5Obi9xOQKkjzqd1PJjVp6AO+SOLInMeJvaQk90xUdfA4hhDbY+++X Qlj6lM5EcJ5Dhkqk534qAkK4d4nq0qusMFE2a4yeqsVsg31zogy9emeLRcI9E5pfz1DV hDkHKm1JUasoVHv9yANrEL5Pxpz2S06XFnOTs= X-Google-DKIM-Signature: v=1; a=rsa-sha256; c=relaxed/relaxed; d=1e100.net; s=20230601; t=1763373876; x=1763978676; h=references:in-reply-to:cc:to:from:subject:message-id:date:x-gm-gg :x-gm-message-state:from:to:cc:subject:date:message-id:reply-to; bh=8CA0RCpts4JJYRsEdIF2l7Jz5zdY1FiFTfj+YPqZgL8=; b=pfqtJDZ//hsLgQy+ZviV4bm/hlPtle7ddIJXKKtncUz1PwvIqKQenoEedyeT7cNOuC B8nAkuqyE49ZtCWPdgfr3KylpRsdkSNrK+Uz6p1jsyMlY9lgjhXRVEqbakN5+mzwnVFI kSy38T3FEW+nBbjWeTJZz9cI7bWRL8zfwHeMDa+y6I9FJ022e3117bSam3N28pzddgAv 1IiyqbiWmDotJN6qmNg6gfs5VHvgbqpadqOM0mapNeBzzKPcdictmOKwrcS+QY5HBPyL IuTthSmWkrpK0bjtApjyGkuUGwfSTo5z8JX1j0mGmMs7lptaRBCcf4TBkddksklFWt7Y 6bOQ== X-Gm-Message-State: AOJu0Yy2S17cQ5RRa8+a8KpEnceGOdzAuNVwR/R67urCgncx/To1OXuT AWsztZpwCpHkp9sbVVOKWeNBeJgpW3q71CGHodxSVn8vxTlrVOyxWeZ1edzChjQh4FNmTn5DiUB /7YFK1FkNndG4uDiUWsN/kHF5vE4L9zSf2qdbx7JWQaXf X-Gm-Gg: ASbGncsKOIf1X8/Y7m5wqOuYdh+O95n+NlL1imMOv/jdSQjPAYnpNV7JgJYQojeZ0Hw iC6mdNtmVn7mdNE8ICQyamyq9DWXRI6dcqMq2HVQ8vntodLmthiN4Xyi2cy6Cy8wPtqLEGAoPgx AWX6tFLPXY7d8j6wOChwuZKwmCZ4k9oKXgpUzAVAPfACwsqBrNplRf/pLtsoMvmwlTSR3KIkOzL U2XoMR6bLHFF0N8WGpWuPVoSwWPkB57RLQYpuA5E2dvTTpq2ua9ynW1VfffHSkXlVQ81X4whBvM b3AYbxglaqQvaYeGAEmloHn2xAaZQJUT7rdGvTzR9dGwQv95KbUTYLB5g4FQBzlKxVGXN3I/8FT HJ1AHo013Az0+dkcO6x9GPV3d85ylqnE= X-Google-Smtp-Source: AGHT+IH8fhLdTZpn2ZpLV3Esz5k66+oYNrYZVJ0xOcOAO1M9bZBw+lTJYLU5GWCUWpUcpE+twbwGCkniZv9P X-Received: by 2002:a92:c081:0:b0:434:96ea:ff6f with SMTP id e9e14a558f8ab-43496eb01aamr87276405ab.40.1763373876596; Mon, 17 Nov 2025 02:04:36 -0800 (PST) Received: from postal.iol.unh.edu (postal.iol.unh.edu. [132.177.123.84]) by smtp-relay.gmail.com with ESMTPS id e9e14a558f8ab-434839f9bdcsm11510695ab.32.2025.11.17.02.04.36 (version=TLS1_2 cipher=ECDHE-ECDSA-AES128-GCM-SHA256 bits=128/128); Mon, 17 Nov 2025 02:04:36 -0800 (PST) X-Relaying-Domain: iol.unh.edu Date: Mon, 17 Nov 2025 02:04:36 -0800 (PST) Message-ID: <691af334.050a0220.231eda.837dSMTPIN_ADDED_MISSING@mx.google.com> Received: from [172.21.0.6] (unknown [172.18.0.240]) by postal.iol.unh.edu (Postfix) with ESMTP id E783B6051830; Mon, 17 Nov 2025 05:04:35 -0500 (EST) Subject: |SUCCESS| pw158846 [PATCH] net/mlx5: skip Rx control flow tables in From: dpdklab@iol.unh.edu To: Test Report Cc: dpdk-test-reports@iol.unh.edu In-Reply-To: <20251117050557.8481-1-bingz@nvidia.com> References: <20251117050557.8481-1-bingz@nvidia.com> Content-Type: text/plain X-BeenThere: test-report@dpdk.org X-Mailman-Version: 2.1.29 Precedence: list List-Id: automatic DPDK test reports List-Unsubscribe: , List-Archive: List-Post: List-Help: List-Subscribe: , Errors-To: test-report-bounces@dpdk.org Test-Label: iol-unit-amd64-testing Test-Status: SUCCESS http://dpdk.org/patch/158846 _Testing PASS_ Submitter: Bing Zhao Date: Monday, November 17 2025 05:05:57 DPDK git baseline: Repo:dpdk-next-net-mlx Branch: master CommitID:a3f565c41c73db0f965d62c72627980235d4d7e8 158846 --> testing pass Upstream job id: Generic-Unit-Test-DPDK#393631 Test environment and result as below: +-------------------------------+----------------+ | Environment | dpdk_unit_test | +===============================+================+ | CentOS Stream 9 | PASS | +-------------------------------+----------------+ | Debian GNU/Linux 12 | PASS | +-------------------------------+----------------+ | Fedora Linux 40 | PASS | +-------------------------------+----------------+ | CentOS Stream 10 | PASS | +-------------------------------+----------------+ | Fedora Linux 41 | PASS | +-------------------------------+----------------+ | Ubuntu 24.04 | PASS | +-------------------------------+----------------+ | Ubuntu 22.04 | PASS | +-------------------------------+----------------+ | Red Hat Enterprise Linux 8.10 | PASS | +-------------------------------+----------------+ | Fedora Linux 42 | PASS | +-------------------------------+----------------+ | Ubuntu 20.04 | PASS | +-------------------------------+----------------+ | Red Hat Enterprise Linux 9.5 | PASS | +-------------------------------+----------------+ | Windows Server 2022 | PASS | +-------------------------------+----------------+ CentOS Stream 9 Kernel: 5.15 Compiler: gcc gcc (GCC) 11.5.0 20240719 (Red Hat 11.5.0-11) Debian GNU/Linux 12 Kernel: 5.15 Compiler: gcc gcc (Debian 12.2.0-14+deb12u1) 12.2.0 Fedora Linux 40 Kernel: 5.15 Compiler: gcc gcc (GCC) 14.2.1 20240912 (Red Hat 14.2.1-3) CentOS Stream 10 Kernel: 5.15 Compiler: gcc gcc (GCC) 14.2.1 20250110 (Red Hat 14.2.1-8) Fedora Linux 41 Kernel: 5.15 Compiler: clang gcc (GCC) 14.3.1 20250523 (Red Hat 14.3.1-1) Ubuntu 24.04 Kernel: 5.15 Compiler: gcc gcc (Ubuntu 13.3.0-6ubuntu2~24.04) 13.3.0 Ubuntu 22.04 Kernel: 5.15 Compiler: gcc gcc (Ubuntu 11.4.0-1ubuntu1~22.04) 11.4.0 Red Hat Enterprise Linux 8.10 Kernel: 5.15 Compiler: gcc gcc (GCC) 8.5.0 20210514 (Red Hat 8.5.0-22) Fedora Linux 42 Kernel: 5.15 Compiler: clang gcc (GCC) 15.2.1 20250808 (Red Hat 15.2.1-1) Ubuntu 20.04 Kernel: 5.15 Compiler: gcc gcc (Ubuntu 9.4.0-1ubuntu1~20.04.2) 9.4.0 Red Hat Enterprise Linux 9.5 Kernel: 5.15 Compiler: gcc gcc (GCC) 11.5.0 20240719 (Red Hat 11.5.0-2) Windows Server 2022 Kernel: 10.0.20348.2031 Compiler: clang 15.0.7, gcc 14.1.0 (MinGW), and MSVC VS 19.39.33521 To view detailed results, visit: https://lab.dpdk.org/results/dashboard/patchsets/34616/ UNH-IOL DPDK Community Lab To manage your email subscriptions, visit: https://lab.dpdk.org/results/dashboard/preferences/subscriptions/