From mboxrd@z Thu Jan 1 00:00:00 1970 Return-Path: Received: from mails.dpdk.org (mails.dpdk.org [217.70.189.124]) by inbox.dpdk.org (Postfix) with ESMTP id 25A5348B30 for ; Mon, 17 Nov 2025 11:05:22 +0100 (CET) Received: from mails.dpdk.org (localhost [127.0.0.1]) by mails.dpdk.org (Postfix) with ESMTP id 1DE6D4026A; Mon, 17 Nov 2025 11:05:22 +0100 (CET) Received: from mail-il1-f228.google.com (mail-il1-f228.google.com [209.85.166.228]) by mails.dpdk.org (Postfix) with ESMTP id 1A1B54026A for ; Mon, 17 Nov 2025 11:05:21 +0100 (CET) Received: by mail-il1-f228.google.com with SMTP id e9e14a558f8ab-43379251ff9so22729175ab.1 for ; Mon, 17 Nov 2025 02:05:21 -0800 (PST) DKIM-Signature: v=1; a=rsa-sha256; c=relaxed/relaxed; d=iol.unh.edu; s=unh-iol; t=1763373920; x=1763978720; darn=dpdk.org; h=references:in-reply-to:cc:to:from:subject:message-id:date:from:to :cc:subject:date:message-id:reply-to; bh=70i+628+F5Shdi32M3d698K8fqj1PPBPXqUVFdPnz/A=; b=SM55NfRFM/roXBAAknftdfBIlc39ALQ+TOCqJEIcUn8ShQDrQ8quC6ow8esQVQhCln avGqh4LbbH5tKqqGzgCjIQp0qS2MbnsOHbTxbWvIXSJb5m8TD+sNyBViwWC8pONfUWDO +NyhZ+6jn5fHSxXRfnoAgfG3lsw6iJewxkeXE= X-Google-DKIM-Signature: v=1; a=rsa-sha256; c=relaxed/relaxed; d=1e100.net; s=20230601; t=1763373920; x=1763978720; h=references:in-reply-to:cc:to:from:subject:message-id:date:x-gm-gg :x-gm-message-state:from:to:cc:subject:date:message-id:reply-to; bh=70i+628+F5Shdi32M3d698K8fqj1PPBPXqUVFdPnz/A=; b=Npd2GiDKpAPqA/q3IgrvkX97Z9q2kUzRNGEFvYgUrT7VW70nSxosKFTaHFzEht/9OM b5Rk3GNiv4qhthxzHDQ32vir0Rzbj2YoTOQde5NbENd+VEk1MqgYZoKvJvx+nwqfM2mz ufMHxzNZGe/pl55Le6eXBrTn4XbLNJ9ZaIOuhVz5BVboMrCo8PUdjzCwAX5tJMODxAUE nKSoQEWutKMTr1JCrfwytIm/Xk10Uk9RbXP7Li6rdiLRaBQUPRCLJ5irHZSu9z4r0s5i 44Nffu3fjFW3wWjFyst3ponbe0RD+qcU35/Hn1eVYw82snUwWxRgR8OZm+WgI8kpLtry CLKQ== X-Gm-Message-State: AOJu0YzvZnwz8P9o1bT56+uq+5VfEBhmPFRFlpz7vVmpMR+WUzVouC1M h2bt0llpn8RHaZnbX813Gz//Up/Z9pQ6Saz2iNaqu2b5t8PdeofSYiugU/H+Lz8LrwHKCCWvRm2 u5/4hIxetC+tojh0SThy0gQCz5nisbqLV8bJNhHf5plHJ X-Gm-Gg: ASbGncsSw9qZgNfBRYCAWmEiveEV85qTEygGJgGZnLIF13S/Gsp8CQxSn6s7JHkZGjl Rv1H5LrppNQcqevMu9pzi7KHq3rKR9mbFqRSVlPyFIzaEiS39uLpzrFwivQsQjKpO2OU5l8gsR2 KNDy/txYGUWlKAOFSzY9VIgdMAsWgHf/+C37etZ/9D9RHEkX/mi8oRjSZeal6Y/ul2gkbCjlPhr HE9pdmHyzED0LtuM9tjjjKmELaLXBUE+gqJTXOUFyj076nB+xgRPouqMr64cooabXbt96LAp9kO VD1xKGxc6xKZAI30/BOFQSdsD+Q0m+GycoGEKeuanca1vSTcD4k57AnDuesCo2t1BenmkTeUKgd GVK6YXMj7q67hI4S+ymmnsF7bLNJoCc4= X-Google-Smtp-Source: AGHT+IHjyYBmCqzHnLfeDaHGZFPn3Swjy/s30t7zUNkI9hPCIm2FVE72RnfO+dM0nDNIivUVtw01FbRk3FLF X-Received: by 2002:a05:6e02:17cb:b0:433:7929:e7a8 with SMTP id e9e14a558f8ab-4347c4ebc1amr211744045ab.12.1763373920455; Mon, 17 Nov 2025 02:05:20 -0800 (PST) Received: from postal.iol.unh.edu (postal.iol.unh.edu. [132.177.123.84]) by smtp-relay.gmail.com with ESMTPS id e9e14a558f8ab-434833ea5cfsm11017755ab.12.2025.11.17.02.05.20 (version=TLS1_2 cipher=ECDHE-ECDSA-AES128-GCM-SHA256 bits=128/128); Mon, 17 Nov 2025 02:05:20 -0800 (PST) X-Relaying-Domain: iol.unh.edu Date: Mon, 17 Nov 2025 02:05:20 -0800 (PST) Message-ID: <691af360.050a0220.e0939.7e1cSMTPIN_ADDED_MISSING@mx.google.com> Received: from [172.21.0.13] (unknown [172.18.0.240]) by postal.iol.unh.edu (Postfix) with ESMTP id BB9A26051830; Mon, 17 Nov 2025 05:05:19 -0500 (EST) Subject: |SUCCESS| pw158846 [PATCH] net/mlx5: skip Rx control flow tables in From: dpdklab@iol.unh.edu To: Test Report Cc: dpdk-test-reports@iol.unh.edu In-Reply-To: <20251117050557.8481-1-bingz@nvidia.com> References: <20251117050557.8481-1-bingz@nvidia.com> Content-Type: text/plain X-BeenThere: test-report@dpdk.org X-Mailman-Version: 2.1.29 Precedence: list List-Id: automatic DPDK test reports List-Unsubscribe: , List-Archive: List-Post: List-Help: List-Subscribe: , Errors-To: test-report-bounces@dpdk.org Test-Label: iol-unit-amd64-testing Test-Status: SUCCESS http://dpdk.org/patch/158846 _Testing PASS_ Submitter: Bing Zhao Date: Monday, November 17 2025 05:05:57 DPDK git baseline: Repo:dpdk-next-net-mlx Branch: master CommitID:a3f565c41c73db0f965d62c72627980235d4d7e8 158846 --> testing pass Upstream job id: Generic-Unit-Test-DPDK#393629 Test environment and result as below: +-------------------------------+----------------+ | Environment | dpdk_unit_test | +===============================+================+ | CentOS Stream 9 | PASS | +-------------------------------+----------------+ | Debian GNU/Linux 12 | PASS | +-------------------------------+----------------+ | Fedora Linux 40 | PASS | +-------------------------------+----------------+ | CentOS Stream 10 | PASS | +-------------------------------+----------------+ | Fedora Linux 41 | PASS | +-------------------------------+----------------+ | Ubuntu 24.04 | PASS | +-------------------------------+----------------+ | Ubuntu 22.04 | PASS | +-------------------------------+----------------+ | Red Hat Enterprise Linux 8.10 | PASS | +-------------------------------+----------------+ | Fedora Linux 42 | PASS | +-------------------------------+----------------+ | Ubuntu 20.04 | PASS | +-------------------------------+----------------+ | Red Hat Enterprise Linux 9.5 | PASS | +-------------------------------+----------------+ | Windows Server 2022 | PASS | +-------------------------------+----------------+ CentOS Stream 9 Kernel: 5.15 Compiler: gcc gcc (GCC) 11.5.0 20240719 (Red Hat 11.5.0-11) Debian GNU/Linux 12 Kernel: 5.15 Compiler: gcc gcc (Debian 12.2.0-14+deb12u1) 12.2.0 Fedora Linux 40 Kernel: 5.15 Compiler: gcc gcc (GCC) 14.2.1 20240912 (Red Hat 14.2.1-3) CentOS Stream 10 Kernel: 5.15 Compiler: gcc gcc (GCC) 14.2.1 20250110 (Red Hat 14.2.1-8) Fedora Linux 41 Kernel: 5.15 Compiler: clang gcc (GCC) 14.3.1 20250523 (Red Hat 14.3.1-1) Ubuntu 24.04 Kernel: 5.15 Compiler: gcc gcc (Ubuntu 13.3.0-6ubuntu2~24.04) 13.3.0 Ubuntu 22.04 Kernel: 5.15 Compiler: gcc gcc (Ubuntu 11.4.0-1ubuntu1~22.04) 11.4.0 Red Hat Enterprise Linux 8.10 Kernel: 5.15 Compiler: gcc gcc (GCC) 8.5.0 20210514 (Red Hat 8.5.0-22) Fedora Linux 42 Kernel: 5.15 Compiler: clang gcc (GCC) 15.2.1 20250808 (Red Hat 15.2.1-1) Ubuntu 20.04 Kernel: 5.15 Compiler: gcc gcc (Ubuntu 9.4.0-1ubuntu1~20.04.2) 9.4.0 Red Hat Enterprise Linux 9.5 Kernel: 5.15 Compiler: gcc gcc (GCC) 11.5.0 20240719 (Red Hat 11.5.0-2) Windows Server 2022 Kernel: 10.0.20348.2031 Compiler: clang 15.0.7, gcc 14.1.0 (MinGW), and MSVC VS 19.39.33521 To view detailed results, visit: https://lab.dpdk.org/results/dashboard/patchsets/34616/ UNH-IOL DPDK Community Lab To manage your email subscriptions, visit: https://lab.dpdk.org/results/dashboard/preferences/subscriptions/