From mboxrd@z Thu Jan 1 00:00:00 1970 Return-Path: Received: from mails.dpdk.org (mails.dpdk.org [217.70.189.124]) by inbox.dpdk.org (Postfix) with ESMTP id 3FD5848B30 for ; Mon, 17 Nov 2025 11:06:11 +0100 (CET) Received: from mails.dpdk.org (localhost [127.0.0.1]) by mails.dpdk.org (Postfix) with ESMTP id 3968F4026A; Mon, 17 Nov 2025 11:06:11 +0100 (CET) Received: from mail-qv1-f97.google.com (mail-qv1-f97.google.com [209.85.219.97]) by mails.dpdk.org (Postfix) with ESMTP id CD26F4026A for ; Mon, 17 Nov 2025 11:06:09 +0100 (CET) Received: by mail-qv1-f97.google.com with SMTP id 6a1803df08f44-88267973e5cso23574296d6.3 for ; Mon, 17 Nov 2025 02:06:09 -0800 (PST) DKIM-Signature: v=1; a=rsa-sha256; c=relaxed/relaxed; d=iol.unh.edu; s=unh-iol; t=1763373969; x=1763978769; darn=dpdk.org; h=cc:to:from:subject:message-id:date:from:to:cc:subject:date :message-id:reply-to; bh=BqM9uJFzuxa4Urc1h/RyhOxSUYxpGH+guHT9pqooQkc=; b=L423AAvRr1XiQ3L6JTzGWmQ3/iIkKC9sJ5eqcaeMXuuL2/REmD6Kndv4ofQRLUtwHt vR/WsnRBE48jZl8pT6GZMNT6mIJkDUCsPOmLuhh/6vRcNl/ncpcuj+hhO/G9Wf4tJcMI 9BQNza26m9/rIQdURgxPG57OnZkS/D5iekJLY= X-Google-DKIM-Signature: v=1; a=rsa-sha256; c=relaxed/relaxed; d=1e100.net; s=20230601; t=1763373969; x=1763978769; h=cc:to:from:subject:message-id:date:x-gm-gg:x-gm-message-state:from :to:cc:subject:date:message-id:reply-to; bh=BqM9uJFzuxa4Urc1h/RyhOxSUYxpGH+guHT9pqooQkc=; b=n6wQneYdAypYdlkj+1VTm3iI7TRX/eFLjFT5A2YyD//Z4v9jgKxjIH9BuXEzz2bMP7 CeJZExZtdXD0XotKM/bBinY7vPt4/o3VXo/iKDThO8dCd5u/J9626fnJuvgMz5/Umrjj RkpI50ST8ygv/BhdbhkrTXFTJVA/+lbbVrklnngjbX59/PF8MzfjWuot6NR2Yo4Y4n9e 6PmOZFh+mVq04eTkIewSlLWDnvy3mPaBFDgC0WLZQud2CiFqaRzDYjvtjuaQXvbXp6Px EuqnwwBu0B6uWTw4KE2R++z2xVZYJkcfI3cT6x75J42ARnlYn5UGbhp5NRSnB25c+oYq L5CA== X-Gm-Message-State: AOJu0YzPD9Sbg2t9e3756zlrNqS2DEFUz31d+y4Ikxf3+w5rTaspBtGD fvnnuJqjqDBfd6QcB6f894TRUa10nQpxNW4atxWdbO96Y0WBkWkJEc/VitcMp0pkgjgg65Y2i3j GGcpF0XH1Ic0Xle86S4WVVBtf5ittCslfcJYb X-Gm-Gg: ASbGncsAHMDbBWJEWk5wtJ4+KcCeR3YiUsxx4pGakYw6zIeT64w9dZW+4E7y6r9rygA XyCbOEhD4ckqrp8xhE79N0h02p3F8pqeOccFBwBVbiC0gPTyuzHlnpli7wJ26YO49uIB4wLGn8R QJRfuHbJVf8KueRWzB0dUzaWhwMgHhWMDSa4s7b429qgpZT3suGk+dybR2FZq+/2GEZ7iO7Bi8R d+4v0yMK3ixUM+3dNVEAFnQmgD5xid/fSQl105XWPvtz2GE9PyMbMpNnLA6UhF/vjtUsmtg/Ha0 fXpWkanNj91lR0HeAnfrLHSd+10zBoWWMiO5PIJbVN0njG8HR/iEebiELK134fLjVsUJ2BHl58X r0U8/+uAYWl85s3AIk8L9KsgeVdax6AA= X-Google-Smtp-Source: AGHT+IFffk/Iv58F0MP0YQ8wVug01IBINrDAlmIn4sc7lz66yszMN0HrgbbY3i0I3aQ8lExYSLVF+m602Mo8 X-Received: by 2002:a05:6214:5014:b0:87c:1d41:575d with SMTP id 6a1803df08f44-882925a3fc3mr160877196d6.3.1763373969186; Mon, 17 Nov 2025 02:06:09 -0800 (PST) Received: from postal.iol.unh.edu (postal.iol.unh.edu. [132.177.123.84]) by smtp-relay.gmail.com with ESMTPS id 6a1803df08f44-8828653a0aesm14915486d6.18.2025.11.17.02.06.09 (version=TLS1_2 cipher=ECDHE-ECDSA-AES128-GCM-SHA256 bits=128/128); Mon, 17 Nov 2025 02:06:09 -0800 (PST) X-Relaying-Domain: iol.unh.edu Date: Mon, 17 Nov 2025 02:06:09 -0800 (PST) Message-ID: <691af391.d40a0220.2dbfe5.a00dSMTPIN_ADDED_MISSING@mx.google.com> Received: from [172.21.0.4] (unknown [172.18.0.240]) by postal.iol.unh.edu (Postfix) with ESMTP id AB8B16051830; Mon, 17 Nov 2025 05:06:08 -0500 (EST) Subject: |SUCCESS| [GIT MASTER] 0bd935abcb823f581ce53986986aa54eaf6f8140 From: dpdklab@iol.unh.edu To: Test Report Cc: dpdk-test-reports@iol.unh.edu, Xueming Li , Christian Ehrhardt , Kevin Traynor , Luca Boccassi Content-Type: text/plain X-BeenThere: test-report@dpdk.org X-Mailman-Version: 2.1.29 Precedence: list List-Id: automatic DPDK test reports List-Unsubscribe: , List-Archive: List-Post: List-Help: List-Subscribe: , Errors-To: test-report-bounces@dpdk.org _Testing PASS_ Branch: tags/v24.11 0bd935abcb823f581ce53986986aa54eaf6f8140 --> testing pass Upstream job id: Generic-Unit-Test-DPDK#393565 Test environment and result as below: +------------------------------+----------------+--------------+---------------------------+------------------------------+ | Environment | dpdk_unit_test | lpm_autotest | cryptodev_sw_zuc_autotest | cryptodev_sw_snow3g_autotest | +==============================+================+==============+===========================+==============================+ | Fedora Linux 41 | PASS | SKIPPED | SKIPPED | SKIPPED | +------------------------------+----------------+--------------+---------------------------+------------------------------+ | Debian GNU/Linux 12 | PASS | SKIPPED | SKIPPED | SKIPPED | +------------------------------+----------------+--------------+---------------------------+------------------------------+ | CentOS Stream 10 | PASS | SKIPPED | SKIPPED | SKIPPED | +------------------------------+----------------+--------------+---------------------------+------------------------------+ | Red Hat Enterprise Linux 9.5 | PASS | SKIPPED | SKIPPED | SKIPPED | +------------------------------+----------------+--------------+---------------------------+------------------------------+ | CentOS Stream 9 | PASS | SKIPPED | SKIPPED | SKIPPED | +------------------------------+----------------+--------------+---------------------------+------------------------------+ | Fedora Linux 40 | PASS | SKIPPED | SKIPPED | SKIPPED | +------------------------------+----------------+--------------+---------------------------+------------------------------+ | Fedora Linux 42 | PASS | SKIPPED | SKIPPED | SKIPPED | +------------------------------+----------------+--------------+---------------------------+------------------------------+ | Ubuntu 24.04 | PASS | SKIPPED | SKIPPED | SKIPPED | +------------------------------+----------------+--------------+---------------------------+------------------------------+ | Ubuntu 22.04 | PASS | SKIPPED | SKIPPED | SKIPPED | +------------------------------+----------------+--------------+---------------------------+------------------------------+ | Ubuntu 20.04 | PASS | PASS | SKIPPED | SKIPPED | +------------------------------+----------------+--------------+---------------------------+------------------------------+ | Debian 12 (arm) | SKIPPED | SKIPPED | PASS | PASS | +------------------------------+----------------+--------------+---------------------------+------------------------------+ Fedora Linux 41 Kernel: 5.4 Compiler: clang gcc (GCC) 14.3.1 20250523 (Red Hat 14.3.1-1) Debian GNU/Linux 12 Kernel: 5.4 Compiler: gcc gcc (Debian 12.2.0-14+deb12u1) 12.2.0 CentOS Stream 10 Kernel: 5.4 Compiler: gcc gcc (GCC) 14.2.1 20250110 (Red Hat 14.2.1-8) Red Hat Enterprise Linux 9.5 Kernel: 5.4 Compiler: gcc gcc (GCC) 11.5.0 20240719 (Red Hat 11.5.0-2) CentOS Stream 9 Kernel: 5.4 Compiler: gcc gcc (GCC) 11.5.0 20240719 (Red Hat 11.5.0-11) Fedora Linux 40 Kernel: 5.4 Compiler: gcc gcc (GCC) 14.2.1 20240912 (Red Hat 14.2.1-3) Fedora Linux 42 Kernel: 5.4 Compiler: clang gcc (GCC) 15.2.1 20250808 (Red Hat 15.2.1-1) Ubuntu 24.04 Kernel: 5.4 Compiler: gcc gcc (Ubuntu 13.3.0-6ubuntu2~24.04) 13.3.0 Ubuntu 22.04 Kernel: 5.4 Compiler: gcc gcc (Ubuntu 11.4.0-1ubuntu1~22.04) 11.4.0 Ubuntu 20.04 Kernel: 5.4 Compiler: gcc gcc (Ubuntu 9.4.0-1ubuntu1~20.04.2) 9.4.0 Debian 12 (arm) Kernel: Depends on container host Compiler: gcc (Debian 12.2.0-14) 12.2.0 To view detailed results, visit: https://lab.dpdk.org/results/dashboard/tarballs/35626/ UNH-IOL DPDK Community Lab To manage your email subscriptions, visit: https://lab.dpdk.org/results/dashboard/preferences/subscriptions/