From mboxrd@z Thu Jan 1 00:00:00 1970 Return-Path: Received: from mails.dpdk.org (mails.dpdk.org [217.70.189.124]) by inbox.dpdk.org (Postfix) with ESMTP id 2B12148B31 for ; Mon, 17 Nov 2025 13:15:55 +0100 (CET) Received: from mails.dpdk.org (localhost [127.0.0.1]) by mails.dpdk.org (Postfix) with ESMTP id 24B054025A; Mon, 17 Nov 2025 13:15:55 +0100 (CET) Received: from mail-pf1-f226.google.com (mail-pf1-f226.google.com [209.85.210.226]) by mails.dpdk.org (Postfix) with ESMTP id BDDF24025A for ; Mon, 17 Nov 2025 13:15:53 +0100 (CET) Received: by mail-pf1-f226.google.com with SMTP id d2e1a72fcca58-7ad1cd0db3bso3529309b3a.1 for ; Mon, 17 Nov 2025 04:15:53 -0800 (PST) DKIM-Signature: v=1; a=rsa-sha256; c=relaxed/relaxed; d=iol.unh.edu; s=unh-iol; t=1763381753; x=1763986553; darn=dpdk.org; h=cc:to:from:subject:message-id:date:from:to:cc:subject:date :message-id:reply-to; bh=2+hO+dBLPRsX8ZZ6AtrKFjlBe2e6wbATw683AN+6sEg=; b=Oy5+GmphPI1DxHyhuYDLbzO76LTFoFbl4Uqbh8lM3/GFDfGnVpcmzrGqHa2/zRPGpb +0bi6grPJSW3Zn8wacuoiHn5RC/0kpLaQ8YHNyxM2YbGipRQS40Jz36JWUmDLiALliec trnBlpzAL1Yg67i4AL/lCcaWdGr9BQnkrAIuE= X-Google-DKIM-Signature: v=1; a=rsa-sha256; c=relaxed/relaxed; d=1e100.net; s=20230601; t=1763381753; x=1763986553; h=cc:to:from:subject:message-id:date:x-gm-gg:x-gm-message-state:from :to:cc:subject:date:message-id:reply-to; bh=2+hO+dBLPRsX8ZZ6AtrKFjlBe2e6wbATw683AN+6sEg=; b=r6dFTctJsGxBChDaAAYih3CRv1s5h/mDkfsCvj/3eLaWx0bmtP0dzX/ytNLTzyOhtQ iJP+IAIRktUWLMBfDZvd7sVKPj9xTbjwt/lhHsrKr3A5lqoNmxcguwZFSfArWeyRpgxQ latHQOfOiBwV1jcbT3iLAgNjxhzWtZ92qGTj3ofbP47bueQRbzhPGMJCf51JxOOgvy1F p7J/H4xzxwzrrTHrggTDTb4ONPHixwerlyNRXgDML9NgP3bOfzw+WbM78YnqvSxIFSaF IDHzNI3okBOnk9gutpQqcRIthwOU+HSOyu/UT/tRHJxKqg3nImQq3vtHrr5lHkIRN8oe W8Bg== X-Gm-Message-State: AOJu0YwiTWSCkpWT1pTd8jAfQoPV7PPt55Zr5QBf2r0e4c/dWaPppwfn uNwxVLP8hOxX0GbIt6BAAN3vjzFCWR0X5T+iGS5Iv2OVpmaURQXkkNWT0sGPwoA874z7oxYS6N2 KyWdeBUHkJ9JQe1PbiRIFTWApa36QKUg65ALmZLAY6QLZgFiKw4DS X-Gm-Gg: ASbGncvkDemF6efEj/HlIg3L6n545vZ7KMsdsyRV5vvXY3iANJ4wvw6+//+ejZ6FpEV wxp9w55nABr1b2IX9dtUONazB3nm3X6OTMdOUOKwIbTOJgP4fY57tESaDACnepr+hmoEbFZO02O T1jnN6ZZHLBdR4xmrbueuqNdnpK15S1rFfh6Hxy6YPK7LNks2foq1f01w8UzLCJ0mbYXA3JFJ8C xmq9bXehKU8kJFM05y81Z+YTrRo0aEYsTpiizTt9N1vxvkYUYai8EvZldooCOeJ2ZI7qBZiZohS X2Ky632v5UwDlMouQdQbUanp7O9W0KYXjv1hCWZ5LwoM5D3ZJOSivNZKTlTr8mAD3PFnEhtp9YU gk3oqZrHZ X-Google-Smtp-Source: AGHT+IE0AT2veBraVH91P2aLQi2Y7mwDyuLfDPsnCqRqi9tHbpcKIrMlU3H2TSG+YRXQdQZmC5io7t6ISonK X-Received: by 2002:a05:6a00:2d1e:b0:7ae:8821:96dd with SMTP id d2e1a72fcca58-7ba3c085400mr14711564b3a.24.1763381752910; Mon, 17 Nov 2025 04:15:52 -0800 (PST) Received: from postal.iol.unh.edu (postal.iol.unh.edu. [2606:4100:3880:1234::84]) by smtp-relay.gmail.com with ESMTPS id d2e1a72fcca58-7b9281ffc7csm1244529b3a.8.2025.11.17.04.15.52 (version=TLS1_2 cipher=ECDHE-ECDSA-AES128-GCM-SHA256 bits=128/128); Mon, 17 Nov 2025 04:15:52 -0800 (PST) X-Relaying-Domain: iol.unh.edu Date: Mon, 17 Nov 2025 04:15:52 -0800 (PST) Message-ID: <691b11f8.050a0220.68d30.eb32SMTPIN_ADDED_MISSING@mx.google.com> Received: from [172.21.0.5] (unknown [172.18.0.240]) by postal.iol.unh.edu (Postfix) with ESMTP id 411536051830; Mon, 17 Nov 2025 07:15:52 -0500 (EST) Subject: |SUCCESS| [GIT MASTER] 0bd935abcb823f581ce53986986aa54eaf6f8140 From: dpdklab@iol.unh.edu To: Test Report Cc: dpdk-test-reports@iol.unh.edu, Xueming Li , Christian Ehrhardt , Kevin Traynor , Luca Boccassi Content-Type: text/plain X-BeenThere: test-report@dpdk.org X-Mailman-Version: 2.1.29 Precedence: list List-Id: automatic DPDK test reports List-Unsubscribe: , List-Archive: List-Post: List-Help: List-Subscribe: , Errors-To: test-report-bounces@dpdk.org _Testing PASS_ Branch: tags/v24.11 0bd935abcb823f581ce53986986aa54eaf6f8140 --> testing pass Upstream job id: Generic-DPDK-Compile-Meson#445291 Test environment and result as below: +------------------------------+--------------------+ | Environment | dpdk_meson_compile | +==============================+====================+ | Red Hat Enterprise Linux 9.5 | PASS | +------------------------------+--------------------+ | Ubuntu 20.04 | PASS | +------------------------------+--------------------+ | Debian GNU/Linux 12 | PASS | +------------------------------+--------------------+ | Fedora Linux 42 | PASS | +------------------------------+--------------------+ | Ubuntu 24.04 | PASS | +------------------------------+--------------------+ | Ubuntu 22.04 | PASS | +------------------------------+--------------------+ | CentOS Stream 9 | PASS | +------------------------------+--------------------+ | CentOS Stream 10 | PASS | +------------------------------+--------------------+ Red Hat Enterprise Linux 9.5 Kernel: 5.4 Compiler: gcc gcc (GCC) 11.5.0 20240719 (Red Hat 11.5.0-2) Ubuntu 20.04 Kernel: 5.15 Compiler: aarch64-linux-gnu-gcc gcc (Ubuntu 9.4.0-1ubuntu1~20.04.2) 9.4.0 Debian GNU/Linux 12 Kernel: 5.4 Compiler: gcc gcc (Debian 12.2.0-14+deb12u1) 12.2.0 Fedora Linux 42 Kernel: 5.4 Compiler: gcc gcc (GCC) 15.2.1 20250808 (Red Hat 15.2.1-1) Ubuntu 24.04 Kernel: 5.4 Compiler: gcc gcc (Ubuntu 13.3.0-6ubuntu2~24.04) 13.3.0 Ubuntu 22.04 Kernel: 5.4 Compiler: gcc gcc (Ubuntu 11.4.0-1ubuntu1~22.04) 11.4.0 CentOS Stream 9 Kernel: 5.4 Compiler: gcc gcc (GCC) 11.5.0 20240719 (Red Hat 11.5.0-11) CentOS Stream 10 Kernel: 5.4 Compiler: gcc gcc (GCC) 14.2.1 20250110 (Red Hat 14.2.1-8) To view detailed results, visit: https://lab.dpdk.org/results/dashboard/tarballs/35626/ UNH-IOL DPDK Community Lab To manage your email subscriptions, visit: https://lab.dpdk.org/results/dashboard/preferences/subscriptions/