From mboxrd@z Thu Jan 1 00:00:00 1970 Return-Path: Received: from mails.dpdk.org (mails.dpdk.org [217.70.189.124]) by inbox.dpdk.org (Postfix) with ESMTP id B177048B32 for ; Mon, 17 Nov 2025 14:17:34 +0100 (CET) Received: from mails.dpdk.org (localhost [127.0.0.1]) by mails.dpdk.org (Postfix) with ESMTP id AD2B04025A; Mon, 17 Nov 2025 14:17:34 +0100 (CET) Received: from mail-io1-f99.google.com (mail-io1-f99.google.com [209.85.166.99]) by mails.dpdk.org (Postfix) with ESMTP id 4CB294025A for ; Mon, 17 Nov 2025 14:17:33 +0100 (CET) Received: by mail-io1-f99.google.com with SMTP id ca18e2360f4ac-948e1ec34afso111108439f.3 for ; Mon, 17 Nov 2025 05:17:33 -0800 (PST) DKIM-Signature: v=1; a=rsa-sha256; c=relaxed/relaxed; d=iol.unh.edu; s=unh-iol; t=1763385452; x=1763990252; darn=dpdk.org; h=references:in-reply-to:cc:to:from:subject:message-id:date:from:to :cc:subject:date:message-id:reply-to; bh=Pw1YPuuF91JstOcINRL+Ad8IQuWEXO5kvmshhzWyvc8=; b=CjLGq5XVbsyqGpfC+BlMaakpVzAvcccy9fxxJlH+cIMUKNua/o87s65Ilhbbp3lwlA I8r9UC73/NreoXvOrEs78wltMmICDFerNJm1wCKIWtrIcp8Sw9sM8LppRzbw6pzTKFSx vgtanBVP9rBXe/FHA9TMJDJpVNLc0GGgadUIQ= X-Google-DKIM-Signature: v=1; a=rsa-sha256; c=relaxed/relaxed; d=1e100.net; s=20230601; t=1763385452; x=1763990252; h=references:in-reply-to:cc:to:from:subject:message-id:date:x-gm-gg :x-gm-message-state:from:to:cc:subject:date:message-id:reply-to; bh=Pw1YPuuF91JstOcINRL+Ad8IQuWEXO5kvmshhzWyvc8=; b=SyGBd6+PQaSH6MIzKntD7nzYfAEaXunFQtT2PiDTKLlNZ6d9n6DLo6LTNJhAtSjZau Xy72YAPoZbwhIt+AJrZGVrihrR8GudS/XeVhANo7NVWGh1QelObxdet0CEjPIckflZHC vV8xhN+6gX6OeP1s3PFkRGm/y1n6xVBuEwCm9W88mhDgH7buNBvxkvWjxhXaE7Rblsu3 RwXd5Je+z9mzcvXcXmyQWgEuA9oPgK+xJBJqi7Qe2yULq1EhnRWs4odSkHi2osbLanWg CyCEcGg+G2VZJAGllfm/Uu8gDFQheNm+0P8IC81lm3xwE0twVJVj/G6InVCZvdGIdm9w FsNQ== X-Gm-Message-State: AOJu0YxAjfydBHkukAaW7SypP3WYkwOXLXYZTPMj4bT7hV6/sIg8dnxK s5/DtVt2IaTKiF00QcV4R+4NQmA4XZMsNW/uMk42X6QlY83X6l6abYMR2RShDbmPpizzcA82ZHw jJRKNWam1KBjek5xaUAxDnC2I0+4MwYiwTRX9ek63rqgZ X-Gm-Gg: ASbGnct4DUUcvZObh4bSBOQUofHp8j6QC3UQAvFnxuKjMgiVXw64P4VMydXk7pimIGQ EQsWSiVkXD54yPv1sGbfFkqo4bIhAVSRMqOVgt8KCcUToQ9jq2b00Sl6yzvnu26xgfZeVnLuKoX O0H4Ur6g8o+v5SFKFNPQlQfbmlE/NXU9SS59V1oSYLfB0jB1XoaXOYC4qYgYooQi59cbz2osZIO 8nreKXvrmdnRqArstzvJcmmF//jnj9fc5TIh/dlDw9BoYxrVQerd2CF/az8p+lMtCvG1fjIzUT7 nlP4uukrATLavm/LGynILATXa0NoVzlTbPW6PUxsAhNYFmFwnGJrwd/p3MxwgRmzZiv7y+jaVdK lvu/OtqNR0awScPSXTDuDalePN+NGfLA= X-Google-Smtp-Source: AGHT+IFHG/hke8RnzaLcpRA7KB7/iepc/joi886lbbjmTfYL1ske9ulLxW75cd/yJYcUIwP7u+DoDSqK2ZTB X-Received: by 2002:a02:c983:0:b0:5b7:11cd:5d78 with SMTP id 8926c6da1cb9f-5b7c9d23cc6mr6926170173.1.1763385452496; Mon, 17 Nov 2025 05:17:32 -0800 (PST) Received: from postal.iol.unh.edu (postal.iol.unh.edu. [132.177.123.84]) by smtp-relay.gmail.com with ESMTPS id 8926c6da1cb9f-5b7bd33586csm890590173.34.2025.11.17.05.17.32 (version=TLS1_2 cipher=ECDHE-ECDSA-AES128-GCM-SHA256 bits=128/128); Mon, 17 Nov 2025 05:17:32 -0800 (PST) X-Relaying-Domain: iol.unh.edu Date: Mon, 17 Nov 2025 05:17:32 -0800 (PST) Message-ID: <691b206c.020a0220.38cef1.c6c7SMTPIN_ADDED_MISSING@mx.google.com> Received: from [172.21.0.5] (unknown [172.18.0.240]) by postal.iol.unh.edu (Postfix) with ESMTP id 0A07E6051830; Mon, 17 Nov 2025 08:17:32 -0500 (EST) Subject: |SUCCESS| pw158847 [PATCH] net/mlx5: fix segmentation fault in flow From: dpdklab@iol.unh.edu To: Test Report Cc: dpdk-test-reports@iol.unh.edu In-Reply-To: <20251117071536.205328-1-mkashani@nvidia.com> References: <20251117071536.205328-1-mkashani@nvidia.com> Content-Type: text/plain X-BeenThere: test-report@dpdk.org X-Mailman-Version: 2.1.29 Precedence: list List-Id: automatic DPDK test reports List-Unsubscribe: , List-Archive: List-Post: List-Help: List-Subscribe: , Errors-To: test-report-bounces@dpdk.org Test-Label: iol-compile-amd64-testing Test-Status: SUCCESS http://dpdk.org/patch/158847 _Testing PASS_ Submitter: Maayan Kashani Date: Monday, November 17 2025 07:15:36 DPDK git baseline: Repo:dpdk-next-net-mlx Branch: master CommitID:6c8ab18883d4a51ac512a969d36b47272a63b61b 158847 --> testing pass Upstream job id: Generic-DPDK-Compile-Meson#445517 Test environment and result as below: +-------------------------------+--------------------+------------------+-------------------+ | Environment | dpdk_meson_compile | dpdk_compile_ovs | dpdk_msvc_compile | +===============================+====================+==================+===================+ | FreeBSD 14.2 | PASS | SKIPPED | SKIPPED | +-------------------------------+--------------------+------------------+-------------------+ | Ubuntu 20.04 | PASS | SKIPPED | SKIPPED | +-------------------------------+--------------------+------------------+-------------------+ | CentOS Stream 9 | PASS | SKIPPED | SKIPPED | +-------------------------------+--------------------+------------------+-------------------+ | CentOS Stream 10 | PASS | SKIPPED | SKIPPED | +-------------------------------+--------------------+------------------+-------------------+ | Debian GNU/Linux 12 | PASS | SKIPPED | SKIPPED | +-------------------------------+--------------------+------------------+-------------------+ | Fedora Linux 42 | PASS | PASS | SKIPPED | +-------------------------------+--------------------+------------------+-------------------+ | openSUSE Leap 15.6 | PASS | SKIPPED | SKIPPED | +-------------------------------+--------------------+------------------+-------------------+ | Red Hat Enterprise Linux 8.10 | PASS | SKIPPED | SKIPPED | +-------------------------------+--------------------+------------------+-------------------+ | Red Hat Enterprise Linux 9.5 | PASS | SKIPPED | SKIPPED | +-------------------------------+--------------------+------------------+-------------------+ | Ubuntu 22.04 | PASS | SKIPPED | SKIPPED | +-------------------------------+--------------------+------------------+-------------------+ | Ubuntu 24.04 | PASS | PASS | SKIPPED | +-------------------------------+--------------------+------------------+-------------------+ | Alpine Linux 3.22.0 | PASS | SKIPPED | SKIPPED | +-------------------------------+--------------------+------------------+-------------------+ | Windows Server 2022 | SKIPPED | SKIPPED | PASS | +-------------------------------+--------------------+------------------+-------------------+ FreeBSD 14.2 Kernel: 14.2-RELEASE Compiler: clang 18.1.6 Ubuntu 20.04 Kernel: 4.19 Compiler: gcc gcc (Ubuntu 9.4.0-1ubuntu1~20.04.2) 9.4.0 CentOS Stream 9 Kernel: 5.15 Compiler: gcc gcc (GCC) 11.5.0 20240719 (Red Hat 11.5.0-11) CentOS Stream 10 Kernel: 5.15 Compiler: gcc gcc (GCC) 14.2.1 20250110 (Red Hat 14.2.1-8) Debian GNU/Linux 12 Kernel: 5.15 Compiler: gcc gcc (Debian 12.2.0-14+deb12u1) 12.2.0 Fedora Linux 42 Kernel: 5.15 Compiler: clang gcc (GCC) 15.2.1 20250808 (Red Hat 15.2.1-1) openSUSE Leap 15.6 Kernel: 5.15 Compiler: gcc gcc (SUSE Linux) 7.5.0 Red Hat Enterprise Linux 8.10 Kernel: 5.15 Compiler: gcc gcc (GCC) 8.5.0 20210514 (Red Hat 8.5.0-22) Red Hat Enterprise Linux 9.5 Kernel: 5.15 Compiler: gcc gcc (GCC) 11.5.0 20240719 (Red Hat 11.5.0-2) Ubuntu 22.04 Kernel: 5.15 Compiler: gcc gcc (Ubuntu 11.4.0-1ubuntu1~22.04) 11.4.0 Ubuntu 24.04 Kernel: 5.15 Compiler: gcc gcc (Ubuntu 13.3.0-6ubuntu2~24.04) 13.3.0 Alpine Linux 3.22.0 Kernel: 5.15 Compiler: gcc gcc (Alpine 14.2.0) 14.2.0 Windows Server 2022 Kernel: 10.0.20348.2031 Compiler: clang 15.0.7, gcc 14.1.0 (MinGW), and MSVC VS 19.39.33521 To view detailed results, visit: https://lab.dpdk.org/results/dashboard/patchsets/34618/ UNH-IOL DPDK Community Lab To manage your email subscriptions, visit: https://lab.dpdk.org/results/dashboard/preferences/subscriptions/