From mboxrd@z Thu Jan 1 00:00:00 1970 Return-Path: Received: from mails.dpdk.org (mails.dpdk.org [217.70.189.124]) by inbox.dpdk.org (Postfix) with ESMTP id A2D8548B32 for ; Mon, 17 Nov 2025 15:08:54 +0100 (CET) Received: from mails.dpdk.org (localhost [127.0.0.1]) by mails.dpdk.org (Postfix) with ESMTP id 76E4E4025A; Mon, 17 Nov 2025 15:08:54 +0100 (CET) Received: from mail-pl1-f225.google.com (mail-pl1-f225.google.com [209.85.214.225]) by mails.dpdk.org (Postfix) with ESMTP id EE8644025A for ; Mon, 17 Nov 2025 15:08:52 +0100 (CET) Received: by mail-pl1-f225.google.com with SMTP id d9443c01a7336-29845b06dd2so49285825ad.2 for ; Mon, 17 Nov 2025 06:08:52 -0800 (PST) DKIM-Signature: v=1; a=rsa-sha256; c=relaxed/relaxed; d=iol.unh.edu; s=unh-iol; t=1763388532; x=1763993332; darn=dpdk.org; h=references:in-reply-to:cc:to:from:subject:message-id:date:from:to :cc:subject:date:message-id:reply-to; bh=44aacvK4M8FKqu/HavfD4LXHJRYB723AgRJgOiT19Zo=; b=Mo/vCIpKnYpFuz8W+3sTSK0ykmyW75dj8mDzLhKFgvgQC3GfSsFufLWA+AY37y5NaZ 795OoDqR9hnc+gik0VA2m0XZHvnWLa1EQ/l0JgWIwkqObL0QKhXdBsluk31bfRyAOVaT WIQDUaOYk4falxMCn7dvDBUpmAJVMgtcD+RrA= X-Google-DKIM-Signature: v=1; a=rsa-sha256; c=relaxed/relaxed; d=1e100.net; s=20230601; t=1763388532; x=1763993332; h=references:in-reply-to:cc:to:from:subject:message-id:date:x-gm-gg :x-gm-message-state:from:to:cc:subject:date:message-id:reply-to; bh=44aacvK4M8FKqu/HavfD4LXHJRYB723AgRJgOiT19Zo=; b=fDE/dxAF1Lc8NLk2HXsjoahfhXOb4QMVRj2kRNDZd8kUBaCh7mxahCUUFHJPU0i386 gyb9z//PcINrau4tt+y/0VXt+xSKDfHJhyZrsk4UWfdWW4QK01qwzS3qMbMYF6Gx1DuB orLPolwvBFbx4fBRr3s400bLsl2HhXRx6CcDFy6L1etGLJjwQZ772RfwOxwYFPGAMLQh N2tgh5fBUZG+OIifEH2a0vamECXvLP1MUtXTyTJO5Ap1QjP/m6Bghr/bcm7SFXGW8RHm Qwqey7dK0N0Kk4vKhu6ihkPNBLMKXjrzt4O3mGIUv3EeM1NgVjTVG6UyVpOxWA6S/oGe PHLg== X-Gm-Message-State: AOJu0YzLlqy2VidBNec71cA78ILYcWPkSt5TRlgZZVtwxE5OnwqbZ8S9 EaXNuPeRKfLx2vLU8JvS5vA9PotfVCnJ6cXyzS6rWoBRMWD7OpT6XH5rKuUIlNbdQAUEybIsVuT vd2ay34mwagn03Scj6+YWFWWyhsCqVGeTNEEPJ891XI2e X-Gm-Gg: ASbGnct3wEG1kfB/diou4QDzagsywMCKzrTJEIypIdQF3M63ABrSM9UXPypU34PmOim 3DfIg9C5fFsQ3hEOcsjgs2Qe7vqNmph3R5fCbdv6lX5D3/FQuju3UF+1DiOUEBWub1gZ4WMSANe bpoZU4olY/EVjiJfPpgRZaAcO3e4NqOUkkWfewUqbxvwz0UTQlIGkz2vXOEZhZdXbxel3t898EA qFqoSx5xXU63g82U1tC5SeEJbCV/OoNaKYdJsnie/fn3LTjW4TdffcFj4bcRvQi5EpBRUg++b6i 50FRdqdS1HtqimQfk/EFMnUhhBOG3lKLMx8eA6+OWNUb4gomcksCXwEnP9RqpceGDlYu4svgMH/ 4cfy9NqbXEA8mtcPbh0vEPMs747DgYUo= X-Google-Smtp-Source: AGHT+IFcdiA/2GgEMuF+C7mY3131kOugBMyDnaNYEj0zVvoWh2Q5+uSXq8Ypev0w2a6c8nKfwYTeyNxIgqCE X-Received: by 2002:a17:903:2a8b:b0:295:4d97:8503 with SMTP id d9443c01a7336-2986a72bf65mr144932855ad.30.1763388531993; Mon, 17 Nov 2025 06:08:51 -0800 (PST) Received: from postal.iol.unh.edu (postal.iol.unh.edu. [132.177.123.84]) by smtp-relay.gmail.com with ESMTPS id d9443c01a7336-2985c17f8a1sm14407245ad.0.2025.11.17.06.08.51 (version=TLS1_2 cipher=ECDHE-ECDSA-AES128-GCM-SHA256 bits=128/128); Mon, 17 Nov 2025 06:08:51 -0800 (PST) X-Relaying-Domain: iol.unh.edu Date: Mon, 17 Nov 2025 06:08:51 -0800 (PST) Message-ID: <691b2c73.170a0220.c6043.83f2SMTPIN_ADDED_MISSING@mx.google.com> Received: from [172.21.0.4] (unknown [172.18.0.240]) by postal.iol.unh.edu (Postfix) with ESMTP id 632A4604D420; Mon, 17 Nov 2025 09:08:51 -0500 (EST) Subject: |SUCCESS| pw158847 [PATCH] net/mlx5: fix segmentation fault in flow From: dpdklab@iol.unh.edu To: Test Report Cc: dpdk-test-reports@iol.unh.edu In-Reply-To: <20251117071536.205328-1-mkashani@nvidia.com> References: <20251117071536.205328-1-mkashani@nvidia.com> Content-Type: text/plain X-BeenThere: test-report@dpdk.org X-Mailman-Version: 2.1.29 Precedence: list List-Id: automatic DPDK test reports List-Unsubscribe: , List-Archive: List-Post: List-Help: List-Subscribe: , Errors-To: test-report-bounces@dpdk.org Test-Label: iol-unit-amd64-testing Test-Status: SUCCESS http://dpdk.org/patch/158847 _Testing PASS_ Submitter: Maayan Kashani Date: Monday, November 17 2025 07:15:36 DPDK git baseline: Repo:dpdk-next-net-mlx Branch: master CommitID:6c8ab18883d4a51ac512a969d36b47272a63b61b 158847 --> testing pass Upstream job id: Generic-Unit-Test-DPDK#393809 Test environment and result as below: +-------------------------------+----------------+ | Environment | dpdk_unit_test | +===============================+================+ | Fedora Linux 40 | PASS | +-------------------------------+----------------+ | Fedora Linux 41 | PASS | +-------------------------------+----------------+ | CentOS Stream 9 | PASS | +-------------------------------+----------------+ | Red Hat Enterprise Linux 9.5 | PASS | +-------------------------------+----------------+ | Fedora Linux 42 | PASS | +-------------------------------+----------------+ | Ubuntu 20.04 | PASS | +-------------------------------+----------------+ | Debian GNU/Linux 12 | PASS | +-------------------------------+----------------+ | Red Hat Enterprise Linux 8.10 | PASS | +-------------------------------+----------------+ | CentOS Stream 10 | PASS | +-------------------------------+----------------+ | Ubuntu 22.04 | PASS | +-------------------------------+----------------+ | Ubuntu 24.04 | PASS | +-------------------------------+----------------+ | Windows Server 2022 | PASS | +-------------------------------+----------------+ Fedora Linux 40 Kernel: 5.15 Compiler: gcc gcc (GCC) 14.2.1 20240912 (Red Hat 14.2.1-3) Fedora Linux 41 Kernel: 5.15 Compiler: clang gcc (GCC) 14.3.1 20250523 (Red Hat 14.3.1-1) CentOS Stream 9 Kernel: 5.15 Compiler: gcc gcc (GCC) 11.5.0 20240719 (Red Hat 11.5.0-11) Red Hat Enterprise Linux 9.5 Kernel: 5.15 Compiler: gcc gcc (GCC) 11.5.0 20240719 (Red Hat 11.5.0-2) Fedora Linux 42 Kernel: 5.15 Compiler: clang gcc (GCC) 15.2.1 20250808 (Red Hat 15.2.1-1) Ubuntu 20.04 Kernel: 5.15 Compiler: gcc gcc (Ubuntu 9.4.0-1ubuntu1~20.04.2) 9.4.0 Debian GNU/Linux 12 Kernel: 5.15 Compiler: gcc gcc (Debian 12.2.0-14+deb12u1) 12.2.0 Red Hat Enterprise Linux 8.10 Kernel: 5.15 Compiler: gcc gcc (GCC) 8.5.0 20210514 (Red Hat 8.5.0-22) CentOS Stream 10 Kernel: 5.15 Compiler: gcc gcc (GCC) 14.2.1 20250110 (Red Hat 14.2.1-8) Ubuntu 22.04 Kernel: 5.15 Compiler: gcc gcc (Ubuntu 11.4.0-1ubuntu1~22.04) 11.4.0 Ubuntu 24.04 Kernel: 5.15 Compiler: gcc gcc (Ubuntu 13.3.0-6ubuntu2~24.04) 13.3.0 Windows Server 2022 Kernel: 10.0.20348.2031 Compiler: clang 15.0.7, gcc 14.1.0 (MinGW), and MSVC VS 19.39.33521 To view detailed results, visit: https://lab.dpdk.org/results/dashboard/patchsets/34618/ UNH-IOL DPDK Community Lab To manage your email subscriptions, visit: https://lab.dpdk.org/results/dashboard/preferences/subscriptions/