From mboxrd@z Thu Jan 1 00:00:00 1970 Return-Path: Received: from mails.dpdk.org (mails.dpdk.org [217.70.189.124]) by inbox.dpdk.org (Postfix) with ESMTP id 79EFD48B32 for ; Mon, 17 Nov 2025 15:38:18 +0100 (CET) Received: from mails.dpdk.org (localhost [127.0.0.1]) by mails.dpdk.org (Postfix) with ESMTP id 596F54025A; Mon, 17 Nov 2025 15:38:18 +0100 (CET) Received: from mail-io1-f100.google.com (mail-io1-f100.google.com [209.85.166.100]) by mails.dpdk.org (Postfix) with ESMTP id 861304025A for ; Mon, 17 Nov 2025 15:38:17 +0100 (CET) Received: by mail-io1-f100.google.com with SMTP id ca18e2360f4ac-9486248f01bso151176439f.0 for ; Mon, 17 Nov 2025 06:38:17 -0800 (PST) DKIM-Signature: v=1; a=rsa-sha256; c=relaxed/relaxed; d=iol.unh.edu; s=unh-iol; t=1763390297; x=1763995097; darn=dpdk.org; h=references:in-reply-to:cc:to:from:subject:message-id:date:from:to :cc:subject:date:message-id:reply-to; bh=dBFfURh4Y+w5wa0Aesv1JwuCsHEoQIa8crgwEcgVCqY=; b=XANV3wQuNHC18h43SKe5jZ+hyvZdS8x1/y9K2HyFlDLc/JNbzDRlFUAqBEi8Zvz11h r3wAEEnqhIwzlGORUCyJ3goXpoZmRvNIevaqNIpWqjHRkodKF1hyVo4JmdPXTgTNMSN7 KkJAkGWTV5M2jSGRk2vbXfDmJF9ZU8zJbzp0M= X-Google-DKIM-Signature: v=1; a=rsa-sha256; c=relaxed/relaxed; d=1e100.net; s=20230601; t=1763390297; x=1763995097; h=references:in-reply-to:cc:to:from:subject:message-id:date:x-gm-gg :x-gm-message-state:from:to:cc:subject:date:message-id:reply-to; bh=dBFfURh4Y+w5wa0Aesv1JwuCsHEoQIa8crgwEcgVCqY=; b=Hw7sJ2bzH6TuTCuoTxXsolx/EHWEcBe15sRn8/tVHd/3J+5fDTMNtO+NYu4QpKAZPV v8eBSvV+FJASC4pkO4cwcYNIOiXN0oeR4sO8dWevttCWHDxySOtP+dXDyFlEKqTqrUjt SG5GWIIvsvFmkeksRuKwjC9H/D3jqKsD/M2d+QVR3m58nS6eASzNkRygp36Kct+oBbVa SZay0kUeUn/nWaXqZNS9Bxk/zrkbJR0aeIClQaK2GaazkyBsOIT6mE8mrQSgwgcUZvNh Znd4Z3gBMyU9BiYqnqFZWgisIn67XHUr6DO/3PshQxZCKaLZ0WmecZbcbGhGupfc9Uw7 Cg9Q== X-Gm-Message-State: AOJu0Yw80Uu1S7u/LZXjQ1mhPcs/R+oioTrwPvwqwI9aFrjN3JTa1bkU qbuR4hxdXnMdzZDZsBYfGlkf9Oc7M038FSfEA6YzryDVZrGTffExcLK8ea/iNq+VxIjPatgWxFj DYT7I+a1gfoQfzmIojqMIizTvrCzqjQtDxhrPkxC+UHxA X-Gm-Gg: ASbGnctCSJN/RnWsIJQTdYYzSYIcWpMd8MBmUcaErT+5OwRlAB9F80tejSsWcBynRUS cv48fIeeLcMT05BxUgmg9fZ2zv+wR9mAT6bjKkbu8zItPJzWz3o+R/Zpw50saz0AWQqhNotBe1Q Ky6r0u5AZzBKut6TgUq9jeUdV2Bi33VXHjWAuutvzMTrHbaNcy3Pg0h1c/9Zk0GjJlytR38Bzkq MCFIJJ2qyFZNR0VK556aF+MWyZiOQGvWUDM+nye8EcItAySzZ0QiX0QAH0OwcMN3tFGj5BGkhfO uhmkTpQNK4rjQ2jXP9c8WRwLFyTZg8cKfrOLCBYg8K5ZdkYJey2xJscsGf0uUV7tVMjiK00hNsC kSJFXlpIO7jYYOoz8TNr0v6p72zFmsHQ= X-Google-Smtp-Source: AGHT+IHg1b6M80WQLRmFLDBkmRt9BAqyn1LKItdHiM7qkZEGFy0LpqbsDRbLv9dlHJZdYQaSso1Jt9inZCSI X-Received: by 2002:a02:cca6:0:b0:5ad:ebe6:c3e9 with SMTP id 8926c6da1cb9f-5b7c9c4a500mr7821098173.3.1763390296726; Mon, 17 Nov 2025 06:38:16 -0800 (PST) Received: from postal.iol.unh.edu (postal.iol.unh.edu. [132.177.123.84]) by smtp-relay.gmail.com with ESMTPS id 8926c6da1cb9f-5b7bd33586csm904177173.34.2025.11.17.06.38.16 (version=TLS1_2 cipher=ECDHE-ECDSA-AES128-GCM-SHA256 bits=128/128); Mon, 17 Nov 2025 06:38:16 -0800 (PST) X-Relaying-Domain: iol.unh.edu Date: Mon, 17 Nov 2025 06:38:16 -0800 (PST) Message-ID: <691b3358.020a0220.38cef1.d252SMTPIN_ADDED_MISSING@mx.google.com> Received: from [172.21.0.5] (unknown [172.18.0.240]) by postal.iol.unh.edu (Postfix) with ESMTP id 50BEE604D420; Mon, 17 Nov 2025 09:38:16 -0500 (EST) Subject: |SUCCESS| pw158850 [PATCH] test-flow-perf: support measuring 2nd rou From: dpdklab@iol.unh.edu To: Test Report Cc: dpdk-test-reports@iol.unh.edu In-Reply-To: <20251117073008.9344-1-bingz@nvidia.com> References: <20251117073008.9344-1-bingz@nvidia.com> Content-Type: text/plain X-BeenThere: test-report@dpdk.org X-Mailman-Version: 2.1.29 Precedence: list List-Id: automatic DPDK test reports List-Unsubscribe: , List-Archive: List-Post: List-Help: List-Subscribe: , Errors-To: test-report-bounces@dpdk.org Test-Label: iol-compile-arm64-testing Test-Status: SUCCESS http://dpdk.org/patch/158850 _Testing PASS_ Submitter: Bing Zhao Date: Monday, November 17 2025 07:30:08 DPDK git baseline: Repo:dpdk Branch: master CommitID:be0112878b4fc3a1b918370ed2fe615c52039d77 158850 --> testing pass Upstream job id: Generic-DPDK-Compile-Meson#445385 Test environment and result as below: +------------------------------+--------------------+ | Environment | dpdk_meson_compile | +==============================+====================+ | Ubuntu 20.04 | PASS | +------------------------------+--------------------+ | Red Hat Enterprise Linux 9.5 | PASS | +------------------------------+--------------------+ | Debian GNU/Linux 12 | PASS | +------------------------------+--------------------+ | Fedora Linux 42 | PASS | +------------------------------+--------------------+ | Ubuntu 22.04 | PASS | +------------------------------+--------------------+ | CentOS Stream 9 | PASS | +------------------------------+--------------------+ | CentOS Stream 10 | PASS | +------------------------------+--------------------+ | Ubuntu 24.04 | PASS | +------------------------------+--------------------+ Ubuntu 20.04 Kernel: 5.15 Compiler: aarch64-linux-gnu-gcc gcc (Ubuntu 9.4.0-1ubuntu1~20.04.2) 9.4.0 Red Hat Enterprise Linux 9.5 Kernel: 5.4 Compiler: gcc gcc (GCC) 11.5.0 20240719 (Red Hat 11.5.0-2) Debian GNU/Linux 12 Kernel: 5.4 Compiler: gcc gcc (Debian 12.2.0-14+deb12u1) 12.2.0 Fedora Linux 42 Kernel: 5.4 Compiler: gcc gcc (GCC) 15.2.1 20250808 (Red Hat 15.2.1-1) Ubuntu 22.04 Kernel: 5.4 Compiler: gcc gcc (Ubuntu 11.4.0-1ubuntu1~22.04) 11.4.0 CentOS Stream 9 Kernel: 5.4 Compiler: gcc gcc (GCC) 11.5.0 20240719 (Red Hat 11.5.0-11) CentOS Stream 10 Kernel: 5.4 Compiler: gcc gcc (GCC) 14.2.1 20250110 (Red Hat 14.2.1-8) Ubuntu 24.04 Kernel: 5.4 Compiler: gcc gcc (Ubuntu 13.3.0-6ubuntu2~24.04) 13.3.0 To view detailed results, visit: https://lab.dpdk.org/results/dashboard/patchsets/34619/ UNH-IOL DPDK Community Lab To manage your email subscriptions, visit: https://lab.dpdk.org/results/dashboard/preferences/subscriptions/