From mboxrd@z Thu Jan 1 00:00:00 1970 Return-Path: Received: from mails.dpdk.org (mails.dpdk.org [217.70.189.124]) by inbox.dpdk.org (Postfix) with ESMTP id 5D63948B32 for ; Mon, 17 Nov 2025 15:47:01 +0100 (CET) Received: from mails.dpdk.org (localhost [127.0.0.1]) by mails.dpdk.org (Postfix) with ESMTP id 50C0C4025A; Mon, 17 Nov 2025 15:47:01 +0100 (CET) Received: from mail-io1-f100.google.com (mail-io1-f100.google.com [209.85.166.100]) by mails.dpdk.org (Postfix) with ESMTP id 521344025A for ; Mon, 17 Nov 2025 15:47:00 +0100 (CET) Received: by mail-io1-f100.google.com with SMTP id ca18e2360f4ac-949033fb2a9so54024339f.2 for ; Mon, 17 Nov 2025 06:47:00 -0800 (PST) DKIM-Signature: v=1; a=rsa-sha256; c=relaxed/relaxed; d=iol.unh.edu; s=unh-iol; t=1763390819; x=1763995619; darn=dpdk.org; h=references:in-reply-to:cc:to:from:subject:message-id:date:from:to :cc:subject:date:message-id:reply-to; bh=it/NOC3/kN+zF30FarW3FD+abDM63VeO2haju4+uI/E=; b=QDGVNLsZCSPrESV67C+yNcd8c7xcx8wlR0JeP5PL6wKpYa6jvq27okN/yOTVA1kwJv XxPjt7uDUi1DeRze+NoRe0EnDCnBNWjzpe2FRMbaQ7S0UOmFzis1eN7C1fMc0AEIPaTf yF+eY4Ml3jyR0AdUdpP4Ua4d26HXm7/gmtdvU= X-Google-DKIM-Signature: v=1; a=rsa-sha256; c=relaxed/relaxed; d=1e100.net; s=20230601; t=1763390819; x=1763995619; h=references:in-reply-to:cc:to:from:subject:message-id:date:x-gm-gg :x-gm-message-state:from:to:cc:subject:date:message-id:reply-to; bh=it/NOC3/kN+zF30FarW3FD+abDM63VeO2haju4+uI/E=; b=Rv37/dSjerzVOl8L01VDkqpmY67cXsR7bK7RwSGvSRwqpzOXS1XiTZaAuy75ORxcqS PcPSSl8Nw5NOfVAu5WTSEaiSOuyNOaDqzN04FDG6EYJUqf/+lyB3ONi4yOtY9shEqbmw ZzOXXBeXAnOWdnE9uce1kolVTvF/nI54V0ThUSkFEwAvKLdD/0Pr7iSX5huJldzKbTpC glpGW7VePFhyz9p9nAXh+8+ojXlLDWnA9ZgPnbxT0x44Zg2/6mGk3grl43TzvvOnWbCh H/3PDYAXD/mA6hfZqswkLENs5NEbu7/HQRrtoi8vwaZSRCh1MBQdP7cbZ8g0BxmhIBIj TncQ== X-Gm-Message-State: AOJu0Yxbbgz1vLUm225+zyDnsJP+1wtZDiUcK5JpjgJE/UUXaPGYqTZ3 no+W+VHQfyiLjw1cgWwSRMU27i6FSgp2nd95zxkvc2P1KfTlWOhIrqKAP0W5lu2vUcgZR/cTCRz vSc1zX6zvSliMWI0PlkRUold0X/rsheSImCLuc9zJEF5J7/V2PX6QGQPV+vZ4 X-Gm-Gg: ASbGnctypzcMK92Kjt/5R1t+NZJp2tZrjIukBu2xSWM0eGoGOXYZrME08JlhubQwFvK yMGwEHW9zs2zCZ60ArFTYHvM3q8oPdEVt0fqTsQP/oxOqtUCHR2bHStZva/ODwU/eEdiMicnNyM FUIJQQauuINbjTB5hNs3iaGmHsBFu2RdNHv0x/86CAw5Ho/nXgHtuoER1L0/QPs+VX8VVL/tzQ+ 8K6HkmWP05ugph2Ro1jSsyyi8sAJS98/3TY8pkg1akDadLwvO6pbbxShhIlwpWmchsky9dhcV10 KCz2Ymq+hZr+YdVXqg3Y70v06jxxuLJIlbCfA/r+wRb8jQX1aTV9nTLeHKiwHF6BJ5JZ41nYpVQ ik/ZkYK9q X-Google-Smtp-Source: AGHT+IHu+t0Q23G1gDVglxuoDeWTgmkbjsUh7MdOAkuLfM/ou0HPvlKn30Z3Ip9ZcnzOjDjorgsO0pVfcvQm X-Received: by 2002:a02:c842:0:b0:5b7:abe8:568b with SMTP id 8926c6da1cb9f-5b7c9e03587mr7140986173.19.1763390819583; Mon, 17 Nov 2025 06:46:59 -0800 (PST) Received: from postal.iol.unh.edu (postal.iol.unh.edu. [2606:4100:3880:1234::84]) by smtp-relay.gmail.com with ESMTPS id 8926c6da1cb9f-5b7bd2667b5sm870256173.9.2025.11.17.06.46.59 (version=TLS1_2 cipher=ECDHE-ECDSA-AES128-GCM-SHA256 bits=128/128); Mon, 17 Nov 2025 06:46:59 -0800 (PST) X-Relaying-Domain: iol.unh.edu Date: Mon, 17 Nov 2025 06:46:59 -0800 (PST) Message-ID: <691b3563.050a0220.3a45ef.c17aSMTPIN_ADDED_MISSING@mx.google.com> Received: from [172.21.0.3] (unknown [172.18.0.240]) by postal.iol.unh.edu (Postfix) with ESMTP id 2182260003E7; Mon, 17 Nov 2025 09:46:59 -0500 (EST) Subject: |SUCCESS| pw158856 [PATCH] [v3] net/mlx5: use private structure for From: dpdklab@iol.unh.edu To: Test Report Cc: dpdk-test-reports@iol.unh.edu In-Reply-To: <20251117084443.10264-1-bingz@nvidia.com> References: <20251117084443.10264-1-bingz@nvidia.com> Content-Type: text/plain X-BeenThere: test-report@dpdk.org X-Mailman-Version: 2.1.29 Precedence: list List-Id: automatic DPDK test reports List-Unsubscribe: , List-Archive: List-Post: List-Help: List-Subscribe: , Errors-To: test-report-bounces@dpdk.org Test-Label: iol-unit-amd64-testing Test-Status: SUCCESS http://dpdk.org/patch/158856 _Testing PASS_ Submitter: Bing Zhao Date: Monday, November 17 2025 08:44:43 DPDK git baseline: Repo:dpdk-next-net-mlx Branch: master CommitID:6c8ab18883d4a51ac512a969d36b47272a63b61b 158856 --> testing pass Upstream job id: Generic-Unit-Test-DPDK#393846 Test environment and result as below: +-------------------------------+----------------+ | Environment | dpdk_unit_test | +===============================+================+ | CentOS Stream 9 | PASS | +-------------------------------+----------------+ | CentOS Stream 10 | PASS | +-------------------------------+----------------+ | Debian GNU/Linux 12 | PASS | +-------------------------------+----------------+ | Fedora Linux 40 | PASS | +-------------------------------+----------------+ | Fedora Linux 41 | PASS | +-------------------------------+----------------+ | Fedora Linux 42 | PASS | +-------------------------------+----------------+ | Red Hat Enterprise Linux 8.10 | PASS | +-------------------------------+----------------+ | Ubuntu 20.04 | PASS | +-------------------------------+----------------+ | Red Hat Enterprise Linux 9.5 | PASS | +-------------------------------+----------------+ | Ubuntu 22.04 | PASS | +-------------------------------+----------------+ | Ubuntu 24.04 | PASS | +-------------------------------+----------------+ | Windows Server 2022 | PASS | +-------------------------------+----------------+ CentOS Stream 9 Kernel: 5.15 Compiler: gcc gcc (GCC) 11.5.0 20240719 (Red Hat 11.5.0-11) CentOS Stream 10 Kernel: 5.15 Compiler: gcc gcc (GCC) 14.2.1 20250110 (Red Hat 14.2.1-8) Debian GNU/Linux 12 Kernel: 5.15 Compiler: gcc gcc (Debian 12.2.0-14+deb12u1) 12.2.0 Fedora Linux 40 Kernel: 5.15 Compiler: gcc gcc (GCC) 14.2.1 20240912 (Red Hat 14.2.1-3) Fedora Linux 41 Kernel: 5.15 Compiler: gcc gcc (GCC) 14.3.1 20250523 (Red Hat 14.3.1-1) Fedora Linux 42 Kernel: 5.15 Compiler: gcc gcc (GCC) 15.2.1 20250808 (Red Hat 15.2.1-1) Red Hat Enterprise Linux 8.10 Kernel: 5.15 Compiler: gcc gcc (GCC) 8.5.0 20210514 (Red Hat 8.5.0-22) Ubuntu 20.04 Kernel: 5.15 Compiler: gcc gcc (Ubuntu 9.4.0-1ubuntu1~20.04.2) 9.4.0 Red Hat Enterprise Linux 9.5 Kernel: 5.15 Compiler: gcc gcc (GCC) 11.5.0 20240719 (Red Hat 11.5.0-2) Ubuntu 22.04 Kernel: 5.15 Compiler: gcc gcc (Ubuntu 11.4.0-1ubuntu1~22.04) 11.4.0 Ubuntu 24.04 Kernel: 5.15 Compiler: gcc gcc (Ubuntu 13.3.0-6ubuntu2~24.04) 13.3.0 Windows Server 2022 Kernel: 10.0.20348.2031 Compiler: clang 15.0.7, gcc 14.1.0 (MinGW), and MSVC VS 19.39.33521 To view detailed results, visit: https://lab.dpdk.org/results/dashboard/patchsets/34623/ UNH-IOL DPDK Community Lab To manage your email subscriptions, visit: https://lab.dpdk.org/results/dashboard/preferences/subscriptions/