From mboxrd@z Thu Jan 1 00:00:00 1970 Return-Path: Received: from mails.dpdk.org (mails.dpdk.org [217.70.189.124]) by inbox.dpdk.org (Postfix) with ESMTP id F1FD548B32 for ; Mon, 17 Nov 2025 15:51:52 +0100 (CET) Received: from mails.dpdk.org (localhost [127.0.0.1]) by mails.dpdk.org (Postfix) with ESMTP id EACBD4025A; Mon, 17 Nov 2025 15:51:52 +0100 (CET) Received: from mail-oa1-f98.google.com (mail-oa1-f98.google.com [209.85.160.98]) by mails.dpdk.org (Postfix) with ESMTP id 21DAD4025A for ; Mon, 17 Nov 2025 15:51:51 +0100 (CET) Received: by mail-oa1-f98.google.com with SMTP id 586e51a60fabf-3e7e57450ceso1295273fac.2 for ; Mon, 17 Nov 2025 06:51:51 -0800 (PST) DKIM-Signature: v=1; a=rsa-sha256; c=relaxed/relaxed; d=iol.unh.edu; s=unh-iol; t=1763391110; x=1763995910; darn=dpdk.org; h=references:in-reply-to:cc:to:from:subject:message-id:date:from:to :cc:subject:date:message-id:reply-to; bh=ETbwFGIT+ONQGh2YjX1OX3YhCeBMweAxb0GR5W4gnjU=; b=iQaM1vpyDUXt/6uJdLcXAodq9lkJLTjNnkzX7uIsUk75A5a82amC/jrvbn7F2CQ97j 95aW3hAnwNBh8XLs0t9+9Te1eD4a0ziQPqgwT2yIHks6EeHMZG/Hw8fWfCKSqPP3f2mx TNMl34F0eyFt866+JozTdn4soXKhb3fg/z8J4= X-Google-DKIM-Signature: v=1; a=rsa-sha256; c=relaxed/relaxed; d=1e100.net; s=20230601; t=1763391110; x=1763995910; h=references:in-reply-to:cc:to:from:subject:message-id:date:x-gm-gg :x-gm-message-state:from:to:cc:subject:date:message-id:reply-to; bh=ETbwFGIT+ONQGh2YjX1OX3YhCeBMweAxb0GR5W4gnjU=; b=HYnHo+LT6FMfYtsgpw0npaWHKeT5Y6pUWmpLZ669SABQs3IpTSva7n006zAtskVtUh I8eEPbRHIgYVtEQ9mnk4u7yLchG1qepx9fL8F3zoQjncldoszYSjsNgIwX5nGwe0611u w7M4n+v42Ht9vpOst8BVPU8M2bbd/+oUmZuM3YtNfasxCo/kayy3225QIPKF3uV78C01 gNxJ7iTsVsAZcWOubCpTOv+6wOvV3W5/MKQjJYimaAqNXt5wR157uaLq1VPROYLGacdC zS75+UzMKx+FuEPI8/yY+sbnyTtu7/YWBQ5O8ARVJfQsDVG3EP393/c9NS6fsUJ+2m1A fzcQ== X-Gm-Message-State: AOJu0YwzOEgeFdUJPGDLB9i6sJc1IKpN3OTz+vsWpUAa4ppYIUEMwVy7 YN7NY6bb0IzYH7h25nnelnJQoQI2F0cVpKUdowEEGJa65QS7THRgMDi1a53e/8SfrhnuBWErBjB oW6a6Fbwh3aP93qxGzkcawe56sQQcjx0yJodcDEk9nvla X-Gm-Gg: ASbGnctI6kw36xFVtne8Gl0xuvY0MoiSfET4w+h3CdDUcpDWnxJ2uUbTIQo5cMoxo+k tw93/GsQ20oPKkd30i6SdZCRq837xEw1hEhLBtG/emTfyTMfk/SWWfLxycumV0vOKtatpHV+ObX QFcnG4DMbCe91tCKGyVGixdJuwzUlMOVhqCQESLJjpASljTFc3mpDvYn5+bduv3q4GCptkHRrm+ 9LwXotQZmSgQc90tlK0D8qO46E/IOanxIGqwe+LwwgtQ7v6IVRNxchuJtbij9VC4SdwyEmrHP4C WPMHXWnCjEgZoaKDHOMD9kZS3eesFE9JeeDyO4ynkmO0mZRrlhy6DwMCjZMxBSzQYjTdgQHQQT/ mHgtlNGrk+RczhN+5cRG5DZrH/oPTQiE= X-Google-Smtp-Source: AGHT+IHHSE5+XDP+cjUZVoGKHRLJdaV0Pi6R+O/AQBAm596oXPE27DtHIjEysDi5JQxGf1XS+4Tiq0Vi9a9R X-Received: by 2002:a05:6871:540e:b0:3e3:6b75:6c14 with SMTP id 586e51a60fabf-3e8690b18e7mr5150333fac.29.1763391110213; Mon, 17 Nov 2025 06:51:50 -0800 (PST) Received: from postal.iol.unh.edu (postal.iol.unh.edu. [132.177.123.84]) by smtp-relay.gmail.com with ESMTPS id 586e51a60fabf-3e8522c77f1sm1202792fac.19.2025.11.17.06.51.50 (version=TLS1_2 cipher=ECDHE-ECDSA-AES128-GCM-SHA256 bits=128/128); Mon, 17 Nov 2025 06:51:50 -0800 (PST) X-Relaying-Domain: iol.unh.edu Date: Mon, 17 Nov 2025 06:51:50 -0800 (PST) Message-ID: <691b3686.050a0220.167f9f.c16cSMTPIN_ADDED_MISSING@mx.google.com> Received: from [172.21.0.3] (unknown [172.18.0.240]) by postal.iol.unh.edu (Postfix) with ESMTP id AF2F56051830; Mon, 17 Nov 2025 09:51:49 -0500 (EST) Subject: |SUCCESS| pw158858 [PATCH] [v2] examples/ipsec-secgw: add support fo From: dpdklab@iol.unh.edu To: Test Report Cc: dpdk-test-reports@iol.unh.edu In-Reply-To: <20251117090851.54748-1-sunyang.wu@jaguarmicro.com> References: <20251117090851.54748-1-sunyang.wu@jaguarmicro.com> Content-Type: text/plain X-BeenThere: test-report@dpdk.org X-Mailman-Version: 2.1.29 Precedence: list List-Id: automatic DPDK test reports List-Unsubscribe: , List-Archive: List-Post: List-Help: List-Subscribe: , Errors-To: test-report-bounces@dpdk.org Test-Label: iol-compile-amd64-testing Test-Status: SUCCESS http://dpdk.org/patch/158858 _Testing PASS_ Submitter: Sunyang Wu Date: Monday, November 17 2025 09:08:51 DPDK git baseline: Repo:dpdk Branch: master CommitID:be0112878b4fc3a1b918370ed2fe615c52039d77 158858 --> testing pass Upstream job id: Generic-DPDK-Compile-Meson#445589 Test environment and result as below: +-------------------------------+--------------------+------------------+-------------------+ | Environment | dpdk_meson_compile | dpdk_compile_ovs | dpdk_msvc_compile | +===============================+====================+==================+===================+ | FreeBSD 14.2 | PASS | SKIPPED | SKIPPED | +-------------------------------+--------------------+------------------+-------------------+ | Ubuntu 20.04 | PASS | SKIPPED | SKIPPED | +-------------------------------+--------------------+------------------+-------------------+ | CentOS Stream 9 | PASS | SKIPPED | SKIPPED | +-------------------------------+--------------------+------------------+-------------------+ | CentOS Stream 10 | PASS | SKIPPED | SKIPPED | +-------------------------------+--------------------+------------------+-------------------+ | Debian GNU/Linux 12 | PASS | SKIPPED | SKIPPED | +-------------------------------+--------------------+------------------+-------------------+ | Fedora Linux 42 | PASS | PASS | SKIPPED | +-------------------------------+--------------------+------------------+-------------------+ | openSUSE Leap 15.6 | PASS | SKIPPED | SKIPPED | +-------------------------------+--------------------+------------------+-------------------+ | Red Hat Enterprise Linux 8.10 | PASS | SKIPPED | SKIPPED | +-------------------------------+--------------------+------------------+-------------------+ | Red Hat Enterprise Linux 9.5 | PASS | SKIPPED | SKIPPED | +-------------------------------+--------------------+------------------+-------------------+ | Ubuntu 22.04 | PASS | SKIPPED | SKIPPED | +-------------------------------+--------------------+------------------+-------------------+ | Ubuntu 24.04 | PASS | PASS | SKIPPED | +-------------------------------+--------------------+------------------+-------------------+ | Alpine Linux 3.22.0 | PASS | SKIPPED | SKIPPED | +-------------------------------+--------------------+------------------+-------------------+ | Windows Server 2022 | SKIPPED | SKIPPED | PASS | +-------------------------------+--------------------+------------------+-------------------+ FreeBSD 14.2 Kernel: 14.2-RELEASE Compiler: clang 18.1.6 Ubuntu 20.04 Kernel: 4.19 Compiler: gcc gcc (Ubuntu 9.4.0-1ubuntu1~20.04.2) 9.4.0 CentOS Stream 9 Kernel: 5.15 Compiler: gcc gcc (GCC) 11.5.0 20240719 (Red Hat 11.5.0-11) CentOS Stream 10 Kernel: 5.15 Compiler: gcc gcc (GCC) 14.2.1 20250110 (Red Hat 14.2.1-8) Debian GNU/Linux 12 Kernel: 5.15 Compiler: gcc gcc (Debian 12.2.0-14+deb12u1) 12.2.0 Fedora Linux 42 Kernel: 5.15 Compiler: clang gcc (GCC) 15.2.1 20250808 (Red Hat 15.2.1-1) openSUSE Leap 15.6 Kernel: 5.15 Compiler: gcc gcc (SUSE Linux) 7.5.0 Red Hat Enterprise Linux 8.10 Kernel: 5.15 Compiler: gcc gcc (GCC) 8.5.0 20210514 (Red Hat 8.5.0-22) Red Hat Enterprise Linux 9.5 Kernel: 5.15 Compiler: gcc gcc (GCC) 11.5.0 20240719 (Red Hat 11.5.0-2) Ubuntu 22.04 Kernel: 5.15 Compiler: gcc gcc (Ubuntu 11.4.0-1ubuntu1~22.04) 11.4.0 Ubuntu 24.04 Kernel: 5.15 Compiler: gcc gcc (Ubuntu 13.3.0-6ubuntu2~24.04) 13.3.0 Alpine Linux 3.22.0 Kernel: 5.15 Compiler: gcc gcc (Alpine 14.2.0) 14.2.0 Windows Server 2022 Kernel: 10.0.20348.2031 Compiler: clang 15.0.7, gcc 14.1.0 (MinGW), and MSVC VS 19.39.33521 To view detailed results, visit: https://lab.dpdk.org/results/dashboard/patchsets/34625/ UNH-IOL DPDK Community Lab To manage your email subscriptions, visit: https://lab.dpdk.org/results/dashboard/preferences/subscriptions/