From mboxrd@z Thu Jan 1 00:00:00 1970 Return-Path: Received: from mails.dpdk.org (mails.dpdk.org [217.70.189.124]) by inbox.dpdk.org (Postfix) with ESMTP id 0E2D648B32 for ; Mon, 17 Nov 2025 15:51:57 +0100 (CET) Received: from mails.dpdk.org (localhost [127.0.0.1]) by mails.dpdk.org (Postfix) with ESMTP id 05C8E4025A; Mon, 17 Nov 2025 15:51:57 +0100 (CET) Received: from mail-il1-f227.google.com (mail-il1-f227.google.com [209.85.166.227]) by mails.dpdk.org (Postfix) with ESMTP id 9BA344025A for ; Mon, 17 Nov 2025 15:51:52 +0100 (CET) Received: by mail-il1-f227.google.com with SMTP id e9e14a558f8ab-4330d78f935so31893365ab.2 for ; Mon, 17 Nov 2025 06:51:52 -0800 (PST) DKIM-Signature: v=1; a=rsa-sha256; c=relaxed/relaxed; d=iol.unh.edu; s=unh-iol; t=1763391112; x=1763995912; darn=dpdk.org; h=references:in-reply-to:cc:to:from:subject:message-id:date:from:to :cc:subject:date:message-id:reply-to; bh=FiGgDJ4v5TZvBNpf6LL2laP0NyuQcVuEWdSpUcqQcoE=; b=jnwThJH4x0bwJ3J625NApfoq8pMfymaHfenaLRTu4fC3p65KwJK6cL5FxsqHFWAlQ0 Jd2s3nm+QrWQsu29Zws2EI5MxL6ufTgxn2tU1/hl0ZtAlKDhUUgUxbkXgTXO9eugrhgd HMhF9qFN+KDOdPKw/s6egmPZKlpBIyRyh3NdM= X-Google-DKIM-Signature: v=1; a=rsa-sha256; c=relaxed/relaxed; d=1e100.net; s=20230601; t=1763391112; x=1763995912; h=references:in-reply-to:cc:to:from:subject:message-id:date:x-gm-gg :x-gm-message-state:from:to:cc:subject:date:message-id:reply-to; bh=FiGgDJ4v5TZvBNpf6LL2laP0NyuQcVuEWdSpUcqQcoE=; b=o2TEBTV2Y7I6Y+Vcgq+IRUAjOHUMFaM5ErIMKorq/f45bgCkF8ULq4JfepD/VDnWET Q4zeBIASLcBQFFipb4sqwtA+uJEWG5wH1FjQe1VWiFMFrpJBwD4wfhybckWLsgF6Sq8m dom+ha/7NlhIiMuYJFFOTo0EqfBTzCJ011ldYEhOqkYJn7tEfJHkNYTjZuAqqwqzhcpy 1JYVqoT53GWjM0tFRGhpk1zdKXUiWVDJfKSlEqRF/oSs0TcJ9xcSSbdQvsWD6J/TKyNb 9muY9IdjaMaMHMIxpWEdTddfWGz3EjhrODOwTqx4aNKi8Rce/EndBqI8EtAgFJq+HjvB aWFA== X-Gm-Message-State: AOJu0YzwR689yQM3rBQoJMAyAKEv/Opk0hqIEo/kRKzFb53IE6s3qufF +oCCh3kI1Ip0eLeKJ99RicJjVnd5M91AVkDmoRPVtTu7554IypZrNv7L5Y9dKL0vIFOv+bp2NQ7 csWQwlvAmpEi2fJHCQWXpfCKVqXv07H/nBDtlKaICP+MP X-Gm-Gg: ASbGncsGk9k3pmqWIFqCFs3Jgl2yY++BX3zvJZzsAjUTa+bFOAz0zEm/qGkPzli76tN Ulfw7/KN1luVAuARJedY7o971toFPXFAzk4M05hJyX62Ckp5bLCaXQpfKfG0cAwyYieTOE66hG9 HnAh54KHMABmIZgMWwGP9KGvAE5WluRnbauxSbdTJKXjb4kNWwaw2Rv9x/mh1hDxhP8P5b/7LzO 43jWc2GGk6Iv/qDNRBhGrR0BmeU68tgpKO7zvzqLP/reu2f56YEd7ZW75u6nY961+DlHSl2HNLZ qh74fahJkVCNt4iheqt33khNpy3c9NUcCD90pvrp9HZqNu3/h1Fhbptw1Aa9N9FkFtGNEqgECIv xrLRyZsku7ayokafu8voBEFNJjAK6QJY= X-Google-Smtp-Source: AGHT+IEyv4Jv6f9QiHC7NIfMhcnD6NGvnwCvFr/gQZbE2xfpVYyrwDBV2TYYO38gciEcikH0430OjXfIiEOK X-Received: by 2002:a05:6e02:3f06:b0:433:6f5d:49bf with SMTP id e9e14a558f8ab-4348c95c9d8mr199272965ab.30.1763391111739; Mon, 17 Nov 2025 06:51:51 -0800 (PST) Received: from postal.iol.unh.edu (postal.iol.unh.edu. [132.177.123.84]) by smtp-relay.gmail.com with ESMTPS id e9e14a558f8ab-434833c613csm11784205ab.5.2025.11.17.06.51.51 (version=TLS1_2 cipher=ECDHE-ECDSA-AES128-GCM-SHA256 bits=128/128); Mon, 17 Nov 2025 06:51:51 -0800 (PST) X-Relaying-Domain: iol.unh.edu Date: Mon, 17 Nov 2025 06:51:51 -0800 (PST) Message-ID: <691b3687.050a0220.2edfdf.ac83SMTPIN_ADDED_MISSING@mx.google.com> Received: from [172.21.0.5] (unknown [172.18.0.240]) by postal.iol.unh.edu (Postfix) with ESMTP id 45F2C6051830; Mon, 17 Nov 2025 09:51:51 -0500 (EST) Subject: |SUCCESS| pw158850 [PATCH] test-flow-perf: support measuring 2nd rou From: dpdklab@iol.unh.edu To: Test Report Cc: dpdk-test-reports@iol.unh.edu In-Reply-To: <20251117073008.9344-1-bingz@nvidia.com> References: <20251117073008.9344-1-bingz@nvidia.com> Content-Type: text/plain X-BeenThere: test-report@dpdk.org X-Mailman-Version: 2.1.29 Precedence: list List-Id: automatic DPDK test reports List-Unsubscribe: , List-Archive: List-Post: List-Help: List-Subscribe: , Errors-To: test-report-bounces@dpdk.org Test-Label: iol-unit-arm64-testing Test-Status: SUCCESS http://dpdk.org/patch/158850 _Testing PASS_ Submitter: Bing Zhao Date: Monday, November 17 2025 07:30:08 DPDK git baseline: Repo:dpdk Branch: master CommitID:be0112878b4fc3a1b918370ed2fe615c52039d77 158850 --> testing pass Upstream job id: Generic-Unit-Test-DPDK#393690 Test environment and result as below: +------------------------------+---------------------------+----------------+--------------+------------------------------+ | Environment | cryptodev_sw_zuc_autotest | dpdk_unit_test | lpm_autotest | cryptodev_sw_snow3g_autotest | +==============================+===========================+================+==============+==============================+ | Debian 12 (arm) | PASS | SKIPPED | SKIPPED | PASS | +------------------------------+---------------------------+----------------+--------------+------------------------------+ | Ubuntu 22.04 | SKIPPED | PASS | SKIPPED | SKIPPED | +------------------------------+---------------------------+----------------+--------------+------------------------------+ | CentOS Stream 9 | SKIPPED | PASS | SKIPPED | SKIPPED | +------------------------------+---------------------------+----------------+--------------+------------------------------+ | Debian GNU/Linux 12 | SKIPPED | PASS | SKIPPED | SKIPPED | +------------------------------+---------------------------+----------------+--------------+------------------------------+ | CentOS Stream 10 | SKIPPED | PASS | SKIPPED | SKIPPED | +------------------------------+---------------------------+----------------+--------------+------------------------------+ | Fedora Linux 40 | SKIPPED | PASS | SKIPPED | SKIPPED | +------------------------------+---------------------------+----------------+--------------+------------------------------+ | Fedora Linux 41 | SKIPPED | PASS | SKIPPED | SKIPPED | +------------------------------+---------------------------+----------------+--------------+------------------------------+ | Fedora Linux 42 | SKIPPED | PASS | SKIPPED | SKIPPED | +------------------------------+---------------------------+----------------+--------------+------------------------------+ | Red Hat Enterprise Linux 9.5 | SKIPPED | PASS | SKIPPED | SKIPPED | +------------------------------+---------------------------+----------------+--------------+------------------------------+ | Ubuntu 20.04 | SKIPPED | PASS | PASS | SKIPPED | +------------------------------+---------------------------+----------------+--------------+------------------------------+ | Ubuntu 24.04 | SKIPPED | PASS | SKIPPED | SKIPPED | +------------------------------+---------------------------+----------------+--------------+------------------------------+ Debian 12 (arm) Kernel: Depends on container host Compiler: gcc (Debian 12.2.0-14) 12.2.0 Ubuntu 22.04 Kernel: 5.15 Compiler: gcc gcc (Ubuntu 11.4.0-1ubuntu1~22.04.2) 11.4.0 CentOS Stream 9 Kernel: 5.4 Compiler: gcc gcc (GCC) 11.5.0 20240719 (Red Hat 11.5.0-11) Debian GNU/Linux 12 Kernel: 5.4 Compiler: gcc gcc (Debian 12.2.0-14+deb12u1) 12.2.0 CentOS Stream 10 Kernel: 5.4 Compiler: gcc gcc (GCC) 14.2.1 20250110 (Red Hat 14.2.1-8) Fedora Linux 40 Kernel: 5.4 Compiler: gcc gcc (GCC) 14.2.1 20240912 (Red Hat 14.2.1-3) Fedora Linux 41 Kernel: 5.4 Compiler: clang gcc (GCC) 14.3.1 20250523 (Red Hat 14.3.1-1) Fedora Linux 42 Kernel: 5.4 Compiler: gcc gcc (GCC) 15.2.1 20250808 (Red Hat 15.2.1-1) Red Hat Enterprise Linux 9.5 Kernel: 5.4 Compiler: gcc gcc (GCC) 11.5.0 20240719 (Red Hat 11.5.0-2) Ubuntu 20.04 Kernel: 5.4 Compiler: gcc gcc (Ubuntu 9.4.0-1ubuntu1~20.04.2) 9.4.0 Ubuntu 24.04 Kernel: 5.4 Compiler: gcc gcc (Ubuntu 13.3.0-6ubuntu2~24.04) 13.3.0 To view detailed results, visit: https://lab.dpdk.org/results/dashboard/patchsets/34619/ UNH-IOL DPDK Community Lab To manage your email subscriptions, visit: https://lab.dpdk.org/results/dashboard/preferences/subscriptions/