From mboxrd@z Thu Jan 1 00:00:00 1970 Return-Path: Received: from mails.dpdk.org (mails.dpdk.org [217.70.189.124]) by inbox.dpdk.org (Postfix) with ESMTP id 5E8C348B32 for ; Mon, 17 Nov 2025 15:54:44 +0100 (CET) Received: from mails.dpdk.org (localhost [127.0.0.1]) by mails.dpdk.org (Postfix) with ESMTP id 597734025A; Mon, 17 Nov 2025 15:54:44 +0100 (CET) Received: from mail-qt1-f225.google.com (mail-qt1-f225.google.com [209.85.160.225]) by mails.dpdk.org (Postfix) with ESMTP id A15114025A for ; Mon, 17 Nov 2025 15:54:43 +0100 (CET) Received: by mail-qt1-f225.google.com with SMTP id d75a77b69052e-4b109c6b9fcso36450581cf.3 for ; Mon, 17 Nov 2025 06:54:43 -0800 (PST) DKIM-Signature: v=1; a=rsa-sha256; c=relaxed/relaxed; d=iol.unh.edu; s=unh-iol; t=1763391283; x=1763996083; darn=dpdk.org; h=references:in-reply-to:cc:to:from:subject:message-id:date:from:to :cc:subject:date:message-id:reply-to; bh=pG4F2+HCEX3hXj9Ewla+Fcr1h4oElNad3Tg563+qy3M=; b=Ale46bPQrn89RKMCDvrUhnnplUCn6VnDVX0Zz6QUR44Zu6dBrtFnVjTTkO31dSnAsM ePzzpYnnfNyMgT09k9NzKdL0dzYUrVDvE9YSFW9PU9ux3Xgq+F2J6x8UlAqaWdvJM52Y diEAKD5FkppDC6UGI9oZBc65enOfwrun0JAVY= X-Google-DKIM-Signature: v=1; a=rsa-sha256; c=relaxed/relaxed; d=1e100.net; s=20230601; t=1763391283; x=1763996083; h=references:in-reply-to:cc:to:from:subject:message-id:date:x-gm-gg :x-gm-message-state:from:to:cc:subject:date:message-id:reply-to; bh=pG4F2+HCEX3hXj9Ewla+Fcr1h4oElNad3Tg563+qy3M=; b=v9JhckxitznRFOn8/8tyzNjq+aGiRr53G2mLDF4khFh/19w6LV5Hu6qCy5xqNta/6H wh/24Hjvi3zWcDMQ98/d7vdlbTAD/41B5KFekwDi4VFXCd6rhxhv6J/0Y5uJ3qL7QALy pxcjOItVJ9FSnFMyY79x6YojGFvMrRtA+7Xv6tnuFa2zEEUyFU68hgSuhigB/ESKWaot V6+WoYfrvwA1PtUxOfdAx2yJV2NFgqRKKCyVCtiflzPHBxCjQDNPgDAlR6mRf4XqKZVW WOIBVUDldDJb5vtU5R8zh8lv9CJgrSzN6B18ZycNjkaXYvZv8UcL/uRojxOkP9B89oaI LkuA== X-Gm-Message-State: AOJu0YwbKVmFd0/u9iVnwcPYdDS3RYuIsJ/v0UASKgzNdQOZe8b04uPO mOTaUrGw/Zegg9+OMWcJNL22adPcH5wQeW74nnmoOg41i6QY9Q+HMEO7Yy8q9kKD7AAvOoiktMA /3JGTdX8jWTTQRhD5sXq2FCKcnYfN8xzaLPb8WNgXdAs6 X-Gm-Gg: ASbGncuE/IlaGW3cFYKPALfSRYOHu3h1nAunr1n5o8E7sdEFxXwnZYTsi180M+b2dit MEySJ5oTRejdc0UUCJZienHdrz+HBG3LsRPLVGsb7/O5eJvnNQ6L4cTKeELKEBgCyEsG6GYvNKm g8H4lD+OTr0gPSti6GnfNNDiyxx0uYCSOiCgp8hKhaXOvedy4L+Oh5L/BZyodsvpCrTfiOlPC2U UK51LN3i1dO7UYNo0QFSdD3C+Q8RtLsgc5ngQbQ6RuG6d0RRvW3iZS+wZ1jMLXJAivRndhBOL6Y 5R/AQR7JvaUnQdknTi8T1jvfu7WxGxQA6eiRy3mmHkwRzBz0jNZJtuNSiHRKk7eAY1VyOdnoV0c OLnuN8jIHfb9ctor8ElvOHHpLOXEP24M= X-Google-Smtp-Source: AGHT+IGERUir/gssfWNX+AjHtBagUnb6ZPDZutsrqHFQ1QOlIxawel4HqkjNbNs4xeYxaTdWsaBl+U2fS1EZ X-Received: by 2002:a05:622a:486:b0:4d3:1b4f:dda1 with SMTP id d75a77b69052e-4edf210da5cmr173374891cf.61.1763391282850; Mon, 17 Nov 2025 06:54:42 -0800 (PST) Received: from postal.iol.unh.edu (postal.iol.unh.edu. [132.177.123.84]) by smtp-relay.gmail.com with ESMTPS id d75a77b69052e-4ede87e181bsm7361641cf.6.2025.11.17.06.54.42 (version=TLS1_2 cipher=ECDHE-ECDSA-AES128-GCM-SHA256 bits=128/128); Mon, 17 Nov 2025 06:54:42 -0800 (PST) X-Relaying-Domain: iol.unh.edu Date: Mon, 17 Nov 2025 06:54:42 -0800 (PST) Message-ID: <691b3732.050a0220.164915.57d2SMTPIN_ADDED_MISSING@mx.google.com> Received: from [172.21.0.6] (unknown [172.18.0.240]) by postal.iol.unh.edu (Postfix) with ESMTP id 616E26051830; Mon, 17 Nov 2025 09:54:42 -0500 (EST) Subject: |SUCCESS| pw158849 [PATCH] test-flow-perf: fix the incorrect array l From: dpdklab@iol.unh.edu To: Test Report Cc: dpdk-test-reports@iol.unh.edu In-Reply-To: <20251117072858.9318-1-bingz@nvidia.com> References: <20251117072858.9318-1-bingz@nvidia.com> Content-Type: text/plain X-BeenThere: test-report@dpdk.org X-Mailman-Version: 2.1.29 Precedence: list List-Id: automatic DPDK test reports List-Unsubscribe: , List-Archive: List-Post: List-Help: List-Subscribe: , Errors-To: test-report-bounces@dpdk.org Test-Label: iol-compile-amd64-testing Test-Status: SUCCESS http://dpdk.org/patch/158849 _Testing PASS_ Submitter: Bing Zhao Date: Monday, November 17 2025 07:28:58 DPDK git baseline: Repo:dpdk Branch: master CommitID:be0112878b4fc3a1b918370ed2fe615c52039d77 158849 --> testing pass Upstream job id: Windows-Compile-DPDK-Native#32477 Test environment and result as below: +-------------------------------+--------------------+------------------+-------------------+-------------------------+----------------------+ | Environment | dpdk_meson_compile | dpdk_compile_ovs | dpdk_msvc_compile | dpdk_llvm_clang_compile | dpdk_mingw64_compile | +===============================+====================+==================+===================+=========================+======================+ | Ubuntu 20.04 | PASS | SKIPPED | SKIPPED | SKIPPED | SKIPPED | +-------------------------------+--------------------+------------------+-------------------+-------------------------+----------------------+ | FreeBSD 14.2 | PASS | SKIPPED | SKIPPED | SKIPPED | SKIPPED | +-------------------------------+--------------------+------------------+-------------------+-------------------------+----------------------+ | CentOS Stream 9 | PASS | SKIPPED | SKIPPED | SKIPPED | SKIPPED | +-------------------------------+--------------------+------------------+-------------------+-------------------------+----------------------+ | CentOS Stream 10 | PASS | SKIPPED | SKIPPED | SKIPPED | SKIPPED | +-------------------------------+--------------------+------------------+-------------------+-------------------------+----------------------+ | Debian GNU/Linux 12 | PASS | SKIPPED | SKIPPED | SKIPPED | SKIPPED | +-------------------------------+--------------------+------------------+-------------------+-------------------------+----------------------+ | Fedora Linux 42 | PASS | PASS | SKIPPED | SKIPPED | SKIPPED | +-------------------------------+--------------------+------------------+-------------------+-------------------------+----------------------+ | Red Hat Enterprise Linux 8.10 | PASS | SKIPPED | SKIPPED | SKIPPED | SKIPPED | +-------------------------------+--------------------+------------------+-------------------+-------------------------+----------------------+ | openSUSE Leap 15.6 | PASS | SKIPPED | SKIPPED | SKIPPED | SKIPPED | +-------------------------------+--------------------+------------------+-------------------+-------------------------+----------------------+ | Red Hat Enterprise Linux 9.5 | PASS | SKIPPED | SKIPPED | SKIPPED | SKIPPED | +-------------------------------+--------------------+------------------+-------------------+-------------------------+----------------------+ | Ubuntu 22.04 | PASS | SKIPPED | SKIPPED | SKIPPED | SKIPPED | +-------------------------------+--------------------+------------------+-------------------+-------------------------+----------------------+ | Ubuntu 24.04 | PASS | PASS | SKIPPED | SKIPPED | SKIPPED | +-------------------------------+--------------------+------------------+-------------------+-------------------------+----------------------+ | Alpine Linux 3.22.0 | PASS | SKIPPED | SKIPPED | SKIPPED | SKIPPED | +-------------------------------+--------------------+------------------+-------------------+-------------------------+----------------------+ | Windows Server 2022 | SKIPPED | SKIPPED | PASS | PASS | PASS | +-------------------------------+--------------------+------------------+-------------------+-------------------------+----------------------+ Ubuntu 20.04 Kernel: 4.19 Compiler: gcc gcc (Ubuntu 9.4.0-1ubuntu1~20.04.2) 9.4.0 FreeBSD 14.2 Kernel: 14.2-RELEASE Compiler: clang 18.1.6 CentOS Stream 9 Kernel: 5.15 Compiler: gcc gcc (GCC) 11.5.0 20240719 (Red Hat 11.5.0-11) CentOS Stream 10 Kernel: 5.15 Compiler: gcc gcc (GCC) 14.2.1 20250110 (Red Hat 14.2.1-8) Debian GNU/Linux 12 Kernel: 5.15 Compiler: gcc gcc (Debian 12.2.0-14+deb12u1) 12.2.0 Fedora Linux 42 Kernel: 5.15 Compiler: clang gcc (GCC) 15.2.1 20250808 (Red Hat 15.2.1-1) Red Hat Enterprise Linux 8.10 Kernel: 5.15 Compiler: gcc gcc (GCC) 8.5.0 20210514 (Red Hat 8.5.0-22) openSUSE Leap 15.6 Kernel: 5.15 Compiler: gcc gcc (SUSE Linux) 7.5.0 Red Hat Enterprise Linux 9.5 Kernel: 5.15 Compiler: gcc gcc (GCC) 11.5.0 20240719 (Red Hat 11.5.0-2) Ubuntu 22.04 Kernel: 5.15 Compiler: gcc gcc (Ubuntu 11.4.0-1ubuntu1~22.04) 11.4.0 Ubuntu 24.04 Kernel: 5.15 Compiler: gcc gcc (Ubuntu 13.3.0-6ubuntu2~24.04) 13.3.0 Alpine Linux 3.22.0 Kernel: 5.15 Compiler: gcc gcc (Alpine 14.2.0) 14.2.0 Windows Server 2022 Kernel: 10.0.20348.2031 Compiler: clang 15.0.7, gcc 14.1.0 (MinGW), and MSVC VS 19.39.33521 To view detailed results, visit: https://lab.dpdk.org/results/dashboard/patchsets/34620/ UNH-IOL DPDK Community Lab To manage your email subscriptions, visit: https://lab.dpdk.org/results/dashboard/preferences/subscriptions/