From mboxrd@z Thu Jan 1 00:00:00 1970 Return-Path: Received: from mails.dpdk.org (mails.dpdk.org [217.70.189.124]) by inbox.dpdk.org (Postfix) with ESMTP id EB7BA48B33 for ; Mon, 17 Nov 2025 16:05:52 +0100 (CET) Received: from mails.dpdk.org (localhost [127.0.0.1]) by mails.dpdk.org (Postfix) with ESMTP id E612E4025A; Mon, 17 Nov 2025 16:05:52 +0100 (CET) Received: from mail-pl1-f225.google.com (mail-pl1-f225.google.com [209.85.214.225]) by mails.dpdk.org (Postfix) with ESMTP id E57F74025A for ; Mon, 17 Nov 2025 16:05:50 +0100 (CET) Received: by mail-pl1-f225.google.com with SMTP id d9443c01a7336-29555b384acso45246015ad.1 for ; Mon, 17 Nov 2025 07:05:50 -0800 (PST) DKIM-Signature: v=1; a=rsa-sha256; c=relaxed/relaxed; d=iol.unh.edu; s=unh-iol; t=1763391950; x=1763996750; darn=dpdk.org; h=references:in-reply-to:cc:to:from:subject:message-id:date:from:to :cc:subject:date:message-id:reply-to; bh=mfpTbE3aFPuXTQfdNP4WM+XG25CgabZz8VpXQeZj1jI=; b=BLBfZx3MY3W9fqqSa8lWou7PQWdBx+a+HkUG0+dNDNt0YyS5rJ2f8sv2qbWfeXNcM6 bkhDFtzDl9RavdyZrc3gcin7nWlXFX+auysEPLQKLLCQqWgmrEUbefLmNUL5pKZ1XTDz W5EKWTamIGsimIY62q4ROEIz2ubMZdd5R6WKo= X-Google-DKIM-Signature: v=1; a=rsa-sha256; c=relaxed/relaxed; d=1e100.net; s=20230601; t=1763391950; x=1763996750; h=references:in-reply-to:cc:to:from:subject:message-id:date:x-gm-gg :x-gm-message-state:from:to:cc:subject:date:message-id:reply-to; bh=mfpTbE3aFPuXTQfdNP4WM+XG25CgabZz8VpXQeZj1jI=; b=XB7D6u8C05zy7LZlR4K/YmoSdDJx37FSZ8aBjvEcH7r1O7o1PcTL0Sfp6Z+2DjRTlG xDTbp6FGjQ+uCoK0EwCH6DiHYK1VmBFBH74Ch0kUwsfJjIOOnl7O/Q546RZneXDZlPCZ 1fO3uVukXHaVN4q9UAaMCMuysz5rbY6iKPiqL2U0lHdOE6GlL5t/v77afDJ75H9+q2Ui 4CTRxVe9ZkkdytZ/5oz99aTQsAQv30cQ1T/U1qxvr2DdgLq6jMpORGuQ4AIjyDwbdA3J ypw3onNfLO2qJFg0agfHS7DOJi+ncuLigkMn01VRsfkX3juvx1lzKGBLDRCXvQNrAWA8 nW7A== X-Gm-Message-State: AOJu0YzyRHvgtAl+Jngz4QpvLrAzFSY0EBB8VjBPUMx1L4I5ThccER+D X125TFFpgy2i6L6YOvyDVImqB4saIvukGltS3T9haJpdw+hEaewTTxFJVuAi1M6tUbAgL3lAMg2 oGRipfDxKRXwgSiNP2elfzlNL8juRmFjoIbaAI4xcDtCc X-Gm-Gg: ASbGncu2rS5JJIwZ3tM7ev0Gr8HxTX0uyHcYM2uHJ6V0WcOx4b47ypqi+A3P6RIoeI9 kqjF8a1GH0fT3eMirge4f6L5uVvOirwMdcC7qZR7aqlnCV1guteFmFI/X2/uieWuGmWgl/NPtU/ 4kkyMK/9hiNdLQpcgoan44CDk1d5yEKz68C415+jXyuxkedUbyy8wt4pX3f3muYepdDupvfj5Sf PAe0jv0B5rslTIZtECPg4nAfMKCDcV/uKete1R1PEZ43K7UB1pgQw+kVZswHCB5ZYxd75YlKlFf cmP+VlYKcKRff5jZa5lPBNZb1cjN5NXJWm1kXm9iNapsuReBwxkRyZ+CPwx6wcLpIn56tCEg7+k Vd47WaO8gWXN29BgoWILmsT9/Y+wga7M= X-Google-Smtp-Source: AGHT+IHTXxzNDzjpefwczA1iFjObOfcavk2OOGCoagZRDcO5pKZlX/ByCbLv8MWec/TQ1Pgzx+Jvm3A7R18y X-Received: by 2002:a17:903:2350:b0:298:616b:b2d with SMTP id d9443c01a7336-2986a75275fmr136334445ad.51.1763391949214; Mon, 17 Nov 2025 07:05:49 -0800 (PST) Received: from postal.iol.unh.edu (postal.iol.unh.edu. [132.177.123.84]) by smtp-relay.gmail.com with ESMTPS id d9443c01a7336-2985c241b8dsm15865375ad.17.2025.11.17.07.05.49 (version=TLS1_2 cipher=ECDHE-ECDSA-AES128-GCM-SHA256 bits=128/128); Mon, 17 Nov 2025 07:05:49 -0800 (PST) X-Relaying-Domain: iol.unh.edu Date: Mon, 17 Nov 2025 07:05:49 -0800 (PST) Message-ID: <691b39cd.170a0220.1594e3.fa2eSMTPIN_ADDED_MISSING@mx.google.com> Received: from [172.21.0.3] (unknown [172.18.0.240]) by postal.iol.unh.edu (Postfix) with ESMTP id 5C7A26050A61; Mon, 17 Nov 2025 10:05:48 -0500 (EST) Subject: |SUCCESS| pw158849 [PATCH] test-flow-perf: fix the incorrect array l From: dpdklab@iol.unh.edu To: Test Report Cc: dpdk-test-reports@iol.unh.edu In-Reply-To: <20251117072858.9318-1-bingz@nvidia.com> References: <20251117072858.9318-1-bingz@nvidia.com> Content-Type: text/plain X-BeenThere: test-report@dpdk.org X-Mailman-Version: 2.1.29 Precedence: list List-Id: automatic DPDK test reports List-Unsubscribe: , List-Archive: List-Post: List-Help: List-Subscribe: , Errors-To: test-report-bounces@dpdk.org Test-Label: iol-compile-arm64-testing Test-Status: SUCCESS http://dpdk.org/patch/158849 _Testing PASS_ Submitter: Bing Zhao Date: Monday, November 17 2025 07:28:58 DPDK git baseline: Repo:dpdk Branch: master CommitID:be0112878b4fc3a1b918370ed2fe615c52039d77 158849 --> testing pass Upstream job id: Generic-DPDK-Compile-Meson#445478 Test environment and result as below: +------------------------------+--------------------+ | Environment | dpdk_meson_compile | +==============================+====================+ | Ubuntu 20.04 | PASS | +------------------------------+--------------------+ | Red Hat Enterprise Linux 9.5 | PASS | +------------------------------+--------------------+ | Debian GNU/Linux 12 | PASS | +------------------------------+--------------------+ | Fedora Linux 42 | PASS | +------------------------------+--------------------+ | Ubuntu 22.04 | PASS | +------------------------------+--------------------+ | CentOS Stream 9 | PASS | +------------------------------+--------------------+ | Ubuntu 24.04 | PASS | +------------------------------+--------------------+ | CentOS Stream 10 | PASS | +------------------------------+--------------------+ Ubuntu 20.04 Kernel: 5.15 Compiler: aarch64-linux-gnu-gcc gcc (Ubuntu 9.4.0-1ubuntu1~20.04.2) 9.4.0 Red Hat Enterprise Linux 9.5 Kernel: 5.4 Compiler: gcc gcc (GCC) 11.5.0 20240719 (Red Hat 11.5.0-2) Debian GNU/Linux 12 Kernel: 5.4 Compiler: gcc gcc (Debian 12.2.0-14+deb12u1) 12.2.0 Fedora Linux 42 Kernel: 5.4 Compiler: gcc gcc (GCC) 15.2.1 20250808 (Red Hat 15.2.1-1) Ubuntu 22.04 Kernel: 5.4 Compiler: gcc gcc (Ubuntu 11.4.0-1ubuntu1~22.04) 11.4.0 CentOS Stream 9 Kernel: 5.4 Compiler: gcc gcc (GCC) 11.5.0 20240719 (Red Hat 11.5.0-11) Ubuntu 24.04 Kernel: 5.4 Compiler: gcc gcc (Ubuntu 13.3.0-6ubuntu2~24.04) 13.3.0 CentOS Stream 10 Kernel: 5.4 Compiler: gcc gcc (GCC) 14.2.1 20250110 (Red Hat 14.2.1-8) To view detailed results, visit: https://lab.dpdk.org/results/dashboard/patchsets/34620/ UNH-IOL DPDK Community Lab To manage your email subscriptions, visit: https://lab.dpdk.org/results/dashboard/preferences/subscriptions/